BEGIN:VCALENDAR
VERSION:2.0
PRODID:-//Fayetteville Technical Community College - ECPv6.15.9//NONSGML v1.0//EN
CALSCALE:GREGORIAN
METHOD:PUBLISH
X-WR-CALNAME:Fayetteville Technical Community College
X-ORIGINAL-URL:https://www.faytechcc.edu
X-WR-CALDESC:Events for Fayetteville Technical Community College
REFRESH-INTERVAL;VALUE=DURATION:PT1H
X-Robots-Tag:noindex
X-PUBLISHED-TTL:PT1H
BEGIN:VTIMEZONE
TZID:America/New_York
BEGIN:DAYLIGHT
TZOFFSETFROM:-0500
TZOFFSETTO:-0400
TZNAME:EDT
DTSTART:20250309T070000
END:DAYLIGHT
BEGIN:STANDARD
TZOFFSETFROM:-0400
TZOFFSETTO:-0500
TZNAME:EST
DTSTART:20251102T060000
END:STANDARD
BEGIN:DAYLIGHT
TZOFFSETFROM:-0500
TZOFFSETTO:-0400
TZNAME:EDT
DTSTART:20260308T070000
END:DAYLIGHT
BEGIN:STANDARD
TZOFFSETFROM:-0400
TZOFFSETTO:-0500
TZNAME:EST
DTSTART:20261101T060000
END:STANDARD
BEGIN:DAYLIGHT
TZOFFSETFROM:-0500
TZOFFSETTO:-0400
TZNAME:EDT
DTSTART:20270314T070000
END:DAYLIGHT
BEGIN:STANDARD
TZOFFSETFROM:-0400
TZOFFSETTO:-0500
TZNAME:EST
DTSTART:20271107T060000
END:STANDARD
END:VTIMEZONE
BEGIN:VEVENT
DTSTART;TZID=America/New_York:20260103T150000
DTEND;TZID=America/New_York:20260103T170000
DTSTAMP:20260425T130602
CREATED:20250911T140223Z
LAST-MODIFIED:20250911T140223Z
UID:10003751-1767452400-1767459600@www.faytechcc.edu
SUMMARY:Men's Basketball (Away)
DESCRIPTION:Men’s Basketball is traveling to Cleveland CC for a conference game at 3PM.
URL:https://www.faytechcc.edu/event/mens-basketball-away-9/
CATEGORIES:Athletics
END:VEVENT
BEGIN:VEVENT
DTSTART;TZID=America/New_York:20260108T173000
DTEND;TZID=America/New_York:20260108T193000
DTSTAMP:20260425T130602
CREATED:20250910T142703Z
LAST-MODIFIED:20250910T142703Z
UID:10003724-1767893400-1767900600@www.faytechcc.edu
SUMMARY:Women's Basketball (Away)
DESCRIPTION:Women’s Basketball is traveling to Bryant & Stratton College for a conference game at 5:30pm.
URL:https://www.faytechcc.edu/event/womens-basketball-away-11/
CATEGORIES:Athletics
END:VEVENT
BEGIN:VEVENT
DTSTART;TZID=America/New_York:20260108T190000
DTEND;TZID=America/New_York:20260108T210000
DTSTAMP:20260425T130602
CREATED:20250911T140315Z
LAST-MODIFIED:20250911T140315Z
UID:10003752-1767898800-1767906000@www.faytechcc.edu
SUMMARY:Men's Basketball (Away)
DESCRIPTION:Men’s Basketball is traveling to Johnston CC for a conference game at 7PM.
URL:https://www.faytechcc.edu/event/mens-basketball-away-10/
CATEGORIES:Athletics
END:VEVENT
BEGIN:VEVENT
DTSTART;TZID=America/New_York:20260112T190000
DTEND;TZID=America/New_York:20260112T210000
DTSTAMP:20260425T130602
CREATED:20250911T135415Z
LAST-MODIFIED:20251113T131010Z
UID:10003742-1768244400-1768251600@www.faytechcc.edu
SUMMARY:Men's Basketball (Home)
DESCRIPTION:Men’s Basketball is hosting Davidson-Davie for a conference game at 7PM. All home games are played at Reid Ross Classical School: 3200 Ramsey Street. Admission is $10 or free with FTCC ID.
URL:https://www.faytechcc.edu/event/mens-basketball-home-5/
CATEGORIES:Athletics
END:VEVENT
BEGIN:VEVENT
DTSTART;TZID=America/New_York:20260113T180000
DTEND;TZID=America/New_York:20260113T200000
DTSTAMP:20260425T130602
CREATED:20250910T142759Z
LAST-MODIFIED:20250910T142759Z
UID:10003725-1768327200-1768334400@www.faytechcc.edu
SUMMARY:Women's Basketball (Home)
DESCRIPTION:Women’s Basketball is hosting Richard Bland for a conference game at 6pm. All home games are played at Reid Ross Classical School: 3200 Ramsey Street. Admission is $10\, free with FTCC ID.
URL:https://www.faytechcc.edu/event/womens-basketball-home-11/
CATEGORIES:Athletics
END:VEVENT
BEGIN:VEVENT
DTSTART;TZID=America/New_York:20260115T200000
DTEND;TZID=America/New_York:20260115T220000
DTSTAMP:20260425T130602
CREATED:20250911T140419Z
LAST-MODIFIED:20250911T140419Z
UID:10003753-1768507200-1768514400@www.faytechcc.edu
SUMMARY:Men's Basketball (Away)
DESCRIPTION:Men’s Basketball is traveling to Methodist University to play their JV team at 8PM.
URL:https://www.faytechcc.edu/event/mens-basketball-away-11/
CATEGORIES:Athletics
END:VEVENT
BEGIN:VEVENT
DTSTART;TZID=America/New_York:20260117T140000
DTEND;TZID=America/New_York:20260117T160000
DTSTAMP:20260425T130602
CREATED:20250910T142857Z
LAST-MODIFIED:20250910T142857Z
UID:10003726-1768658400-1768665600@www.faytechcc.edu
SUMMARY:Women's Basketball (Home)
DESCRIPTION:Women’s Basketball is hosting Southwest VA in a conference game at 2pm. All home games are played at Reid Ross Classical School: 3200 Ramsey Street. Admission is $10\, free with FTCC ID.
URL:https://www.faytechcc.edu/event/womens-basketball-home-12/
CATEGORIES:Athletics
END:VEVENT
BEGIN:VEVENT
DTSTART;TZID=America/New_York:20260117T150000
DTEND;TZID=America/New_York:20260117T170000
DTSTAMP:20260425T130602
CREATED:20250911T140535Z
LAST-MODIFIED:20250911T140535Z
UID:10003754-1768662000-1768669200@www.faytechcc.edu
SUMMARY:Men's Basketball (Away)
DESCRIPTION:Men’s Basketball is traveling to Forsyth Tech for a conference game at 3PM.
URL:https://www.faytechcc.edu/event/mens-basketball-away-12/
CATEGORIES:Athletics
END:VEVENT
BEGIN:VEVENT
DTSTART;TZID=America/New_York:20260122T180000
DTEND;TZID=America/New_York:20260122T200000
DTSTAMP:20260425T130602
CREATED:20250910T143019Z
LAST-MODIFIED:20250910T143019Z
UID:10003727-1769104800-1769112000@www.faytechcc.edu
SUMMARY:Women's Basketball (Home)
DESCRIPTION:Women’s Basketball is hosting Louisburg College in a Black Out game at 6pm. All home games are played at Reid Ross Classical School: 3200 Ramsey Street. Admission is $10\, free with FTCC ID.
URL:https://www.faytechcc.edu/event/womens-basketball-home-25/
CATEGORIES:Athletics
END:VEVENT
BEGIN:VEVENT
DTSTART;TZID=America/New_York:20260123T150000
DTEND;TZID=America/New_York:20260123T170000
DTSTAMP:20260425T130602
CREATED:20250910T143107Z
LAST-MODIFIED:20260121T170914Z
UID:10003728-1769180400-1769187600@www.faytechcc.edu
SUMMARY:Women's Basketball (Away)
DESCRIPTION:Women’s Basketball is traveling to Wake Tech for a conference game at 3pm.
URL:https://www.faytechcc.edu/event/womens-basketball-away-12/
CATEGORIES:Athletics
END:VEVENT
BEGIN:VEVENT
DTSTART;TZID=America/New_York:20260127T180000
DTEND;TZID=America/New_York:20260127T200000
DTSTAMP:20260425T130602
CREATED:20250910T143209Z
LAST-MODIFIED:20260127T164633Z
UID:10003729-1769536800-1769544000@www.faytechcc.edu
SUMMARY:POSTPONED: Women's Basketball (Home)
DESCRIPTION:This game has been postponed due to weather. \nWomen’s Basketball is hosting Catawba Valley for Youth Night at 6pm. All home games are played at Reid Ross Classical School: 3200 Ramsey Street. Admission is $10\, free with FTCC ID.
URL:https://www.faytechcc.edu/event/womens-basketball-home-26/
CATEGORIES:Athletics
END:VEVENT
BEGIN:VEVENT
DTSTART;TZID=America/New_York:20260130T120000
DTEND;TZID=America/New_York:20260130T180000
DTSTAMP:20260425T130602
CREATED:20260127T195735Z
LAST-MODIFIED:20260127T195735Z
UID:10004744-1769774400-1769796000@www.faytechcc.edu
SUMMARY:Baseball (Away)
DESCRIPTION:Baseball is traveling to Georgia to play two games against Gordan State College starting at noon. 
URL:https://www.faytechcc.edu/event/baseball-away-9/
CATEGORIES:Athletics
END:VEVENT
BEGIN:VEVENT
DTSTART;TZID=America/New_York:20260130T170000
DTEND;TZID=America/New_York:20260130T190000
DTSTAMP:20260425T130602
CREATED:20250910T143307Z
LAST-MODIFIED:20250910T143307Z
UID:10003730-1769792400-1769799600@www.faytechcc.edu
SUMMARY:Women's Basketball (Away)
DESCRIPTION:Women’s Basketball is traveling to Brunswick for a conference game at 5pm. 
URL:https://www.faytechcc.edu/event/womens-basketball-away-13/
CATEGORIES:Athletics
END:VEVENT
BEGIN:VEVENT
DTSTART;TZID=America/New_York:20260130T190000
DTEND;TZID=America/New_York:20260130T210000
DTSTAMP:20260425T130602
CREATED:20250911T140825Z
LAST-MODIFIED:20260127T164811Z
UID:10003757-1769799600-1769806800@www.faytechcc.edu
SUMMARY:Men's Basketball (Home)
DESCRIPTION:Men’s Basketball is hosting Louisburg College for a conference game at 7PM. All home games are played at Reid Ross Classical School: 3200 Ramsey Street. Admission is $10 or free with FTCC ID.
URL:https://www.faytechcc.edu/event/mens-basketball-home-11/
CATEGORIES:Athletics
END:VEVENT
END:VCALENDAR