BEGIN:VCALENDAR
VERSION:2.0
PRODID:-//Fayetteville Technical Community College - ECPv6.15.9//NONSGML v1.0//EN
CALSCALE:GREGORIAN
METHOD:PUBLISH
X-ORIGINAL-URL:https://www.faytechcc.edu
X-WR-CALDESC:Events for Fayetteville Technical Community College
REFRESH-INTERVAL;VALUE=DURATION:PT1H
X-Robots-Tag:noindex
X-PUBLISHED-TTL:PT1H
BEGIN:VTIMEZONE
TZID:America/New_York
BEGIN:DAYLIGHT
TZOFFSETFROM:-0500
TZOFFSETTO:-0400
TZNAME:EDT
DTSTART:20250309T070000
END:DAYLIGHT
BEGIN:STANDARD
TZOFFSETFROM:-0400
TZOFFSETTO:-0500
TZNAME:EST
DTSTART:20251102T060000
END:STANDARD
BEGIN:DAYLIGHT
TZOFFSETFROM:-0500
TZOFFSETTO:-0400
TZNAME:EDT
DTSTART:20260308T070000
END:DAYLIGHT
BEGIN:STANDARD
TZOFFSETFROM:-0400
TZOFFSETTO:-0500
TZNAME:EST
DTSTART:20261101T060000
END:STANDARD
BEGIN:DAYLIGHT
TZOFFSETFROM:-0500
TZOFFSETTO:-0400
TZNAME:EDT
DTSTART:20270314T070000
END:DAYLIGHT
BEGIN:STANDARD
TZOFFSETFROM:-0400
TZOFFSETTO:-0500
TZNAME:EST
DTSTART:20271107T060000
END:STANDARD
END:VTIMEZONE
BEGIN:VEVENT
DTSTART;VALUE=DATE:20260515
DTEND;VALUE=DATE:20260516
DTSTAMP:20260421T081434
CREATED:20250926T154019Z
LAST-MODIFIED:20250926T154019Z
UID:10003805-1778803200-1778889599@www.faytechcc.edu
SUMMARY:Graduation Application Information
DESCRIPTION:Graduation Applications are required for each earned associate degree\, diploma and certificate.  \nBelow are the Graduation Application Deadlines: \n\n\n\n \nOpens\nCloses\nDiploma Pickup\n\n\nFall\nAug 4\, 2025\nDec 1\, 2025\nFeb 1\, 2026\n\n\nSpring\nJan 1\, 2026\nApril 30\, 2026\nJuly 1\, 2026\n\n\nSummer\nMay 1\, 2026\nJuly 31\, 2026\nSept 1\, 2026\n\n\n\nCollege Graduation Requirements: \n\nStudent has completed the program requirements.\nStudent has a minimum cumulative and major GPA of 2.0.\nStudent has completed 25% of their course work at FTCC to meet North Carolina residency requirements.\nStudent has passing grades in all related required courses.\nStudent has no outstanding financial obligations with the College.\n \n\nPlease refer to the below document for additional details.  \nQuestions?  Danielle Burnette – burnetts@faytechcc.edu
URL:https://www.faytechcc.edu/event/graduation-application-information-2/2026-05-15/
LOCATION:Virtual Event
ORGANIZER;CN="FTCC Student Services":MAILTO:admissions@faytechcc.edu
END:VEVENT
BEGIN:VEVENT
DTSTART;TZID=America/New_York:20260515T070000
DTEND;TZID=America/New_York:20260515T170000
DTSTAMP:20260421T081434
CREATED:20251202T152545Z
LAST-MODIFIED:20260402T171338Z
UID:10003950-1778828400-1778864400@www.faytechcc.edu
SUMMARY:Commencement Ceremony
DESCRIPTION:Commencement Ceremony – May 15\, 2026\nCelebrate your achievement! Commencement will take place on Friday\, May 15\, 2026. Please wear comfortable shoes\, as you may be standing for extended periods. This is your time to shine—don’t miss this important milestone! \nCommencement Ceremony Times: \n\n9:00 AM Ceremony: Allied Health\, Nursing and Funeral Services\, Continuing Education\, Business\, Information Technology\n2:00 PM Ceremony: Arts & Humanities\, Math & Sciences\, Public Service\, Engineering
URL:https://www.faytechcc.edu/event/commencement-ceremony/
LOCATION:Crown Coliseum\, 1960 Coliseum Drive\, Fayetteville\, 28306\, United States
ORGANIZER;CN="FTCC Student Services":MAILTO:admissions@faytechcc.edu
END:VEVENT
BEGIN:VEVENT
DTSTART;TZID=America/New_York:20260515T100000
DTEND;TZID=America/New_York:20260515T120000
DTSTAMP:20260421T081434
CREATED:20260116T165553Z
LAST-MODIFIED:20260223T151537Z
UID:10004654-1778839200-1778846400@www.faytechcc.edu
SUMMARY:Open Lab Resume Assistance
DESCRIPTION:Stop by the open computer lab for assistance with your resume.  \n📍 Location: Tony Rand Student Center (SDC)\, room 124\n📅 Date: Every Friday \n⏰ Time: 10:00 AM – 12:00 PM
URL:https://www.faytechcc.edu/event/open-lab-resume-assistance-18/2026-05-15/
LOCATION:Tony Rand Student Center Rm 124\, 2220 Hull Rd\, Fayetteville\, NC\, 28303\, United States
CATEGORIES:Career Development Center,Students
ORGANIZER;CN="Career Development Center":MAILTO:lesanet@faytechcc.edu
END:VEVENT
END:VCALENDAR