BEGIN:VCALENDAR
VERSION:2.0
PRODID:-//Fayetteville Technical Community College - ECPv6.15.9//NONSGML v1.0//EN
CALSCALE:GREGORIAN
METHOD:PUBLISH
X-ORIGINAL-URL:https://www.faytechcc.edu
X-WR-CALDESC:Events for Fayetteville Technical Community College
REFRESH-INTERVAL;VALUE=DURATION:PT1H
X-Robots-Tag:noindex
X-PUBLISHED-TTL:PT1H
BEGIN:VTIMEZONE
TZID:America/New_York
BEGIN:DAYLIGHT
TZOFFSETFROM:-0500
TZOFFSETTO:-0400
TZNAME:EDT
DTSTART:20250309T070000
END:DAYLIGHT
BEGIN:STANDARD
TZOFFSETFROM:-0400
TZOFFSETTO:-0500
TZNAME:EST
DTSTART:20251102T060000
END:STANDARD
BEGIN:DAYLIGHT
TZOFFSETFROM:-0500
TZOFFSETTO:-0400
TZNAME:EDT
DTSTART:20260308T070000
END:DAYLIGHT
BEGIN:STANDARD
TZOFFSETFROM:-0400
TZOFFSETTO:-0500
TZNAME:EST
DTSTART:20261101T060000
END:STANDARD
BEGIN:DAYLIGHT
TZOFFSETFROM:-0500
TZOFFSETTO:-0400
TZNAME:EDT
DTSTART:20270314T070000
END:DAYLIGHT
BEGIN:STANDARD
TZOFFSETFROM:-0400
TZOFFSETTO:-0500
TZNAME:EST
DTSTART:20271107T060000
END:STANDARD
END:VTIMEZONE
BEGIN:VEVENT
DTSTART;TZID=America/New_York:20260511T130000
DTEND;TZID=America/New_York:20260511T133000
DTSTAMP:20260421T045644
CREATED:20260204T183729Z
LAST-MODIFIED:20260204T183729Z
UID:10004865-1778504400-1778506200@www.faytechcc.edu
SUMMARY:Parents for Higher Education (PFHE)
DESCRIPTION:👪 Club Mission\nSupport: Holds weekly meetings to support and address the unique needs of student parents.\nFocus: Specifically designed for parents with children ages birth to five. \n📅 Meeting Schedule\nWeekly on Mondays\n🕒 1:00pm – 2:00pm\n📍 General Classroom Building (GCB)\, Room 108/114
URL:https://www.faytechcc.edu/event/parents-for-higher-education-pfhe/2026-05-11/
LOCATION:General Classroom building – Room 108 & 114\, 2817 Fort Bragg Road\, Fayetteville\, NC\, 28303\, United States
CATEGORIES:Clubs
ORGANIZER;CN="FTCC PFHE":MAILTO:canond@faytechcc.edu
END:VEVENT
BEGIN:VEVENT
DTSTART;TZID=America/New_York:20260511T150000
DTEND;TZID=America/New_York:20260511T160000
DTSTAMP:20260421T045644
CREATED:20260204T184939Z
LAST-MODIFIED:20260204T184939Z
UID:10004930-1778511600-1778515200@www.faytechcc.edu
SUMMARY:📚 CompTIA Security+ Tutoring
DESCRIPTION:Host: Information Technology – Cybersecurity Department\nLocation: 📍 General Classroom Building (GCB)\, Room 215\nSchedule: * 🕒 Mondays: 3:00pm – 4:00pm \n🕒 Tuesdays: 2:00pm – 3:00pm \n🛡️ What We Cover\nOur sessions cover all objectives required for the exam: \nGeneral Security Concepts\nThreats\, Vulnerabilities\, and Mitigations\nSecurity Architecture\nSecurity Operations\nSecurity Program Management & Oversight
URL:https://www.faytechcc.edu/event/%f0%9f%93%9a-comptia-security-tutoring/2026-05-11/
LOCATION:General Classroom Building (GCB)\, Room 215\, 2817 Fort Bragg Road\, Fayetteville\, NC\, 28303\, United States
ORGANIZER;CN="Information Technology - Cybersecurity Department":MAILTO:ingramt@faytechcc.edu
END:VEVENT
BEGIN:VEVENT
DTSTART;TZID=America/New_York:20260511T150000
DTEND;TZID=America/New_York:20260511T160000
DTSTAMP:20260421T045644
CREATED:20260413T203558Z
LAST-MODIFIED:20260413T203558Z
UID:10007166-1778511600-1778515200@www.faytechcc.edu
SUMMARY:Respiratory Therapy Pinning Ceremony
DESCRIPTION:Celebrate the Class of 2026 at the Respiratory Therapy Pinning Ceremony. \nThis time-honored tradition marks the transition from student to healthcare professional\, symbolizing a graduate’s commitment to providing life-saving respiratory care. We invite faculty\, friends\, and family to join us in honoring our students’ hard work and dedication to clinical excellence. \n📅 Date: May 11\, 2026\n⏰ Time: 3:00 PM – 4:00 PM\n📍 Location: Cumberland Hall Auditorium
URL:https://www.faytechcc.edu/event/respiratory-therapy-pinning-ceremony-3/
LOCATION:Cumberland Hall Auditorium\, Room 360\, 2215 Hull Road\, Fayetteville\, NC\, 28303\, United States
ORGANIZER;CN="Respiratory Therapy Program":MAILTO:dunigank@faytechcc.edu
END:VEVENT
BEGIN:VEVENT
DTSTART;TZID=America/New_York:20260511T170000
DTEND;TZID=America/New_York:20260511T180000
DTSTAMP:20260421T045644
CREATED:20260413T203852Z
LAST-MODIFIED:20260413T203852Z
UID:10007167-1778518800-1778522400@www.faytechcc.edu
SUMMARY:Medical Sonography Pinning Ceremony
DESCRIPTION:Join us to celebrate the Class of 2026 at the Medical Sonography Pinning Ceremony. \nThis ceremony honors the hard work and clinical excellence of our graduates as they transition into the healthcare field. We invite family\, friends\, and faculty to share in this milestone as our students receive their pins\, symbolizing their commitment to professional integrity and patient care in medical imaging. \n📅 Date: May 11\, 2026\n⏰ Time 5:00 PM – 6:00 PM\n📍 Location: Cumberland Hall Auditorium
URL:https://www.faytechcc.edu/event/medical-sonography-pinning-ceremony-2/
LOCATION:Cumberland Hall Auditorium\, Room 360\, 2215 Hull Road\, Fayetteville\, NC\, 28303\, United States
ORGANIZER;CN="Medical Sonography Program":MAILTO:mclaurie@faytechcc.edu
END:VEVENT
END:VCALENDAR