BEGIN:VCALENDAR
VERSION:2.0
PRODID:-//Fayetteville Technical Community College - ECPv6.15.9//NONSGML v1.0//EN
CALSCALE:GREGORIAN
METHOD:PUBLISH
X-WR-CALNAME:Fayetteville Technical Community College
X-ORIGINAL-URL:https://www.faytechcc.edu
X-WR-CALDESC:Events for Fayetteville Technical Community College
REFRESH-INTERVAL;VALUE=DURATION:PT1H
X-Robots-Tag:noindex
X-PUBLISHED-TTL:PT1H
BEGIN:VTIMEZONE
TZID:America/New_York
BEGIN:DAYLIGHT
TZOFFSETFROM:-0500
TZOFFSETTO:-0400
TZNAME:EDT
DTSTART:20250309T070000
END:DAYLIGHT
BEGIN:STANDARD
TZOFFSETFROM:-0400
TZOFFSETTO:-0500
TZNAME:EST
DTSTART:20251102T060000
END:STANDARD
BEGIN:DAYLIGHT
TZOFFSETFROM:-0500
TZOFFSETTO:-0400
TZNAME:EDT
DTSTART:20260308T070000
END:DAYLIGHT
BEGIN:STANDARD
TZOFFSETFROM:-0400
TZOFFSETTO:-0500
TZNAME:EST
DTSTART:20261101T060000
END:STANDARD
BEGIN:DAYLIGHT
TZOFFSETFROM:-0500
TZOFFSETTO:-0400
TZNAME:EDT
DTSTART:20270314T070000
END:DAYLIGHT
BEGIN:STANDARD
TZOFFSETFROM:-0400
TZOFFSETTO:-0500
TZNAME:EST
DTSTART:20271107T060000
END:STANDARD
END:VTIMEZONE
BEGIN:VEVENT
DTSTART;TZID=America/New_York:20260414T113000
DTEND;TZID=America/New_York:20260414T123000
DTSTAMP:20260425T231935
CREATED:20260410T195820Z
LAST-MODIFIED:20260413T115031Z
UID:10007162-1776166200-1776169800@www.faytechcc.edu
SUMMARY:Students - Pizza with the President
DESCRIPTION:🍕 Pizza with the President\n📅 Date: Tuesday\, April 14th\n⏰ Time: 11:30 AM – 12:30 PM\n📍 Location: Tojan Cafe in the Tony Rand Student Center\nAll students\, join us for free pizza and a chance to chat with Dr. Sorrells in a casual\, friendly setting! Don’t miss this opportunity to connect and enjoy a slice (or two)! \n 
URL:https://www.faytechcc.edu/event/students-pizza-with-the-president/
LOCATION:Trojan Cafe – Tony Rand Student Center\, 2220 Hull Road\, Fayetteville\, 28303\, United States
CATEGORIES:Student Activities
ORGANIZER;CN="Student Activities":MAILTO:plessh@faytechcc.edu
END:VEVENT
BEGIN:VEVENT
DTSTART;TZID=America/New_York:20260414T120000
DTEND;TZID=America/New_York:20260414T130000
DTSTAMP:20260425T231935
CREATED:20260122T160025Z
LAST-MODIFIED:20260122T160025Z
UID:10004704-1776168000-1776171600@www.faytechcc.edu
SUMMARY:Toastmasters Meeting
DESCRIPTION:Master the art of confident communication and unlock your leadership potential with FTCC Toastmasters! \nJoin the FTCC Toastmasters to learn how to educate\, elevate\, and entertain through the art of public speaking! This weekly meeting provides a supportive environment for anyone looking to sharpen their communication and leadership skills. \nWhether you’re preparing for a class presentation or looking to build professional confidence\, all skill levels are welcome! \n📍 Location: CBI 129 \n📅 Date: Every Tuesday \n⏰ Time: 12:00 PM – 1:00 PM \n👥 Who Should Attend: Open to all students\, faculty\, and staff!
URL:https://www.faytechcc.edu/event/toastmasters-meeting-4/2026-04-14/
LOCATION:CBI 134\, 2733 Fort Bragg Road\, Fayetteville\, NC\, 28303\, United States
CATEGORIES:Clubs,FTCC Toastmasters,Meeting,Student Activities
ORGANIZER;CN="FTCC Toastmasters Chapter":MAILTO:hicksc@faytechcc.edu
END:VEVENT
BEGIN:VEVENT
DTSTART;TZID=America/New_York:20260414T120000
DTEND;TZID=America/New_York:20260414T140000
DTSTAMP:20260425T231935
CREATED:20260116T165445Z
LAST-MODIFIED:20260223T151515Z
UID:10004600-1776168000-1776175200@www.faytechcc.edu
SUMMARY:Open Lab Resume Assistance
DESCRIPTION:Stop by the open computer lab for assistance with your resume.  \n📍 Location: Tony Rand Student Center (SDC)\, room 124\n📅 Date: Every Tuesday \n⏰ Time: 12:00 PM – 2:00 PM
URL:https://www.faytechcc.edu/event/open-lab-resume-assistance-17/2026-04-14/
LOCATION:Tony Rand Student Center Rm 124\, 2220 Hull Rd\, Fayetteville\, NC\, 28303\, United States
CATEGORIES:Career Development Center,Students
ORGANIZER;CN="Career Development Center":MAILTO:lesanet@faytechcc.edu
END:VEVENT
BEGIN:VEVENT
DTSTART;TZID=America/New_York:20260414T130000
DTEND;TZID=America/New_York:20260414T140000
DTSTAMP:20260425T231935
CREATED:20260204T151040Z
LAST-MODIFIED:20260204T151041Z
UID:10004559-1776171600-1776175200@www.faytechcc.edu
SUMMARY:📖 Seekers Fellowship Christian Club Meeting
DESCRIPTION:📅 Date: Tuesdays\n⏰ Time: 1:00 PM – 2:00 PM\n📍 Location: ATC 116\n✨ Fellowship\, Study\, and Growth\nJoin us every Tuesday for a dedicated time of Bible study and fellowship. Our mission is to grow together as we get to know the Lord Jesus Christ through His Gospel. All are welcome! \n🎶 Worship: A time for singing and reflection.\n🗣️ Studies & Talks: Engaging discussions and deep dives into the Word.\n🍪 Refreshments: Enjoy snacks and community connection.\n🤝 Community Projects: Opportunities to serve and impact those around us. \n 
URL:https://www.faytechcc.edu/event/%f0%9f%93%96-seekers-fellowship-christian-club-meeting-2/2026-04-14/
LOCATION:ATC 116\, 2300 Hull Road\, Fayetteville\, NC\, 28303\, United States
CATEGORIES:Clubs,Seekers Fellowship Club
ORGANIZER;CN="FTCC Seekers Fellowship Club":MAILTO:abrahamn@faytechcc.edu
END:VEVENT
BEGIN:VEVENT
DTSTART;TZID=America/New_York:20260414T140000
DTEND;TZID=America/New_York:20260414T150000
DTSTAMP:20260425T231935
CREATED:20260204T185032Z
LAST-MODIFIED:20260204T185032Z
UID:10004954-1776175200-1776178800@www.faytechcc.edu
SUMMARY:📚 CompTIA Security+ Tutoring
DESCRIPTION:Host: Information Technology – Cybersecurity Department\nLocation: 📍 General Classroom Building (GCB)\, Room 215\nSchedule: * 🕒 Mondays: 3:00pm – 4:00pm \n🕒 Tuesdays: 2:00pm – 3:00pm \n🛡️ What We Cover\nOur sessions cover all objectives required for the exam: \nGeneral Security Concepts\nThreats\, Vulnerabilities\, and Mitigations\nSecurity Architecture\nSecurity Operations\nSecurity Program Management & Oversight
URL:https://www.faytechcc.edu/event/%f0%9f%93%9a-comptia-security-tutoring-2/2026-04-14/
LOCATION:General Classroom Building (GCB)\, Room 215\, 2817 Fort Bragg Road\, Fayetteville\, NC\, 28303\, United States
ORGANIZER;CN="Information Technology - Cybersecurity Department":MAILTO:ingramt@faytechcc.edu
END:VEVENT
BEGIN:VEVENT
DTSTART;TZID=America/New_York:20260414T140000
DTEND;TZID=America/New_York:20260414T150000
DTSTAMP:20260425T231935
CREATED:20260410T122353Z
LAST-MODIFIED:20260410T122353Z
UID:10007155-1776175200-1776178800@www.faytechcc.edu
SUMMARY:Staff Council Presents - Work-Life Centeredness
DESCRIPTION:“Balancing Life\, Purpose\, and Productivity Through Temperament Awareness” \n– Objectives: Understanding Work-Life Centeredness; Identify temperament styles; Recognizing stress and energy patterns\, and developing personal balance strategies. Ps\, the same PD will be offered twice within that week in hopes to gain more participation. \n  \n📅 Date: April 14\, 2026\n⏰ Time: 2:00 PM\n📍 Location: GCB 108\n👥 Target Audience: FTCC employees only \nFacilitator Name: Marvin Price\, Fayetteville Technical Community College\, Director of Strategic Community Initiatives \nCAP 45: Please email Tamara Smith at smithta@faytechcc.edu to reserve your seat in advance.
URL:https://www.faytechcc.edu/event/staff-council-presents-work-life-centeredness/
LOCATION:General classroom building  – Room 108\, 2817 Fort Bragg Rd.\, Fayetteville\, NC\, 28303\, United States
ORGANIZER;CN="FTCC Staff Council":MAILTO:facstaff-committee@faytechcc.edu
END:VEVENT
BEGIN:VEVENT
DTSTART;TZID=America/New_York:20260414T160000
DTEND;TZID=America/New_York:20260414T170000
DTSTAMP:20260425T231935
CREATED:20260320T174842Z
LAST-MODIFIED:20260320T174842Z
UID:10007123-1776182400-1776186000@www.faytechcc.edu
SUMMARY:Financial Planning - Investment 101 Tips
DESCRIPTION:
URL:https://www.faytechcc.edu/event/financial-planning-investment-101-tips/
LOCATION:General classroom building  – Room 108\, 2817 Fort Bragg Rd.\, Fayetteville\, NC\, 28303\, United States
ORGANIZER;CN="Career Development Center":MAILTO:lesanet@faytechcc.edu
END:VEVENT
BEGIN:VEVENT
DTSTART;TZID=America/New_York:20260414T180000
DTEND;TZID=America/New_York:20260414T180000
DTSTAMP:20260425T231935
CREATED:20260410T112654Z
LAST-MODIFIED:20260410T112654Z
UID:10007152-1776189600-1776189600@www.faytechcc.edu
SUMMARY:NC Department of Environmental Quality - Public Hearing
DESCRIPTION:The North Carolina Environmental Management Commission will hold three public hearings to hear public comment on proposed rules for monitoring and minimizing 1\,4-dioxane\, a substance likely to cause cancer\, in wastewater discharged into North Carolina’s surface waters from certain facilities. The hearings are part of a comment period that began on March 16. \nPublic Hearing Details \nWhen: 6 p.m.\, April 14\, 2026 \nWhere: Fayetteville Technology Community College\, Tony Rand Student Center multipurpose room\, 2220 Hull Rd. Fayetteville\, N.C.\, 28303 \nRegister: Sign-in and speaker registration will begin at 5 p.m.
URL:https://www.faytechcc.edu/event/nc-department-of-environmental-quality-public-hearing/
LOCATION:Tony Rand Center Multipurpose Room\, 2220 Hull Road\, Fayett\, NC\, 28303\, United States
CATEGORIES:Community Event
END:VEVENT
END:VCALENDAR