BEGIN:VCALENDAR
VERSION:2.0
PRODID:-//Fayetteville Technical Community College - ECPv6.15.9//NONSGML v1.0//EN
CALSCALE:GREGORIAN
METHOD:PUBLISH
X-WR-CALNAME:Fayetteville Technical Community College
X-ORIGINAL-URL:https://www.faytechcc.edu
X-WR-CALDESC:Events for Fayetteville Technical Community College
REFRESH-INTERVAL;VALUE=DURATION:PT1H
X-Robots-Tag:noindex
X-PUBLISHED-TTL:PT1H
BEGIN:VTIMEZONE
TZID:America/New_York
BEGIN:DAYLIGHT
TZOFFSETFROM:-0500
TZOFFSETTO:-0400
TZNAME:EDT
DTSTART:20250309T070000
END:DAYLIGHT
BEGIN:STANDARD
TZOFFSETFROM:-0400
TZOFFSETTO:-0500
TZNAME:EST
DTSTART:20251102T060000
END:STANDARD
BEGIN:DAYLIGHT
TZOFFSETFROM:-0500
TZOFFSETTO:-0400
TZNAME:EDT
DTSTART:20260308T070000
END:DAYLIGHT
BEGIN:STANDARD
TZOFFSETFROM:-0400
TZOFFSETTO:-0500
TZNAME:EST
DTSTART:20261101T060000
END:STANDARD
BEGIN:DAYLIGHT
TZOFFSETFROM:-0500
TZOFFSETTO:-0400
TZNAME:EDT
DTSTART:20270314T070000
END:DAYLIGHT
BEGIN:STANDARD
TZOFFSETFROM:-0400
TZOFFSETTO:-0500
TZNAME:EST
DTSTART:20271107T060000
END:STANDARD
END:VTIMEZONE
BEGIN:VEVENT
DTSTART;TZID=America/New_York:20260408T150000
DTEND;TZID=America/New_York:20260408T160000
DTSTAMP:20260425T080339
CREATED:20260204T182800Z
LAST-MODIFIED:20260204T182800Z
UID:10004846-1775660400-1775664000@www.faytechcc.edu
SUMMARY:IT Cyber Club Meeting
DESCRIPTION:A community for tech enthusiasts to connect\, collaborate\, and share knowledge. Meetings are focused on cybersecurity and computer programming with a goal of fostering an inclusive environment and keeping members informed about the latest tech trends. \n💻 Core Focus Areas\nCybersecurity: 🍓 Raspberry Pi projects\nEthical Hacking: 🛡️ Hack the Box\nIT Programming: 🏠 Smart Home development using Python \n🎯 Club Goals\nCommunity: Foster a collaborative and inclusive environment.\nTrends: Keep members informed about the latest tech trends and threats.\nSkills: Help members develop practical\, industry-relevant skills. \n\n📅 Meeting Schedule\nWeekly on Wednesdays\n🕒 3:00pm – 4:00pm\n📍 General Classroom Building (GCB)\, Room 119
URL:https://www.faytechcc.edu/event/it-cyber-club-meeting/2026-04-08/
LOCATION:General Classroom Building (GCB)\, Room 119\, 2817 Fort Bragg Road\, Fayetteville\, NC\, 28303\, United States
CATEGORIES:Clubs,Information Technology
ORGANIZER;CN="FTCC Information Technology Cyber Club":MAILTO:linneyj@faytechcc.edu
END:VEVENT
BEGIN:VEVENT
DTSTART;TZID=America/New_York:20260408T180000
DTEND;TZID=America/New_York:20260408T210000
DTSTAMP:20260425T080340
CREATED:20260127T203832Z
LAST-MODIFIED:20260127T203832Z
UID:10004784-1775671200-1775682000@www.faytechcc.edu
SUMMARY:Baseball (Away)
DESCRIPTION:Baseball is traveling to Robeson for a single game at 6PM. 
URL:https://www.faytechcc.edu/event/baseball-away-54/
LOCATION:NC
CATEGORIES:Athletics
END:VEVENT
BEGIN:VEVENT
DTSTART;TZID=America/New_York:20260408T183000
DTEND;TZID=America/New_York:20260408T203000
DTSTAMP:20260425T080340
CREATED:20250729T135512Z
LAST-MODIFIED:20250729T135602Z
UID:10003528-1775673000-1775680200@www.faytechcc.edu
SUMMARY:Micro Grant Program: Nonprofit Basics & Funding Strategies
DESCRIPTION:Micro Grant Program: Nonprofit Basics & Funding Strategies\n🗓 April 8\, 2026\n⏰ 6:30 PM – 8:30 PM (SG)\n📍 General Classroom Building (GCB)\, Room 108\nInterested in starting or growing a nonprofit? This session covers how to form and manage a nonprofit organization\, recruit supporters\, and generate sustainable income through grants\, sponsorships\, and fundraising—perfect for community leaders and aspiring changemakers. Pre-registration is not required. Part six of the six-part series.
URL:https://www.faytechcc.edu/event/micro-grant-program-nonprofit-basics-funding-strategies-8/
LOCATION:General classroom building  – Room 108\, 2817 Fort Bragg Rd.\, Fayetteville\, NC\, 28303\, United States
ORGANIZER;CN="FTCC Small Business Center":MAILTO:ftccsbc@faytechcc.edu
END:VEVENT
END:VCALENDAR