BEGIN:VCALENDAR
VERSION:2.0
PRODID:-//Fayetteville Technical Community College - ECPv6.15.9//NONSGML v1.0//EN
CALSCALE:GREGORIAN
METHOD:PUBLISH
X-ORIGINAL-URL:https://www.faytechcc.edu
X-WR-CALDESC:Events for Fayetteville Technical Community College
REFRESH-INTERVAL;VALUE=DURATION:PT1H
X-Robots-Tag:noindex
X-PUBLISHED-TTL:PT1H
BEGIN:VTIMEZONE
TZID:America/New_York
BEGIN:DAYLIGHT
TZOFFSETFROM:-0500
TZOFFSETTO:-0400
TZNAME:EDT
DTSTART:20250309T070000
END:DAYLIGHT
BEGIN:STANDARD
TZOFFSETFROM:-0400
TZOFFSETTO:-0500
TZNAME:EST
DTSTART:20251102T060000
END:STANDARD
BEGIN:DAYLIGHT
TZOFFSETFROM:-0500
TZOFFSETTO:-0400
TZNAME:EDT
DTSTART:20260308T070000
END:DAYLIGHT
BEGIN:STANDARD
TZOFFSETFROM:-0400
TZOFFSETTO:-0500
TZNAME:EST
DTSTART:20261101T060000
END:STANDARD
BEGIN:DAYLIGHT
TZOFFSETFROM:-0500
TZOFFSETTO:-0400
TZNAME:EDT
DTSTART:20270314T070000
END:DAYLIGHT
BEGIN:STANDARD
TZOFFSETFROM:-0400
TZOFFSETTO:-0500
TZNAME:EST
DTSTART:20271107T060000
END:STANDARD
END:VTIMEZONE
BEGIN:VEVENT
DTSTART;TZID=America/New_York:20260402T110000
DTEND;TZID=America/New_York:20260402T140000
DTSTAMP:20260424T225935
CREATED:20260116T155226Z
LAST-MODIFIED:20260326T172557Z
UID:10004575-1775127600-1775138400@www.faytechcc.edu
SUMMARY:🎡 Spring Fling 2026
DESCRIPTION:Join us for the annual FTCC Spring Fling! Enjoy a day of food\, music\, and fun while learning about the various resources available to help you succeed. Take a break and have some fun with your fellow Trojans! \n📍 Location: Tony Rand Student Center Front Lawn\n📅 Date: Thursday\, April 2\, 2026\n⏰ Time: 11:00 AM – 2:00 PM
URL:https://www.faytechcc.edu/event/%f0%9f%8e%a1-spring-fling-2026/
LOCATION:Tony Rand Student Center – Front Lawn\, 2220 Hull Rd.\, Fayetteville\, NC\, 28303\, United States
ORGANIZER;CN="Student Activities":MAILTO:plessh@faytechcc.edu
END:VEVENT
END:VCALENDAR