BEGIN:VCALENDAR
VERSION:2.0
PRODID:-//Fayetteville Technical Community College - ECPv6.15.9//NONSGML v1.0//EN
CALSCALE:GREGORIAN
METHOD:PUBLISH
X-ORIGINAL-URL:https://www.faytechcc.edu
X-WR-CALDESC:Events for Fayetteville Technical Community College
REFRESH-INTERVAL;VALUE=DURATION:PT1H
X-Robots-Tag:noindex
X-PUBLISHED-TTL:PT1H
BEGIN:VTIMEZONE
TZID:America/New_York
BEGIN:DAYLIGHT
TZOFFSETFROM:-0500
TZOFFSETTO:-0400
TZNAME:EDT
DTSTART:20250309T070000
END:DAYLIGHT
BEGIN:STANDARD
TZOFFSETFROM:-0400
TZOFFSETTO:-0500
TZNAME:EST
DTSTART:20251102T060000
END:STANDARD
BEGIN:DAYLIGHT
TZOFFSETFROM:-0500
TZOFFSETTO:-0400
TZNAME:EDT
DTSTART:20260308T070000
END:DAYLIGHT
BEGIN:STANDARD
TZOFFSETFROM:-0400
TZOFFSETTO:-0500
TZNAME:EST
DTSTART:20261101T060000
END:STANDARD
BEGIN:DAYLIGHT
TZOFFSETFROM:-0500
TZOFFSETTO:-0400
TZNAME:EDT
DTSTART:20270314T070000
END:DAYLIGHT
BEGIN:STANDARD
TZOFFSETFROM:-0400
TZOFFSETTO:-0500
TZNAME:EST
DTSTART:20271107T060000
END:STANDARD
END:VTIMEZONE
BEGIN:VEVENT
DTSTART;VALUE=DATE:20260331
DTEND;VALUE=DATE:20260401
DTSTAMP:20260424T225805
CREATED:20260213T142816Z
LAST-MODIFIED:20260409T202626Z
UID:10005037-1774915200-1775001599@www.faytechcc.edu
SUMMARY:💰 Scholarship Application Cycle Opens!
DESCRIPTION:Every student should take advantage of the possibility of FREE money to assist with tuition expenses! Students can go to https://www.faytechcc.edu/sholarships/ to apply. I’m happy to speak to your class or club about the importance of applying for scholarships. \nScholarship cycle: \n\nOpens – February 15\, 2026\nCloses – March 31\, 2026
URL:https://www.faytechcc.edu/event/%f0%9f%92%b0-scholarship-application-cycle-opens/2026-03-31/
LOCATION:https://www.faytechcc.edu/scholarships/
ORGANIZER;CN="FTCC Foundation":MAILTO:foundation@faytechcc.edu
END:VEVENT
BEGIN:VEVENT
DTSTART;TZID=America/New_York:20260331T090000
DTEND;TZID=America/New_York:20260331T113000
DTSTAMP:20260424T225805
CREATED:20251027T173642Z
LAST-MODIFIED:20260109T134403Z
UID:10003848-1774947600-1774956600@www.faytechcc.edu
SUMMARY:Building Trades Job/Career Fair
DESCRIPTION:Click on the image above to view PDF version.
URL:https://www.faytechcc.edu/event/building-trades-job-career-fair/
LOCATION:Horace Sisk Gym\, 2114 Hull Road\, Fayetteville\, NC\, 28303\, United States
CATEGORIES:Career Development Center
END:VEVENT
BEGIN:VEVENT
DTSTART;TZID=America/New_York:20260331T120000
DTEND;TZID=America/New_York:20260331T130000
DTSTAMP:20260424T225805
CREATED:20260122T160025Z
LAST-MODIFIED:20260122T160025Z
UID:10004702-1774958400-1774962000@www.faytechcc.edu
SUMMARY:Toastmasters Meeting
DESCRIPTION:Master the art of confident communication and unlock your leadership potential with FTCC Toastmasters! \nJoin the FTCC Toastmasters to learn how to educate\, elevate\, and entertain through the art of public speaking! This weekly meeting provides a supportive environment for anyone looking to sharpen their communication and leadership skills. \nWhether you’re preparing for a class presentation or looking to build professional confidence\, all skill levels are welcome! \n📍 Location: CBI 129 \n📅 Date: Every Tuesday \n⏰ Time: 12:00 PM – 1:00 PM \n👥 Who Should Attend: Open to all students\, faculty\, and staff!
URL:https://www.faytechcc.edu/event/toastmasters-meeting-4/2026-03-31/
LOCATION:CBI 134\, 2733 Fort Bragg Road\, Fayetteville\, NC\, 28303\, United States
CATEGORIES:Clubs,FTCC Toastmasters,Meeting,Student Activities
ORGANIZER;CN="FTCC Toastmasters Chapter":MAILTO:hicksc@faytechcc.edu
END:VEVENT
BEGIN:VEVENT
DTSTART;TZID=America/New_York:20260331T120000
DTEND;TZID=America/New_York:20260331T140000
DTSTAMP:20260424T225805
CREATED:20260116T165445Z
LAST-MODIFIED:20260223T151515Z
UID:10004598-1774958400-1774965600@www.faytechcc.edu
SUMMARY:Open Lab Resume Assistance
DESCRIPTION:Stop by the open computer lab for assistance with your resume.  \n📍 Location: Tony Rand Student Center (SDC)\, room 124\n📅 Date: Every Tuesday \n⏰ Time: 12:00 PM – 2:00 PM
URL:https://www.faytechcc.edu/event/open-lab-resume-assistance-17/2026-03-31/
LOCATION:Tony Rand Student Center Rm 124\, 2220 Hull Rd\, Fayetteville\, NC\, 28303\, United States
CATEGORIES:Career Development Center,Students
ORGANIZER;CN="Career Development Center":MAILTO:lesanet@faytechcc.edu
END:VEVENT
BEGIN:VEVENT
DTSTART;TZID=America/New_York:20260331T123000
DTEND;TZID=America/New_York:20260331T143000
DTSTAMP:20260424T225805
CREATED:20260327T161258Z
LAST-MODIFIED:20260327T161258Z
UID:10007132-1774960200-1774967400@www.faytechcc.edu
SUMMARY:Seekers Fellowship Easter Program
DESCRIPTION:
URL:https://www.faytechcc.edu/event/seekers-fellowship-easter-program/
LOCATION:Cumberland Hall Auditorium\, Room 360\, 2215 Hull Road\, Fayetteville\, NC\, 28303\, United States
ORGANIZER;CN="FTCC Seekers Fellowship Club":MAILTO:abrahamn@faytechcc.edu
END:VEVENT
BEGIN:VEVENT
DTSTART;TZID=America/New_York:20260331T130000
DTEND;TZID=America/New_York:20260331T140000
DTSTAMP:20260424T225805
CREATED:20260204T151040Z
LAST-MODIFIED:20260204T151041Z
UID:10004557-1774962000-1774965600@www.faytechcc.edu
SUMMARY:📖 Seekers Fellowship Christian Club Meeting
DESCRIPTION:📅 Date: Tuesdays\n⏰ Time: 1:00 PM – 2:00 PM\n📍 Location: ATC 116\n✨ Fellowship\, Study\, and Growth\nJoin us every Tuesday for a dedicated time of Bible study and fellowship. Our mission is to grow together as we get to know the Lord Jesus Christ through His Gospel. All are welcome! \n🎶 Worship: A time for singing and reflection.\n🗣️ Studies & Talks: Engaging discussions and deep dives into the Word.\n🍪 Refreshments: Enjoy snacks and community connection.\n🤝 Community Projects: Opportunities to serve and impact those around us. \n 
URL:https://www.faytechcc.edu/event/%f0%9f%93%96-seekers-fellowship-christian-club-meeting-2/2026-03-31/
LOCATION:ATC 116\, 2300 Hull Road\, Fayetteville\, NC\, 28303\, United States
CATEGORIES:Clubs,Seekers Fellowship Club
ORGANIZER;CN="FTCC Seekers Fellowship Club":MAILTO:abrahamn@faytechcc.edu
END:VEVENT
BEGIN:VEVENT
DTSTART;TZID=America/New_York:20260331T140000
DTEND;TZID=America/New_York:20260331T150000
DTSTAMP:20260424T225805
CREATED:20260204T185032Z
LAST-MODIFIED:20260204T185032Z
UID:10004952-1774965600-1774969200@www.faytechcc.edu
SUMMARY:📚 CompTIA Security+ Tutoring
DESCRIPTION:Host: Information Technology – Cybersecurity Department\nLocation: 📍 General Classroom Building (GCB)\, Room 215\nSchedule: * 🕒 Mondays: 3:00pm – 4:00pm \n🕒 Tuesdays: 2:00pm – 3:00pm \n🛡️ What We Cover\nOur sessions cover all objectives required for the exam: \nGeneral Security Concepts\nThreats\, Vulnerabilities\, and Mitigations\nSecurity Architecture\nSecurity Operations\nSecurity Program Management & Oversight
URL:https://www.faytechcc.edu/event/%f0%9f%93%9a-comptia-security-tutoring-2/2026-03-31/
LOCATION:General Classroom Building (GCB)\, Room 215\, 2817 Fort Bragg Road\, Fayetteville\, NC\, 28303\, United States
ORGANIZER;CN="Information Technology - Cybersecurity Department":MAILTO:ingramt@faytechcc.edu
END:VEVENT
BEGIN:VEVENT
DTSTART;TZID=America/New_York:20260331T160000
DTEND;TZID=America/New_York:20260331T170000
DTSTAMP:20260424T225805
CREATED:20260320T174739Z
LAST-MODIFIED:20260320T174739Z
UID:10007122-1774972800-1774976400@www.faytechcc.edu
SUMMARY:Financial Planning - Insurance & Life Planning
DESCRIPTION:
URL:https://www.faytechcc.edu/event/financial-planning-insurance-life-planning/
LOCATION:General classroom building  – Room 108\, 2817 Fort Bragg Rd.\, Fayetteville\, NC\, 28303\, United States
ORGANIZER;CN="Career Development Center":MAILTO:lesanet@faytechcc.edu
END:VEVENT
BEGIN:VEVENT
DTSTART;TZID=America/New_York:20260331T160000
DTEND;TZID=America/New_York:20260331T180000
DTSTAMP:20260424T225805
CREATED:20260323T171000Z
LAST-MODIFIED:20260323T171000Z
UID:10007126-1774972800-1774980000@www.faytechcc.edu
SUMMARY:Financial Planning Series
DESCRIPTION:View PDF Version
URL:https://www.faytechcc.edu/event/financial-planning-series/2026-03-31/
LOCATION:General classroom building  – Room 108\, 2817 Fort Bragg Rd.\, Fayetteville\, NC\, 28303\, United States
CATEGORIES:Career Development Center
END:VEVENT
END:VCALENDAR