BEGIN:VCALENDAR
VERSION:2.0
PRODID:-//Fayetteville Technical Community College - ECPv6.15.9//NONSGML v1.0//EN
CALSCALE:GREGORIAN
METHOD:PUBLISH
X-WR-CALNAME:Fayetteville Technical Community College
X-ORIGINAL-URL:https://www.faytechcc.edu
X-WR-CALDESC:Events for Fayetteville Technical Community College
REFRESH-INTERVAL;VALUE=DURATION:PT1H
X-Robots-Tag:noindex
X-PUBLISHED-TTL:PT1H
BEGIN:VTIMEZONE
TZID:America/New_York
BEGIN:DAYLIGHT
TZOFFSETFROM:-0500
TZOFFSETTO:-0400
TZNAME:EDT
DTSTART:20240310T070000
END:DAYLIGHT
BEGIN:STANDARD
TZOFFSETFROM:-0400
TZOFFSETTO:-0500
TZNAME:EST
DTSTART:20241103T060000
END:STANDARD
BEGIN:DAYLIGHT
TZOFFSETFROM:-0500
TZOFFSETTO:-0400
TZNAME:EDT
DTSTART:20250309T070000
END:DAYLIGHT
BEGIN:STANDARD
TZOFFSETFROM:-0400
TZOFFSETTO:-0500
TZNAME:EST
DTSTART:20251102T060000
END:STANDARD
BEGIN:DAYLIGHT
TZOFFSETFROM:-0500
TZOFFSETTO:-0400
TZNAME:EDT
DTSTART:20260308T070000
END:DAYLIGHT
BEGIN:STANDARD
TZOFFSETFROM:-0400
TZOFFSETTO:-0500
TZNAME:EST
DTSTART:20261101T060000
END:STANDARD
END:VTIMEZONE
BEGIN:VEVENT
DTSTART;TZID=America/New_York:20251103T080000
DTEND;TZID=America/New_York:20251117T170000
DTSTAMP:20260425T000911
CREATED:20251105T171203Z
LAST-MODIFIED:20251114T170227Z
UID:10003922-1762156800-1763398800@www.faytechcc.edu
SUMMARY:SkillsUSA is hosting a Cold Weather Drive
DESCRIPTION:🌟 SkillsUSA is hosting a Cold Weather Drive 🌟 \n📅 Dates: November 3rd – November 17th\n⏰ Time: 8 AM – 5:00 PM\n📍 Location: Tony Rand Student Center Lobby \nPlease donate\, gently used/new coats\, sweaters\, hats\, socks\, blankets\, and gloves. \nPlease donate to support your community! Every little contribution helps!
URL:https://www.faytechcc.edu/event/skillsusa-is-hosting-a-cold-weather-drive/
LOCATION:Tony Rand Student Center Lobby\, 2220 Hull Rd.\, Fayetteville\, NC\, 28303\, United States
ATTACH;FMTTYPE=image/jpeg:https://www.faytechcc.edu/wp-content/uploads/2025/10/SkillsUSA_Framwork.jpg
END:VEVENT
BEGIN:VEVENT
DTSTART;TZID=America/New_York:20251110T110000
DTEND;TZID=America/New_York:20251110T140000
DTSTAMP:20260425T000911
CREATED:20250826T140104Z
LAST-MODIFIED:20250826T141624Z
UID:10003633-1762772400-1762783200@www.faytechcc.edu
SUMMARY:Stop and Talk  Bayada Home Health
DESCRIPTION:Guest Speaker: Bayada Home Health \nClick the button below for career opportunities at Bayada Home Health . Bayada Home Health Careers
URL:https://www.faytechcc.edu/event/stop-and-talk-bayada-home-health/
LOCATION:Cape Fear Valley School of Nursing\, 2340 Hull Road\, Fayetteville\, NC\, 28303\, United States
CATEGORIES:Career Development Center
END:VEVENT
BEGIN:VEVENT
DTSTART;TZID=America/New_York:20251110T130000
DTEND;TZID=America/New_York:20251110T140000
DTSTAMP:20260425T000911
CREATED:20250909T155333Z
LAST-MODIFIED:20250909T155333Z
UID:10003701-1762779600-1762783200@www.faytechcc.edu
SUMMARY:Parents for Higher Education Club (PFHE) Meeting
DESCRIPTION:The Parents for Higher Education Club (PFHE) focuses on student/parents with children ages birth – 5 years. We have speakers from various organizations and agencies discussing topics relevant to student-parents throughout the semester. \n📅 Date: Mondays\n⏰ Time: 1:00 PM – 2:00 PM\n📍 Location: General Classroom Building (GCB)\, Room 108\n👥 Target Audience: Parents/Students with children ages birth – 5 years. \n  \n 
URL:https://www.faytechcc.edu/event/parents-for-higher-education-club-pfhe-meeting-2/2025-11-10/
LOCATION:General classroom building  – Room 108\, 2817 Fort Bragg Rd.\, Fayetteville\, NC\, 28303\, United States
ORGANIZER;CN="FTCC PFHE":MAILTO:canond@faytechcc.edu
END:VEVENT
BEGIN:VEVENT
DTSTART;TZID=America/New_York:20251110T153000
DTEND;TZID=America/New_York:20251110T153000
DTSTAMP:20260425T000911
CREATED:20251031T141635Z
LAST-MODIFIED:20251031T142356Z
UID:10003854-1762788600-1762788600@www.faytechcc.edu
SUMMARY:Tech Speak Series - Starting an Information Technology (IT) Company
DESCRIPTION:Tech Speak Series\nStarting an Information Technology (IT) Company: What You Need to Know and What You Need to Do \n📅 When: Monday\, November 10\, at 3:30 p.m.\n📍 Where: General Classroom Building\, Room 108 \nLearn the essential steps\, strategies\, and insights for launching your own IT company from industry professionals and experienced entrepreneurs. \n💡 Questions? Contact Jeffrey Linney\, Information Technology/PC Support Instructor\, at linneyj@faytechcc.edu.
URL:https://www.faytechcc.edu/event/tech-speak-series-starting-an-information-technology-it-company/
LOCATION:General classroom building  – Room 108\, 2817 Fort Bragg Rd.\, Fayetteville\, NC\, 28303\, United States
ORGANIZER;CN="FTCC Information Technology Cyber Club":MAILTO:linneyj@faytechcc.edu
END:VEVENT
END:VCALENDAR