BEGIN:VCALENDAR
VERSION:2.0
PRODID:-//Fayetteville Technical Community College - ECPv6.15.9//NONSGML v1.0//EN
CALSCALE:GREGORIAN
METHOD:PUBLISH
X-WR-CALNAME:Fayetteville Technical Community College
X-ORIGINAL-URL:https://www.faytechcc.edu
X-WR-CALDESC:Events for Fayetteville Technical Community College
REFRESH-INTERVAL;VALUE=DURATION:PT1H
X-Robots-Tag:noindex
X-PUBLISHED-TTL:PT1H
BEGIN:VTIMEZONE
TZID:America/New_York
BEGIN:DAYLIGHT
TZOFFSETFROM:-0500
TZOFFSETTO:-0400
TZNAME:EDT
DTSTART:20240310T070000
END:DAYLIGHT
BEGIN:STANDARD
TZOFFSETFROM:-0400
TZOFFSETTO:-0500
TZNAME:EST
DTSTART:20241103T060000
END:STANDARD
BEGIN:DAYLIGHT
TZOFFSETFROM:-0500
TZOFFSETTO:-0400
TZNAME:EDT
DTSTART:20250309T070000
END:DAYLIGHT
BEGIN:STANDARD
TZOFFSETFROM:-0400
TZOFFSETTO:-0500
TZNAME:EST
DTSTART:20251102T060000
END:STANDARD
BEGIN:DAYLIGHT
TZOFFSETFROM:-0500
TZOFFSETTO:-0400
TZNAME:EDT
DTSTART:20260308T070000
END:DAYLIGHT
BEGIN:STANDARD
TZOFFSETFROM:-0400
TZOFFSETTO:-0500
TZNAME:EST
DTSTART:20261101T060000
END:STANDARD
END:VTIMEZONE
BEGIN:VEVENT
DTSTART;TZID=America/New_York:20251103T080000
DTEND;TZID=America/New_York:20251117T170000
DTSTAMP:20260425T000855
CREATED:20251105T171203Z
LAST-MODIFIED:20251114T170227Z
UID:10003922-1762156800-1763398800@www.faytechcc.edu
SUMMARY:SkillsUSA is hosting a Cold Weather Drive
DESCRIPTION:🌟 SkillsUSA is hosting a Cold Weather Drive 🌟 \n📅 Dates: November 3rd – November 17th\n⏰ Time: 8 AM – 5:00 PM\n📍 Location: Tony Rand Student Center Lobby \nPlease donate\, gently used/new coats\, sweaters\, hats\, socks\, blankets\, and gloves. \nPlease donate to support your community! Every little contribution helps!
URL:https://www.faytechcc.edu/event/skillsusa-is-hosting-a-cold-weather-drive/
LOCATION:Tony Rand Student Center Lobby\, 2220 Hull Rd.\, Fayetteville\, NC\, 28303\, United States
ATTACH;FMTTYPE=image/jpeg:https://www.faytechcc.edu/wp-content/uploads/2025/10/SkillsUSA_Framwork.jpg
END:VEVENT
BEGIN:VEVENT
DTSTART;TZID=America/New_York:20251108T090000
DTEND;TZID=America/New_York:20251108T090000
DTSTAMP:20260425T000855
CREATED:20251014T124645Z
LAST-MODIFIED:20251014T124645Z
UID:10003829-1762592400-1762592400@www.faytechcc.edu
SUMMARY:Turning Pages\, Changing Lives
DESCRIPTION:📚 Become a Literacy Ambassador \nJoin us for an overview of how to become a Literacy Ambassador with the Cumberland County Literacy Council! \n🌟 Learn how you can volunteer at Imagination Library Storytime events and help spark a love of reading in young children. \n📅 Saturday\, November 8\, 2025\n🕘 9:00 a.m.\n📍 2817 Fort Bragg Rd.\, Fayetteville\, NC 28303 \nRegister here: CCLC Registration Form \nCumberland County Literacy Council website: https://www.unitedway-cc.org/cumberland-county-literacy-council/home.html \n💖 Make a difference in your community—one story at a time!
URL:https://www.faytechcc.edu/event/turning-pages-changing-lives/
LOCATION:2817 Fort Bragg Road\, Fayetteville\, NC  28303\, 2817 Fort Bragg Road\, Fayetteville\, NC\, 28303\, United States
ORGANIZER;CN="Paul H. Thompson Library":MAILTO:dirisiom@faytechcc.edu
END:VEVENT
BEGIN:VEVENT
DTSTART;TZID=America/New_York:20251108T100000
DTEND;TZID=America/New_York:20251108T140000
DTSTAMP:20260425T000855
CREATED:20251006T193826Z
LAST-MODIFIED:20251006T193826Z
UID:10003824-1762596000-1762610400@www.faytechcc.edu
SUMMARY:Fall Trojan Showcase
DESCRIPTION:
URL:https://www.faytechcc.edu/event/fall-trojan-showcase/
LOCATION:Tony Rand Student Center Lobby\, 2220 Hull Rd.\, Fayetteville\, NC\, 28303\, United States
ORGANIZER;CN="FTCC Recruiters":MAILTO:recruiters@faytechcc.edu
END:VEVENT
BEGIN:VEVENT
DTSTART;TZID=America/New_York:20251108T130000
DTEND;TZID=America/New_York:20251108T150000
DTSTAMP:20260425T000855
CREATED:20250910T141629Z
LAST-MODIFIED:20250910T141629Z
UID:10003712-1762606800-1762614000@www.faytechcc.edu
SUMMARY:Women's Basketball (Home)
DESCRIPTION:Women’s Basketball is hosting Montgomery CC (MD) at 1pm. All home games are played at Reid Ross Classical School: 3200 Ramsey Street. Admission is $10\, free with FTCC ID.
URL:https://www.faytechcc.edu/event/womens-basketball-home-6/
LOCATION:NC
CATEGORIES:Athletics
END:VEVENT
END:VCALENDAR