BEGIN:VCALENDAR
VERSION:2.0
PRODID:-//Fayetteville Technical Community College - ECPv6.15.9//NONSGML v1.0//EN
CALSCALE:GREGORIAN
METHOD:PUBLISH
X-WR-CALNAME:Fayetteville Technical Community College
X-ORIGINAL-URL:https://www.faytechcc.edu
X-WR-CALDESC:Events for Fayetteville Technical Community College
REFRESH-INTERVAL;VALUE=DURATION:PT1H
X-Robots-Tag:noindex
X-PUBLISHED-TTL:PT1H
BEGIN:VTIMEZONE
TZID:America/New_York
BEGIN:DAYLIGHT
TZOFFSETFROM:-0500
TZOFFSETTO:-0400
TZNAME:EDT
DTSTART:20240310T070000
END:DAYLIGHT
BEGIN:STANDARD
TZOFFSETFROM:-0400
TZOFFSETTO:-0500
TZNAME:EST
DTSTART:20241103T060000
END:STANDARD
BEGIN:DAYLIGHT
TZOFFSETFROM:-0500
TZOFFSETTO:-0400
TZNAME:EDT
DTSTART:20250309T070000
END:DAYLIGHT
BEGIN:STANDARD
TZOFFSETFROM:-0400
TZOFFSETTO:-0500
TZNAME:EST
DTSTART:20251102T060000
END:STANDARD
BEGIN:DAYLIGHT
TZOFFSETFROM:-0500
TZOFFSETTO:-0400
TZNAME:EDT
DTSTART:20260308T070000
END:DAYLIGHT
BEGIN:STANDARD
TZOFFSETFROM:-0400
TZOFFSETTO:-0500
TZNAME:EST
DTSTART:20261101T060000
END:STANDARD
END:VTIMEZONE
BEGIN:VEVENT
DTSTART;TZID=America/New_York:20251103T080000
DTEND;TZID=America/New_York:20251117T170000
DTSTAMP:20260423T182249
CREATED:20251105T171203Z
LAST-MODIFIED:20251114T170227Z
UID:10003922-1762156800-1763398800@www.faytechcc.edu
SUMMARY:SkillsUSA is hosting a Cold Weather Drive
DESCRIPTION:🌟 SkillsUSA is hosting a Cold Weather Drive 🌟 \n📅 Dates: November 3rd – November 17th\n⏰ Time: 8 AM – 5:00 PM\n📍 Location: Tony Rand Student Center Lobby \nPlease donate\, gently used/new coats\, sweaters\, hats\, socks\, blankets\, and gloves. \nPlease donate to support your community! Every little contribution helps!
URL:https://www.faytechcc.edu/event/skillsusa-is-hosting-a-cold-weather-drive/
LOCATION:Tony Rand Student Center Lobby\, 2220 Hull Rd.\, Fayetteville\, NC\, 28303\, United States
ATTACH;FMTTYPE=image/jpeg:https://www.faytechcc.edu/wp-content/uploads/2025/10/SkillsUSA_Framwork.jpg
END:VEVENT
BEGIN:VEVENT
DTSTART;TZID=America/New_York:20251106T100000
DTEND;TZID=America/New_York:20251106T140000
DTSTAMP:20260423T182249
CREATED:20250922T152337Z
LAST-MODIFIED:20250929T111615Z
UID:10003774-1762423200-1762437600@www.faytechcc.edu
SUMMARY:Scotland County Government Jobs Career Expo
DESCRIPTION:Click on the image above to view PDF version.
URL:https://www.faytechcc.edu/event/scotland-county-government-jobs-career-expo/
LOCATION:NC WORKS Career Center\, 16800-A US HWY 401 Bypass\, Laurinburg\, 28352\, United States
CATEGORIES:Career Development Center
END:VEVENT
BEGIN:VEVENT
DTSTART;TZID=America/New_York:20251106T110000
DTEND;TZID=America/New_York:20251106T140000
DTSTAMP:20260423T182249
CREATED:20250818T165958Z
LAST-MODIFIED:20250818T172638Z
UID:10003586-1762426800-1762437600@www.faytechcc.edu
SUMMARY:Stop and Talk  Cape Fear Valley
DESCRIPTION:Guest Speaker: Cape Fear Valley \nClick the button below for career opportunities at Cape Fear Valley Health. Cape Fear Valley Health Careers
URL:https://www.faytechcc.edu/event/stop-and-talk-11/
LOCATION:Cape Fear Valley School of Nursing\, 2340 Hull Road\, Fayetteville\, NC\, 28303\, United States
CATEGORIES:Career Development Center
END:VEVENT
BEGIN:VEVENT
DTSTART;TZID=America/New_York:20251106T130000
DTEND;TZID=America/New_York:20251106T140000
DTSTAMP:20260423T182249
CREATED:20250814T112828Z
LAST-MODIFIED:20251003T184454Z
UID:10003539-1762434000-1762437600@www.faytechcc.edu
SUMMARY:Digital Media Game Development Club Meeting
DESCRIPTION:Club Meetings\n\n\nDate\nLocation\nTime\n\n\n\n\nAugust 28\nATC 231\n1 PM\n\n\nSeptember 11\nATC 231\n1 PM\n\n\nSeptember 25\nATC 231\n1 PM\n\n\nOctober 9\nATC 231\n1 PM\n\n\nOctober 23\nATC 231\n1 PM\n\n\nNovember 6\nATC 231\n1 PM\n\n\nNovember 20\nATC 231\n1 PM\n\n\nDecember 4\nATC 231\n1 PM\n\n\n\n  \n \n\nOther Events\n\n\nDate\nEvent\n\n\n\n\nOctober 4\nGame Con Raleigh\n\n\nOctober 18\nOak City Game Con – Wake Tech Community College\n\n\nNovember 15\nHoliday Bazaar
URL:https://www.faytechcc.edu/event/digital-media-game-development-club-meeting-6/
LOCATION:NC
CATEGORIES:Gaming and Interactive Digital Media Club
END:VEVENT
END:VCALENDAR