BEGIN:VCALENDAR
VERSION:2.0
PRODID:-//Fayetteville Technical Community College - ECPv6.15.9//NONSGML v1.0//EN
CALSCALE:GREGORIAN
METHOD:PUBLISH
X-WR-CALNAME:Fayetteville Technical Community College
X-ORIGINAL-URL:https://www.faytechcc.edu
X-WR-CALDESC:Events for Fayetteville Technical Community College
REFRESH-INTERVAL;VALUE=DURATION:PT1H
X-Robots-Tag:noindex
X-PUBLISHED-TTL:PT1H
BEGIN:VTIMEZONE
TZID:America/New_York
BEGIN:DAYLIGHT
TZOFFSETFROM:-0500
TZOFFSETTO:-0400
TZNAME:EDT
DTSTART:20240310T070000
END:DAYLIGHT
BEGIN:STANDARD
TZOFFSETFROM:-0400
TZOFFSETTO:-0500
TZNAME:EST
DTSTART:20241103T060000
END:STANDARD
BEGIN:DAYLIGHT
TZOFFSETFROM:-0500
TZOFFSETTO:-0400
TZNAME:EDT
DTSTART:20250309T070000
END:DAYLIGHT
BEGIN:STANDARD
TZOFFSETFROM:-0400
TZOFFSETTO:-0500
TZNAME:EST
DTSTART:20251102T060000
END:STANDARD
BEGIN:DAYLIGHT
TZOFFSETFROM:-0500
TZOFFSETTO:-0400
TZNAME:EDT
DTSTART:20260308T070000
END:DAYLIGHT
BEGIN:STANDARD
TZOFFSETFROM:-0400
TZOFFSETTO:-0500
TZNAME:EST
DTSTART:20261101T060000
END:STANDARD
END:VTIMEZONE
BEGIN:VEVENT
DTSTART;VALUE=DATE:20251101
DTEND;VALUE=DATE:20251102
DTSTAMP:20260424T233928
CREATED:20250926T153938Z
LAST-MODIFIED:20250926T153938Z
UID:10003779-1761955200-1762041599@www.faytechcc.edu
SUMMARY:Graduation Application Information
DESCRIPTION:Graduation Applications are required for each earned associate degree\, diploma and certificate.  \nBelow are the Graduation Application Deadlines: \n\n\n\n \nOpens\nCloses\nDiploma Pickup\n\n\nFall\nAug 4\, 2025\nDec 1\, 2025\nFeb 1\, 2026\n\n\nSpring\nJan 1\, 2026\nApril 30\, 2026\nJuly 1\, 2026\n\n\nSummer\nMay 1\, 2026\nJuly 31\, 2026\nSept 1\, 2026\n\n\n\nCollege Graduation Requirements: \n\nStudent has completed the program requirements.\nStudent has a minimum cumulative and major GPA of 2.0.\nStudent has completed 25% of their course work at FTCC to meet North Carolina residency requirements.\nStudent has passing grades in all related required courses.\nStudent has no outstanding financial obligations with the College.\n \n\nPlease refer to the below document for additional details.  \nQuestions?  Danielle Burnette – burnetts@faytechcc.edu
URL:https://www.faytechcc.edu/event/graduation-application-information/2025-11-01/
LOCATION:Virtual Event
ORGANIZER;CN="FTCC Student Services":MAILTO:admissions@faytechcc.edu
END:VEVENT
BEGIN:VEVENT
DTSTART;TZID=America/New_York:20251101T130000
DTEND;TZID=America/New_York:20251101T190000
DTSTAMP:20260424T233928
CREATED:20250819T200742Z
LAST-MODIFIED:20251027T155334Z
UID:10003602-1762002000-1762023600@www.faytechcc.edu
SUMMARY:Baseball (Away)
DESCRIPTION:Baseball is playing Methodist University in a doubleheader at Segra Stadium\, in downtown Fayetteville\, starting at 1PM.
URL:https://www.faytechcc.edu/event/baseball-away-7/
LOCATION:NC
CATEGORIES:Athletics
END:VEVENT
BEGIN:VEVENT
DTSTART;TZID=America/New_York:20251101T170000
DTEND;TZID=America/New_York:20251101T190000
DTSTAMP:20260424T233928
CREATED:20251027T153849Z
LAST-MODIFIED:20251027T153849Z
UID:10003847-1762016400-1762023600@www.faytechcc.edu
SUMMARY:Men's Basketball (Away)
DESCRIPTION:Men’s Basketball is playing two day of the Palm Beach Classic against Florida State College at Jacksonville. 
URL:https://www.faytechcc.edu/event/mens-basketball-away-38/
LOCATION:NC
CATEGORIES:Athletics
END:VEVENT
END:VCALENDAR