BEGIN:VCALENDAR
VERSION:2.0
PRODID:-//Fayetteville Technical Community College - ECPv6.15.9//NONSGML v1.0//EN
CALSCALE:GREGORIAN
METHOD:PUBLISH
X-WR-CALNAME:Fayetteville Technical Community College
X-ORIGINAL-URL:https://www.faytechcc.edu
X-WR-CALDESC:Events for Fayetteville Technical Community College
REFRESH-INTERVAL;VALUE=DURATION:PT1H
X-Robots-Tag:noindex
X-PUBLISHED-TTL:PT1H
BEGIN:VTIMEZONE
TZID:America/New_York
BEGIN:DAYLIGHT
TZOFFSETFROM:-0500
TZOFFSETTO:-0400
TZNAME:EDT
DTSTART:20240310T070000
END:DAYLIGHT
BEGIN:STANDARD
TZOFFSETFROM:-0400
TZOFFSETTO:-0500
TZNAME:EST
DTSTART:20241103T060000
END:STANDARD
BEGIN:DAYLIGHT
TZOFFSETFROM:-0500
TZOFFSETTO:-0400
TZNAME:EDT
DTSTART:20250309T070000
END:DAYLIGHT
BEGIN:STANDARD
TZOFFSETFROM:-0400
TZOFFSETTO:-0500
TZNAME:EST
DTSTART:20251102T060000
END:STANDARD
BEGIN:DAYLIGHT
TZOFFSETFROM:-0500
TZOFFSETTO:-0400
TZNAME:EDT
DTSTART:20260308T070000
END:DAYLIGHT
BEGIN:STANDARD
TZOFFSETFROM:-0400
TZOFFSETTO:-0500
TZNAME:EST
DTSTART:20261101T060000
END:STANDARD
END:VTIMEZONE
BEGIN:VEVENT
DTSTART;TZID=America/New_York:20251023T100000
DTEND;TZID=America/New_York:20251023T130000
DTSTAMP:20260424T193736
CREATED:20250616T111037Z
LAST-MODIFIED:20251020T210124Z
UID:10003081-1761213600-1761224400@www.faytechcc.edu
SUMMARY:Hospitality\, Human Services & Public Safety Job Fair
DESCRIPTION:Hospitality\, Human Service & Public Safety Job Fair \nRegister Now!(requires login) \n \n\n\n\nThis event is open to all and free of charge!\n\n\n\n\n• Cosmetology\n• Massage Therapy\n\n\n• Culinary Arts\n• Public Safety\n\n\n• Early Childhood\n• Law Enforcement\n\n\n• Esthetics\n• Fire Protection\n\n\n• Hospitality Management \n \n\n\n\n\n\n\nParticipating Employers and Organizations\n\n\n\n\n• Cape Fear Valley Health\n• Cumberland County Detention Center\n\n\n• Cumberland County Sheriff’s Office\n• FedEx\n\n\n• FTCC Work-Based Learning\n• Gracie’s Childcare and Learning Center\, Inc.\n\n\n• Hand and Stone Massage and Facial Spa\n• Hire Quest Direct\n\n\n• It Takes a Village Child Care & Education Center\n• MK Nail Bar\n\n\n• Panda Express\n• SmartStyle\n\n\n• Sodexo\n• Vestills Scalp Hair Clinic\n\n\n\n\nClick on the image below to view PDF version. \n \n 
URL:https://www.faytechcc.edu/event/hospitality-human-services-job-fair-2/
LOCATION:Tony Rand Student Center Multipurpose Room
CATEGORIES:Career Development Center
END:VEVENT
BEGIN:VEVENT
DTSTART;TZID=America/New_York:20251023T113000
DTEND;TZID=America/New_York:20251023T133000
DTSTAMP:20260424T193736
CREATED:20251015T172426Z
LAST-MODIFIED:20251015T172631Z
UID:10003836-1761219000-1761226200@www.faytechcc.edu
SUMMARY:Open Mic: Music\, Art\, and Poetry
DESCRIPTION:🗓 Thursday\, October 23\n🕦 11:30 AM – 1:30 PM\n📍 Paul H. Thompson Library (LRC Suite 118) \n🎶🎨📚 Come vibe with us!\nTake a break and nurture your emotional well-being through artistic expression.\nWhether you’re a singer\, writer\, or simply seeking inspiration\, this creative space is for you! \nHosted by Wellness Care Services\, Loose Leaf Writer’s Club\, and the Collegiate Recovery Program. \n✨ All FTCC students\, staff\, and faculty are welcome!
URL:https://www.faytechcc.edu/event/122396/
LOCATION:Paul H. Thompson Library – LRC Suite 118\, 2221 Hull Rd.\, Fayetteville\, NC\, 28303\, United States
ORGANIZER;CN="FTCC Wellness Care Services":MAILTO:bells@faytechcc.edu
END:VEVENT
BEGIN:VEVENT
DTSTART;TZID=America/New_York:20251023T130000
DTEND;TZID=America/New_York:20251023T140000
DTSTAMP:20260424T193736
CREATED:20250814T112759Z
LAST-MODIFIED:20251003T184312Z
UID:10003538-1761224400-1761228000@www.faytechcc.edu
SUMMARY:Digital Media Game Development Club Meeting
DESCRIPTION:Club Meetings\n\n\nDate\nLocation\nTime\n\n\n\n\nAugust 28\nATC 231\n1 PM\n\n\nSeptember 11\nATC 231\n1 PM\n\n\nSeptember 25\nATC 231\n1 PM\n\n\nOctober 9\nATC 231\n1 PM\n\n\nOctober 23\nATC 231\n1 PM\n\n\nNovember 6\nATC 231\n1 PM\n\n\nNovember 20\nATC 231\n1 PM\n\n\nDecember 4\nATC 231\n1 PM\n\n\n\n  \n \n\nOther Events\n\n\nDate\nEvent\n\n\n\n\nOctober 4\nGame Con Raleigh\n\n\nOctober 18\nOak City Game Con – Wake Tech Community College\n\n\nNovember 15\nHoliday Bazaar
URL:https://www.faytechcc.edu/event/digital-media-game-development-club-meeting-5/
LOCATION:NC
CATEGORIES:Gaming and Interactive Digital Media Club
END:VEVENT
BEGIN:VEVENT
DTSTART;TZID=America/New_York:20251023T180000
DTEND;TZID=America/New_York:20251023T190000
DTSTAMP:20260424T193736
CREATED:20251014T121305Z
LAST-MODIFIED:20251014T121305Z
UID:10003828-1761242400-1761246000@www.faytechcc.edu
SUMMARY:Real Talk: A Virtual Conversation
DESCRIPTION:💬 Real Talk: A Virtual Conversation\n📅 Thursday\, October 23\, 2025\n🕕 6:00 PM – 7:00 PM\n💻 Via Microsoft Teams \nJoin the Y.E.S. Initiative for a virtual edition of Real Talk—a safe space to ask questions\, share thoughts\, and engage in meaningful conversations about topics that matter to you. \n👨 Men’s Session and 👩 Women’s Session will be held separately\, both beginning at 6:00 PM. \n📧 To receive the Teams link\, email Richard McDonald at yes@faytechcc.edu. \n✨ Don’t miss this opportunity to connect\, reflect\, and be heard!
URL:https://www.faytechcc.edu/event/real-talk-a-virtual-conversation/
LOCATION:Virtual Event
ORGANIZER;CN="FTCC Y.E.S. Club":MAILTO:mcdonalr@faytechcc.edu
END:VEVENT
BEGIN:VEVENT
DTSTART;TZID=America/New_York:20251023T180000
DTEND;TZID=America/New_York:20251023T200000
DTSTAMP:20260424T193736
CREATED:20250507T143340Z
LAST-MODIFIED:20250917T134707Z
UID:10003033-1761242400-1761249600@www.faytechcc.edu
SUMMARY:Volleyball (Home)- Sophomore Night
DESCRIPTION:Volleyball is hosting USC-Union in a nonconference game at 6pm. They will recognize their sophomores before the game starting at 5:30pm. All home games are played in Horace Sisk Gymnasium\, and require a $10 admission fee. 
URL:https://www.faytechcc.edu/event/volleyball-home-sophomore-night-2/
LOCATION:NC
CATEGORIES:Athletics
END:VEVENT
BEGIN:VEVENT
DTSTART;TZID=America/New_York:20251023T190000
DTEND;TZID=America/New_York:20251023T210000
DTSTAMP:20260424T193736
CREATED:20250911T134822Z
LAST-MODIFIED:20250911T134822Z
UID:10003737-1761246000-1761253200@www.faytechcc.edu
SUMMARY:Men's Basketball (Away)
DESCRIPTION:Men’s Basketball is traveling to Sandhills CC for a scrimmage game at 7PM.
URL:https://www.faytechcc.edu/event/mens-basketball-away/
LOCATION:NC
CATEGORIES:Athletics
END:VEVENT
END:VCALENDAR