BEGIN:VCALENDAR
VERSION:2.0
PRODID:-//Fayetteville Technical Community College - ECPv6.15.9//NONSGML v1.0//EN
CALSCALE:GREGORIAN
METHOD:PUBLISH
X-ORIGINAL-URL:https://www.faytechcc.edu
X-WR-CALDESC:Events for Fayetteville Technical Community College
REFRESH-INTERVAL;VALUE=DURATION:PT1H
X-Robots-Tag:noindex
X-PUBLISHED-TTL:PT1H
BEGIN:VTIMEZONE
TZID:America/New_York
BEGIN:DAYLIGHT
TZOFFSETFROM:-0500
TZOFFSETTO:-0400
TZNAME:EDT
DTSTART:20240310T070000
END:DAYLIGHT
BEGIN:STANDARD
TZOFFSETFROM:-0400
TZOFFSETTO:-0500
TZNAME:EST
DTSTART:20241103T060000
END:STANDARD
BEGIN:DAYLIGHT
TZOFFSETFROM:-0500
TZOFFSETTO:-0400
TZNAME:EDT
DTSTART:20250309T070000
END:DAYLIGHT
BEGIN:STANDARD
TZOFFSETFROM:-0400
TZOFFSETTO:-0500
TZNAME:EST
DTSTART:20251102T060000
END:STANDARD
BEGIN:DAYLIGHT
TZOFFSETFROM:-0500
TZOFFSETTO:-0400
TZNAME:EDT
DTSTART:20260308T070000
END:DAYLIGHT
BEGIN:STANDARD
TZOFFSETFROM:-0400
TZOFFSETTO:-0500
TZNAME:EST
DTSTART:20261101T060000
END:STANDARD
END:VTIMEZONE
BEGIN:VEVENT
DTSTART;TZID=America/New_York:20251008T120000
DTEND;TZID=America/New_York:20251008T130000
DTSTAMP:20260425T001551
CREATED:20251001T173339Z
LAST-MODIFIED:20251001T173339Z
UID:10003820-1759924800-1759928400@www.faytechcc.edu
SUMMARY:Calm & Create: Stress-Less Bracelet Workshop
DESCRIPTION:🌿 FTCC Psychology Club Presents 🌿\n✨ Calm & Create: Stress-Less Bracelet Workshop ✨ \n📅 Wednesday\, October 8\, 2025\n🕛 12:00 PM – 1:00 PM\n📍 Cumberland Hall (CUH)\, Room 351 \nReduce Midterm Stress with Mindfulness & Aromatherapy!\nJoin us for a relaxing\, creative workshop where you can: \n🎨 Make your own personalized bracelet infused with soothing aromatherapy oils\n🧘‍♀️ Learn quick\, student-friendly stress management tips\n🤝 Enjoy a calm\, supportive atmosphere before exams\n✅ FREE for FTCC students\n✅ All materials provided\n⚡ Limited to the first 25 students! \n📲 Click the QR code to register today!
URL:https://www.faytechcc.edu/event/calm-create-stress-less-bracelet-workshop/
LOCATION:Cumberland Hall – Room 351\, 2215 Hull Rd.\, Fayetteville\, 28303\, United States
ORGANIZER;CN="FTCC Psychology Club":MAILTO:nancec@faytechcc.edu
END:VEVENT
BEGIN:VEVENT
DTSTART;TZID=America/New_York:20251008T140000
DTEND;TZID=America/New_York:20251008T140000
DTSTAMP:20260425T001551
CREATED:20250915T201738Z
LAST-MODIFIED:20250916T143734Z
UID:10003768-1759932000-1759932000@www.faytechcc.edu
SUMMARY:The Code of Honor: Embracing Ethics in Cybersecurity
DESCRIPTION:📖 The Code of Honor: Embracing Ethics in Cybersecurity is coming to FTCC!\nDr. Paul J. Maurer\, President of Montreat College\, will be visiting FTCC to share a powerful message on ethics in the tech industry. This event is your chance to explore how ethical decision-making plays a key role in cybersecurity and beyond. \n📌 Event Details: \nDate: Wednesday\, October 8\nTime: 2:00 pm\nWhere: FTCC – Tony Rand Student Center\, Room 9 (Multipurpose Room) \n📚 Dr. Maurer will be available for book signings. Copies will also be available at the FTCC bookstore. \n🎉 This event is FREE and open to the public—don’t miss it! \nParking: Please park in the lot located behind the Tony Rand Student Center\, accessible via entrances on Devers Street and Hull Road. The lot is situated between the Student Center and the FTCC Bookstore (2817 Fort Bragg Road\, Fayetteville\, NC 28303
URL:https://www.faytechcc.edu/event/the-code-of-honor-embracing-ethics-in-cybersecurity/
LOCATION:Tony Rand Student Center Multipurpose Room
END:VEVENT
BEGIN:VEVENT
DTSTART;TZID=America/New_York:20251008T183000
DTEND;TZID=America/New_York:20251008T203000
DTSTAMP:20260425T001551
CREATED:20250729T134314Z
LAST-MODIFIED:20250729T134314Z
UID:10003519-1759948200-1759955400@www.faytechcc.edu
SUMMARY:Micro Grant Program: Nonprofit Basics & Funding Strategies
DESCRIPTION:Micro Grant Program: Nonprofit Basics & Funding Strategies\n🗓 Wednesday\, October 8\, 2025\n⏰ 6:30 PM – 8:30 PM (SG)\n📍 General Classroom Building (GCB)\, Room 108\nInterested in starting or growing a nonprofit? This session covers how to form and manage a nonprofit organization\, recruit supporters\, and generate sustainable income through grants\, sponsorships\, and fundraising—perfect for community leaders and aspiring changemakers. Pre-registration is not required.
URL:https://www.faytechcc.edu/event/micro-grant-program-nonprofit-basics-funding-strategies-3/
LOCATION:General classroom building  – Room 108\, 2817 Fort Bragg Rd.\, Fayetteville\, NC\, 28303\, United States
ORGANIZER;CN="FTCC Small Business Center":MAILTO:ftccsbc@faytechcc.edu
END:VEVENT
END:VCALENDAR