BEGIN:VCALENDAR
VERSION:2.0
PRODID:-//Fayetteville Technical Community College - ECPv6.15.9//NONSGML v1.0//EN
CALSCALE:GREGORIAN
METHOD:PUBLISH
X-ORIGINAL-URL:https://www.faytechcc.edu
X-WR-CALDESC:Events for Fayetteville Technical Community College
REFRESH-INTERVAL;VALUE=DURATION:PT1H
X-Robots-Tag:noindex
X-PUBLISHED-TTL:PT1H
BEGIN:VTIMEZONE
TZID:America/New_York
BEGIN:DAYLIGHT
TZOFFSETFROM:-0500
TZOFFSETTO:-0400
TZNAME:EDT
DTSTART:20240310T070000
END:DAYLIGHT
BEGIN:STANDARD
TZOFFSETFROM:-0400
TZOFFSETTO:-0500
TZNAME:EST
DTSTART:20241103T060000
END:STANDARD
BEGIN:DAYLIGHT
TZOFFSETFROM:-0500
TZOFFSETTO:-0400
TZNAME:EDT
DTSTART:20250309T070000
END:DAYLIGHT
BEGIN:STANDARD
TZOFFSETFROM:-0400
TZOFFSETTO:-0500
TZNAME:EST
DTSTART:20251102T060000
END:STANDARD
BEGIN:DAYLIGHT
TZOFFSETFROM:-0500
TZOFFSETTO:-0400
TZNAME:EDT
DTSTART:20260308T070000
END:DAYLIGHT
BEGIN:STANDARD
TZOFFSETFROM:-0400
TZOFFSETTO:-0500
TZNAME:EST
DTSTART:20261101T060000
END:STANDARD
END:VTIMEZONE
BEGIN:VEVENT
DTSTART;TZID=America/New_York:20251006T110000
DTEND;TZID=America/New_York:20251006T140000
DTSTAMP:20260425T001555
CREATED:20250818T165727Z
LAST-MODIFIED:20250818T172724Z
UID:10003582-1759748400-1759759200@www.faytechcc.edu
SUMMARY:Stop and Talk  Cape Fear Valley
DESCRIPTION:Guest Speaker: Cape Fear Valley \nClick the button below for career opportunities at Cape Fear Valley Health. Cape Fear Valley Health Careers
URL:https://www.faytechcc.edu/event/stop-and-talk-7/
LOCATION:Cape Fear Valley School of Nursing\, 2340 Hull Road\, Fayetteville\, NC\, 28303\, United States
CATEGORIES:Career Development Center
END:VEVENT
BEGIN:VEVENT
DTSTART;TZID=America/New_York:20251006T130000
DTEND;TZID=America/New_York:20251006T140000
DTSTAMP:20260425T001555
CREATED:20250909T155333Z
LAST-MODIFIED:20250909T155333Z
UID:10003696-1759755600-1759759200@www.faytechcc.edu
SUMMARY:Parents for Higher Education Club (PFHE) Meeting
DESCRIPTION:The Parents for Higher Education Club (PFHE) focuses on student/parents with children ages birth – 5 years. We have speakers from various organizations and agencies discussing topics relevant to student-parents throughout the semester. \n📅 Date: Mondays\n⏰ Time: 1:00 PM – 2:00 PM\n📍 Location: General Classroom Building (GCB)\, Room 108\n👥 Target Audience: Parents/Students with children ages birth – 5 years. \n  \n 
URL:https://www.faytechcc.edu/event/parents-for-higher-education-club-pfhe-meeting-2/2025-10-06/
LOCATION:General classroom building  – Room 108\, 2817 Fort Bragg Rd.\, Fayetteville\, NC\, 28303\, United States
ORGANIZER;CN="FTCC PFHE":MAILTO:canond@faytechcc.edu
END:VEVENT
END:VCALENDAR