BEGIN:VCALENDAR
VERSION:2.0
PRODID:-//Fayetteville Technical Community College - ECPv6.15.9//NONSGML v1.0//EN
CALSCALE:GREGORIAN
METHOD:PUBLISH
X-WR-CALNAME:Fayetteville Technical Community College
X-ORIGINAL-URL:https://www.faytechcc.edu
X-WR-CALDESC:Events for Fayetteville Technical Community College
REFRESH-INTERVAL;VALUE=DURATION:PT1H
X-Robots-Tag:noindex
X-PUBLISHED-TTL:PT1H
BEGIN:VTIMEZONE
TZID:America/New_York
BEGIN:DAYLIGHT
TZOFFSETFROM:-0500
TZOFFSETTO:-0400
TZNAME:EDT
DTSTART:20240310T070000
END:DAYLIGHT
BEGIN:STANDARD
TZOFFSETFROM:-0400
TZOFFSETTO:-0500
TZNAME:EST
DTSTART:20241103T060000
END:STANDARD
BEGIN:DAYLIGHT
TZOFFSETFROM:-0500
TZOFFSETTO:-0400
TZNAME:EDT
DTSTART:20250309T070000
END:DAYLIGHT
BEGIN:STANDARD
TZOFFSETFROM:-0400
TZOFFSETTO:-0500
TZNAME:EST
DTSTART:20251102T060000
END:STANDARD
BEGIN:DAYLIGHT
TZOFFSETFROM:-0500
TZOFFSETTO:-0400
TZNAME:EDT
DTSTART:20260308T070000
END:DAYLIGHT
BEGIN:STANDARD
TZOFFSETFROM:-0400
TZOFFSETTO:-0500
TZNAME:EST
DTSTART:20261101T060000
END:STANDARD
END:VTIMEZONE
BEGIN:VEVENT
DTSTART;TZID=America/New_York:20251004T080000
DTEND;TZID=America/New_York:20251004T170000
DTSTAMP:20260424T225240
CREATED:20250814T114123Z
LAST-MODIFIED:20250814T114453Z
UID:10003544-1759564800-1759597200@www.faytechcc.edu
SUMMARY:Game Con Raleigh
DESCRIPTION:Other Events\n\n\nDate\nEvent\n\n\n\n\nOctober 4\nGame Con Raleigh\n\n\nOctober 18\nOak City Game Con – Wake Tech Community College\n\n\nNovember 15\nHoliday Bazaar
URL:https://www.faytechcc.edu/event/digital-media-game-development-club-meeting-11/
LOCATION:NC
CATEGORIES:Gaming and Interactive Digital Media Club
END:VEVENT
BEGIN:VEVENT
DTSTART;TZID=America/New_York:20251004T090000
DTEND;TZID=America/New_York:20251004T130000
DTSTAMP:20260424T225240
CREATED:20250819T200353Z
LAST-MODIFIED:20250819T200353Z
UID:10003598-1759568400-1759582800@www.faytechcc.edu
SUMMARY:Baseball (Away)
DESCRIPTION:Baseball is traveling to the University of Mount Olive to play in their fall showcase. They will play Lenoir CC at 9:00AM and Robeson CC at 11:30AM. 
URL:https://www.faytechcc.edu/event/baseball-away-5/
LOCATION:NC
CATEGORIES:Athletics
END:VEVENT
BEGIN:VEVENT
DTSTART;TZID=America/New_York:20251004T100000
DTEND;TZID=America/New_York:20251004T180000
DTSTAMP:20260424T225240
CREATED:20250507T142644Z
LAST-MODIFIED:20250917T134647Z
UID:10003026-1759572000-1759600800@www.faytechcc.edu
SUMMARY:Volleyball (Home)
DESCRIPTION:Volleyball is hosting a conference pod in Horace Sisk Gymnasium. They will play Guilford Tech at 10am and Davidson-Davie at 4pm. All home games are played in Horace Sisk Gymnasium\, and require a $10 admission fee. 
URL:https://www.faytechcc.edu/event/volleyball-home-13/
LOCATION:NC
CATEGORIES:Athletics
END:VEVENT
END:VCALENDAR