BEGIN:VCALENDAR
VERSION:2.0
PRODID:-//Fayetteville Technical Community College - ECPv6.15.9//NONSGML v1.0//EN
CALSCALE:GREGORIAN
METHOD:PUBLISH
X-WR-CALNAME:Fayetteville Technical Community College
X-ORIGINAL-URL:https://www.faytechcc.edu
X-WR-CALDESC:Events for Fayetteville Technical Community College
REFRESH-INTERVAL;VALUE=DURATION:PT1H
X-Robots-Tag:noindex
X-PUBLISHED-TTL:PT1H
BEGIN:VTIMEZONE
TZID:America/New_York
BEGIN:DAYLIGHT
TZOFFSETFROM:-0500
TZOFFSETTO:-0400
TZNAME:EDT
DTSTART:20240310T070000
END:DAYLIGHT
BEGIN:STANDARD
TZOFFSETFROM:-0400
TZOFFSETTO:-0500
TZNAME:EST
DTSTART:20241103T060000
END:STANDARD
BEGIN:DAYLIGHT
TZOFFSETFROM:-0500
TZOFFSETTO:-0400
TZNAME:EDT
DTSTART:20250309T070000
END:DAYLIGHT
BEGIN:STANDARD
TZOFFSETFROM:-0400
TZOFFSETTO:-0500
TZNAME:EST
DTSTART:20251102T060000
END:STANDARD
BEGIN:DAYLIGHT
TZOFFSETFROM:-0500
TZOFFSETTO:-0400
TZNAME:EDT
DTSTART:20260308T070000
END:DAYLIGHT
BEGIN:STANDARD
TZOFFSETFROM:-0400
TZOFFSETTO:-0500
TZNAME:EST
DTSTART:20261101T060000
END:STANDARD
END:VTIMEZONE
BEGIN:VEVENT
DTSTART;TZID=America/New_York:20250927T140000
DTEND;TZID=America/New_York:20250927T180000
DTSTAMP:20260424T090852
CREATED:20250507T142311Z
LAST-MODIFIED:20250507T142311Z
UID:10003023-1758981600-1758996000@www.faytechcc.edu
SUMMARY:Volleyball (Away)
DESCRIPTION:Volleyball is traveling to Southwest Virginia CC to play a tri-match. They will play Cleveland CC at 2pm and Southwest Virginia CC at 4pm for conference matches. 
URL:https://www.faytechcc.edu/event/volleyball-away-8/
LOCATION:NC
CATEGORIES:Athletics
END:VEVENT
BEGIN:VEVENT
DTSTART;TZID=America/New_York:20250927T143000
DTEND;TZID=America/New_York:20250927T163000
DTSTAMP:20260424T090852
CREATED:20250918T192248Z
LAST-MODIFIED:20250918T192534Z
UID:10003772-1758983400-1758990600@www.faytechcc.edu
SUMMARY:Basics of Bookkeeping
DESCRIPTION:📊 Basics of Bookkeeping Webinar\nHosted by the FTCC Small Business Center\n📅 Date: Saturday\, September 27\, 2025\n⏰ Time: 2:30 PM – 4:30 PM\n🎤 Presenter: Alicia Herrin \nLearn the essentials of bookkeeping to better manage your business finances. Whether you’re just starting out or need a refresher\, this session will cover the fundamental principles every business owner should know. \n👉 Register here!
URL:https://www.faytechcc.edu/event/basics-of-bookkeeping/
LOCATION:Virtual Event
ORGANIZER;CN="FTCC Small Business Center":MAILTO:ftccsbc@faytechcc.edu
END:VEVENT
BEGIN:VEVENT
DTSTART;TZID=America/New_York:20250927T150000
DTEND;TZID=America/New_York:20250927T190000
DTSTAMP:20260424T090852
CREATED:20250908T133804Z
LAST-MODIFIED:20250926T122154Z
UID:10003689-1758985200-1758999600@www.faytechcc.edu
SUMMARY:Cancelled: Softball (Away)
DESCRIPTION:These games have been cancelled due to weather. \nSoftball is traveling to Cary\, NC to play in the NC Challengers Collegiate Fall Invitational. They will face Lees McRea at 3:15PM and will then play Lees McRea JV at 5:45PM.
URL:https://www.faytechcc.edu/event/softball-away-22/
LOCATION:NC
CATEGORIES:Athletics
END:VEVENT
END:VCALENDAR