BEGIN:VCALENDAR
VERSION:2.0
PRODID:-//Fayetteville Technical Community College - ECPv6.15.9//NONSGML v1.0//EN
CALSCALE:GREGORIAN
METHOD:PUBLISH
X-WR-CALNAME:Fayetteville Technical Community College
X-ORIGINAL-URL:https://www.faytechcc.edu
X-WR-CALDESC:Events for Fayetteville Technical Community College
REFRESH-INTERVAL;VALUE=DURATION:PT1H
X-Robots-Tag:noindex
X-PUBLISHED-TTL:PT1H
BEGIN:VTIMEZONE
TZID:America/New_York
BEGIN:DAYLIGHT
TZOFFSETFROM:-0500
TZOFFSETTO:-0400
TZNAME:EDT
DTSTART:20240310T070000
END:DAYLIGHT
BEGIN:STANDARD
TZOFFSETFROM:-0400
TZOFFSETTO:-0500
TZNAME:EST
DTSTART:20241103T060000
END:STANDARD
BEGIN:DAYLIGHT
TZOFFSETFROM:-0500
TZOFFSETTO:-0400
TZNAME:EDT
DTSTART:20250309T070000
END:DAYLIGHT
BEGIN:STANDARD
TZOFFSETFROM:-0400
TZOFFSETTO:-0500
TZNAME:EST
DTSTART:20251102T060000
END:STANDARD
BEGIN:DAYLIGHT
TZOFFSETFROM:-0500
TZOFFSETTO:-0400
TZNAME:EDT
DTSTART:20260308T070000
END:DAYLIGHT
BEGIN:STANDARD
TZOFFSETFROM:-0400
TZOFFSETTO:-0500
TZNAME:EST
DTSTART:20261101T060000
END:STANDARD
END:VTIMEZONE
BEGIN:VEVENT
DTSTART;TZID=America/New_York:20250922T110000
DTEND;TZID=America/New_York:20250922T140000
DTSTAMP:20260424T003622
CREATED:20250818T165317Z
LAST-MODIFIED:20250818T172751Z
UID:10003579-1758538800-1758549600@www.faytechcc.edu
SUMMARY:Stop and Talk  ECU Health
DESCRIPTION:Guest Speaker: ECU Health \nClick the button below for career opportunities at ECU Health. ECU Health Careers
URL:https://www.faytechcc.edu/event/stop-and-talk-4/
LOCATION:Cape Fear Valley School of Nursing\, 2340 Hull Road\, Fayetteville\, NC\, 28303\, United States
CATEGORIES:Career Development Center
END:VEVENT
BEGIN:VEVENT
DTSTART;TZID=America/New_York:20250922T130000
DTEND;TZID=America/New_York:20250922T140000
DTSTAMP:20260424T003622
CREATED:20250909T155333Z
LAST-MODIFIED:20250909T155333Z
UID:10003694-1758546000-1758549600@www.faytechcc.edu
SUMMARY:Parents for Higher Education Club (PFHE) Meeting
DESCRIPTION:The Parents for Higher Education Club (PFHE) focuses on student/parents with children ages birth – 5 years. We have speakers from various organizations and agencies discussing topics relevant to student-parents throughout the semester. \n📅 Date: Mondays\n⏰ Time: 1:00 PM – 2:00 PM\n📍 Location: General Classroom Building (GCB)\, Room 108\n👥 Target Audience: Parents/Students with children ages birth – 5 years. \n  \n 
URL:https://www.faytechcc.edu/event/parents-for-higher-education-club-pfhe-meeting-2/2025-09-22/
LOCATION:General classroom building  – Room 108\, 2817 Fort Bragg Rd.\, Fayetteville\, NC\, 28303\, United States
ORGANIZER;CN="FTCC PFHE":MAILTO:canond@faytechcc.edu
END:VEVENT
BEGIN:VEVENT
DTSTART;TZID=America/New_York:20250922T150000
DTEND;TZID=America/New_York:20250922T160000
DTSTAMP:20260424T003622
CREATED:20250917T124534Z
LAST-MODIFIED:20250917T124534Z
UID:10003769-1758553200-1758556800@www.faytechcc.edu
SUMMARY:Master Derivatives at Our Power Chain Workshop
DESCRIPTION:Are derivatives giving you a hard time? \nDon’t worry—we’ve got you covered! Join us for Derivative Dynamos: Power Chain & Beyond!!!—an engaging workshop designed to help you tackle derivatives with confidence. \n📌 Event Details: \nWhat: A Derivative Workshop\nWhere: Library\, Room 117\nWho: Presented by Harvey Marrow\, Student Learning Center Instructor\nWhen: Monday\, September 22nd\nTime: 3:00 pm – 4:00 pm\nCome learn about derivatives\, discover tips to master the topic\, and enjoy some free snacks while you’re at it! \n👉 Sign up today by scanning the QR code on the flyer.
URL:https://www.faytechcc.edu/event/master-derivatives-at-our-power-chain-workshop/
LOCATION:Paul H. Thompson Library\, Room 117\, 2221 Hull Road\, Fayetteville\, NC\, 28303\, United States
ORGANIZER;CN="FTCC Student Learning Center":MAILTO:harrisbr@faytechcc.edu
END:VEVENT
END:VCALENDAR