BEGIN:VCALENDAR
VERSION:2.0
PRODID:-//Fayetteville Technical Community College - ECPv6.15.9//NONSGML v1.0//EN
CALSCALE:GREGORIAN
METHOD:PUBLISH
X-ORIGINAL-URL:https://www.faytechcc.edu
X-WR-CALDESC:Events for Fayetteville Technical Community College
REFRESH-INTERVAL;VALUE=DURATION:PT1H
X-Robots-Tag:noindex
X-PUBLISHED-TTL:PT1H
BEGIN:VTIMEZONE
TZID:America/New_York
BEGIN:DAYLIGHT
TZOFFSETFROM:-0500
TZOFFSETTO:-0400
TZNAME:EDT
DTSTART:20240310T070000
END:DAYLIGHT
BEGIN:STANDARD
TZOFFSETFROM:-0400
TZOFFSETTO:-0500
TZNAME:EST
DTSTART:20241103T060000
END:STANDARD
BEGIN:DAYLIGHT
TZOFFSETFROM:-0500
TZOFFSETTO:-0400
TZNAME:EDT
DTSTART:20250309T070000
END:DAYLIGHT
BEGIN:STANDARD
TZOFFSETFROM:-0400
TZOFFSETTO:-0500
TZNAME:EST
DTSTART:20251102T060000
END:STANDARD
BEGIN:DAYLIGHT
TZOFFSETFROM:-0500
TZOFFSETTO:-0400
TZNAME:EDT
DTSTART:20260308T070000
END:DAYLIGHT
BEGIN:STANDARD
TZOFFSETFROM:-0400
TZOFFSETTO:-0500
TZNAME:EST
DTSTART:20261101T060000
END:STANDARD
END:VTIMEZONE
BEGIN:VEVENT
DTSTART;TZID=America/New_York:20250919T140000
DTEND;TZID=America/New_York:20250919T150000
DTSTAMP:20260423T051125
CREATED:20250908T201725Z
LAST-MODIFIED:20250908T201725Z
UID:10003691-1758290400-1758294000@www.faytechcc.edu
SUMMARY:VA Education Information Session
DESCRIPTION:Are you planning to use VA education benefits at FTCC? \nThe All-American Veteran Center is hosting a VA Benefits Information Session for all new and returning students who may have questions. Food will be served. \n📅 Date: Friday\, September 19\, 2025\n⏰ Time: 2:00 PM – 3:00 PM \n📍 Location: General Classroom Building (GCB)\, Room 108\n👥 Target Audience: Students
URL:https://www.faytechcc.edu/event/va-education-information-session-2/2025-09-19/
LOCATION:General classroom building  – Room 108\, 2817 Fort Bragg Rd.\, Fayetteville\, NC\, 28303\, United States
ORGANIZER;CN="FTCC Military/Veterans Programs":MAILTO:vso@faytechcc.edu
END:VEVENT
BEGIN:VEVENT
DTSTART;TZID=America/New_York:20250919T150000
DTEND;TZID=America/New_York:20250919T193000
DTSTAMP:20260423T051125
CREATED:20250819T195910Z
LAST-MODIFIED:20250819T195910Z
UID:10003594-1758294000-1758310200@www.faytechcc.edu
SUMMARY:Baseball (Away)
DESCRIPTION:Baseball is traveling to Hickory\, NC to play in the Lenoir-Rhyne University Showcase. They will play Caldwell CC at 3:00PM and Rockingham CC at 5:30PM. 
URL:https://www.faytechcc.edu/event/baseball-away-3/
LOCATION:NC
CATEGORIES:Athletics
END:VEVENT
END:VCALENDAR