BEGIN:VCALENDAR
VERSION:2.0
PRODID:-//Fayetteville Technical Community College - ECPv6.15.9//NONSGML v1.0//EN
CALSCALE:GREGORIAN
METHOD:PUBLISH
X-ORIGINAL-URL:https://www.faytechcc.edu
X-WR-CALDESC:Events for Fayetteville Technical Community College
REFRESH-INTERVAL;VALUE=DURATION:PT1H
X-Robots-Tag:noindex
X-PUBLISHED-TTL:PT1H
BEGIN:VTIMEZONE
TZID:America/New_York
BEGIN:DAYLIGHT
TZOFFSETFROM:-0500
TZOFFSETTO:-0400
TZNAME:EDT
DTSTART:20240310T070000
END:DAYLIGHT
BEGIN:STANDARD
TZOFFSETFROM:-0400
TZOFFSETTO:-0500
TZNAME:EST
DTSTART:20241103T060000
END:STANDARD
BEGIN:DAYLIGHT
TZOFFSETFROM:-0500
TZOFFSETTO:-0400
TZNAME:EDT
DTSTART:20250309T070000
END:DAYLIGHT
BEGIN:STANDARD
TZOFFSETFROM:-0400
TZOFFSETTO:-0500
TZNAME:EST
DTSTART:20251102T060000
END:STANDARD
BEGIN:DAYLIGHT
TZOFFSETFROM:-0500
TZOFFSETTO:-0400
TZNAME:EDT
DTSTART:20260308T070000
END:DAYLIGHT
BEGIN:STANDARD
TZOFFSETFROM:-0400
TZOFFSETTO:-0500
TZNAME:EST
DTSTART:20261101T060000
END:STANDARD
END:VTIMEZONE
BEGIN:VEVENT
DTSTART;TZID=America/New_York:20250918T100000
DTEND;TZID=America/New_York:20250918T140000
DTSTAMP:20260423T201250
CREATED:20250912T200201Z
LAST-MODIFIED:20250915T134202Z
UID:10003767-1758189600-1758204000@www.faytechcc.edu
SUMMARY:College Transfer Day
DESCRIPTION:College Transfer Day\nPresented by University Outreach\n📅 Thursday\, September 18\n⏰ 10:00 AM – 2:00 PM\n📍 Front Lawn\, Tony Rand Student Center \nMeet representatives from a variety of universities and get answers to your transfer questions! \nLearn about transfer policies\, financial aid\, and application procedures\nAsk about competitive programs\, scholarships\, and application deadlines\n📩 Contact: nelsonl@faytechcc.edu | ☎️ (910) 678-8205
URL:https://www.faytechcc.edu/event/college-transfer-day-2/
LOCATION:Tony Rand Student Center – Front Lawn\, 2220 Hull Rd.\, Fayetteville\, NC\, 28303\, United States
ORGANIZER;CN="University Outreach":MAILTO:nelsonl@faytechcc.edu
END:VEVENT
BEGIN:VEVENT
DTSTART;TZID=America/New_York:20250918T103000
DTEND;TZID=America/New_York:20250918T123000
DTSTAMP:20260423T201250
CREATED:20250814T153908Z
LAST-MODIFIED:20250904T185839Z
UID:10003548-1758191400-1758198600@www.faytechcc.edu
SUMMARY:Career Development Center Pop Up Event
DESCRIPTION:Click on the image to view PDF version. \n 
URL:https://www.faytechcc.edu/event/career-development-center-pop-up-event-3/
LOCATION:NC
CATEGORIES:Career Development Center
END:VEVENT
BEGIN:VEVENT
DTSTART;TZID=America/New_York:20250918T110000
DTEND;TZID=America/New_York:20250918T140000
DTSTAMP:20260423T201250
CREATED:20250818T165252Z
LAST-MODIFIED:20250818T172759Z
UID:10003578-1758193200-1758204000@www.faytechcc.edu
SUMMARY:Stop and Talk  Cape Fear Valley
DESCRIPTION:Guest Speaker: Cape Fear Valley \nClick the button below for career opportunities at Cape Fear Valley Health. Cape Fear Valley Health Careers
URL:https://www.faytechcc.edu/event/stop-and-talk-3/
LOCATION:Cape Fear Valley School of Nursing\, 2340 Hull Road\, Fayetteville\, NC\, 28303\, United States
CATEGORIES:Career Development Center
END:VEVENT
BEGIN:VEVENT
DTSTART;TZID=America/New_York:20250918T110000
DTEND;TZID=America/New_York:20250918T140000
DTSTAMP:20260423T201250
CREATED:20250902T210316Z
LAST-MODIFIED:20250902T210316Z
UID:10003655-1758193200-1758204000@www.faytechcc.edu
SUMMARY:Fall Festival on the lawn outside of student center
DESCRIPTION:
URL:https://www.faytechcc.edu/event/fall-festival-on-the-lawn-outside-of-student-center/
LOCATION:Tony Rand Student Center – Front Lawn\, 2220 Hull Rd.\, Fayetteville\, NC\, 28303\, United States
END:VEVENT
BEGIN:VEVENT
DTSTART;TZID=America/New_York:20250918T110000
DTEND;TZID=America/New_York:20250918T140000
DTSTAMP:20260423T201250
CREATED:20250910T201235Z
LAST-MODIFIED:20250910T201235Z
UID:10003736-1758193200-1758204000@www.faytechcc.edu
SUMMARY:FTCC Fall Festival
DESCRIPTION:FTCC Student Activities presents Fall Festival. Enjoy snacks and games\, meet representatives from FTCC’s clubs and organizations\, and engage with university recruiters.
URL:https://www.faytechcc.edu/event/ftcc-fall-festival-2/
LOCATION:Tony Rand Student Center LAWN
END:VEVENT
BEGIN:VEVENT
DTSTART;TZID=America/New_York:20250918T120000
DTEND;TZID=America/New_York:20250918T130000
DTSTAMP:20260423T201250
CREATED:20250912T131854Z
LAST-MODIFIED:20250912T131937Z
UID:10003662-1758196800-1758200400@www.faytechcc.edu
SUMMARY:Future Business Leaders of America (FBLA)
DESCRIPTION:Future Business Leaders of America (FBLA)\n📅 1st & 3rd Thursdays | 🕛 12:00 PM\n📍 Cumberland Hall (CUH)\, Room 351 \nMake your mark with FBLA! Join us to: \nLead a team and build your personal brand\nGain volunteer experience to strengthen your resume\nNetwork with peers and professionals\nConnect with mentors in your career field\nLearn and apply fundraising principles\nCompete at the State and National level
URL:https://www.faytechcc.edu/event/future-business-leaders-of-america-fbla-2/2025-09-18/
LOCATION:Cumberland Hall – Room 351\, 2215 Hull Rd.\, Fayetteville\, 28303\, United States
ORGANIZER;CN="FTCC FBLA Club":MAILTO:fbla@faytechcc.edu
END:VEVENT
BEGIN:VEVENT
DTSTART;TZID=America/New_York:20250918T140000
DTEND;TZID=America/New_York:20250918T153000
DTSTAMP:20260423T201250
CREATED:20250902T120726Z
LAST-MODIFIED:20250902T120726Z
UID:10003647-1758204000-1758209400@www.faytechcc.edu
SUMMARY:ABCs of Starting a Small Business on a Limited Budget
DESCRIPTION:ABCs of Starting a Small Business on a Limited Budget\n📅 Thursday\, September 18\, 2025\n⏰ 2:00 PM – 3:30 PM\n📍 Online Webinar \nLearn the essentials of starting a small business and discover proven strategies for launching on a limited budget. Starting a business has never been more accessible—with support available from local banks\, government programs\, and community resources\, your success is within reach. \n🔗 Register Here
URL:https://www.faytechcc.edu/event/abcs-of-starting-a-small-business-on-a-limited-budget/
LOCATION:Virtual Event
ORGANIZER;CN="FTCC Small Business Center":MAILTO:ftccsbc@faytechcc.edu
END:VEVENT
BEGIN:VEVENT
DTSTART;TZID=America/New_York:20250918T150000
DTEND;TZID=America/New_York:20250918T160000
DTSTAMP:20260423T201250
CREATED:20250902T122852Z
LAST-MODIFIED:20250902T122852Z
UID:10003652-1758207600-1758211200@www.faytechcc.edu
SUMMARY:Association of Students for Social Justice Club (ASSJ) Meeting
DESCRIPTION: Join the Social Justice Club!\nStudents\, faculty\, and staff are invited to get involved as we plan our next community projects. \n📅 Thursday\, September 04 and September 18\, 2025\n⏰ 3:00 PM – 4:00 PM\n📍 Cumberland Hall\, Room 340 or Online (scan QR code on flyer) \n \n 
URL:https://www.faytechcc.edu/event/association-of-students-for-social-justice-club-assj-meeting/2025-09-18/
LOCATION:Cumberland Hall (CUH)\, Room 340\, 2215 Hull Road\, Fayetteville\, NC\, 28303\, United States
ORGANIZER;CN="FTCC Association of Students for Social Justice Club":MAILTO:collinsp@faytechcc.edu
END:VEVENT
BEGIN:VEVENT
DTSTART;TZID=America/New_York:20250918T183000
DTEND;TZID=America/New_York:20250918T200000
DTSTAMP:20260423T201250
CREATED:20250902T120958Z
LAST-MODIFIED:20250902T121028Z
UID:10003648-1758220200-1758225600@www.faytechcc.edu
SUMMARY:ABCs of Starting a Small Business on a Limited Budget
DESCRIPTION:ABCs of Starting a Small Business on a Limited Budget\n📅 Thursday\, September 18\, 2025\n⏰ 6:30 PM – 8:00 PM\n📍 Online Webinar \nLearn the essentials of starting a small business and discover proven strategies for launching on a limited budget. Starting a business has never been more accessible—with support available from local banks\, government programs\, and community resources\, your success is within reach. \n🔗 Register Here
URL:https://www.faytechcc.edu/event/abcs-of-starting-a-small-business-on-a-limited-budget-2/
LOCATION:Virtual Event
ORGANIZER;CN="FTCC Small Business Center":MAILTO:ftccsbc@faytechcc.edu
END:VEVENT
END:VCALENDAR