BEGIN:VCALENDAR
VERSION:2.0
PRODID:-//Fayetteville Technical Community College - ECPv6.15.9//NONSGML v1.0//EN
CALSCALE:GREGORIAN
METHOD:PUBLISH
X-ORIGINAL-URL:https://www.faytechcc.edu
X-WR-CALDESC:Events for Fayetteville Technical Community College
REFRESH-INTERVAL;VALUE=DURATION:PT1H
X-Robots-Tag:noindex
X-PUBLISHED-TTL:PT1H
BEGIN:VTIMEZONE
TZID:America/New_York
BEGIN:DAYLIGHT
TZOFFSETFROM:-0500
TZOFFSETTO:-0400
TZNAME:EDT
DTSTART:20240310T070000
END:DAYLIGHT
BEGIN:STANDARD
TZOFFSETFROM:-0400
TZOFFSETTO:-0500
TZNAME:EST
DTSTART:20241103T060000
END:STANDARD
BEGIN:DAYLIGHT
TZOFFSETFROM:-0500
TZOFFSETTO:-0400
TZNAME:EDT
DTSTART:20250309T070000
END:DAYLIGHT
BEGIN:STANDARD
TZOFFSETFROM:-0400
TZOFFSETTO:-0500
TZNAME:EST
DTSTART:20251102T060000
END:STANDARD
BEGIN:DAYLIGHT
TZOFFSETFROM:-0500
TZOFFSETTO:-0400
TZNAME:EDT
DTSTART:20260308T070000
END:DAYLIGHT
BEGIN:STANDARD
TZOFFSETFROM:-0400
TZOFFSETTO:-0500
TZNAME:EST
DTSTART:20261101T060000
END:STANDARD
END:VTIMEZONE
BEGIN:VEVENT
DTSTART;TZID=America/New_York:20250917T090000
DTEND;TZID=America/New_York:20250917T160000
DTSTAMP:20260423T051100
CREATED:20250815T184811Z
LAST-MODIFIED:20250912T134100Z
UID:10002082-1758099600-1758124800@www.faytechcc.edu
SUMMARY:Free Haircuts!
DESCRIPTION:Need a haircut? Want a new style? FTCC’s barbering students will be offering free cuts from 9am to 4pm in the Barbering Department in CEC 150 on Wednesday\, Oct. 16. Come on down!
URL:https://www.faytechcc.edu/event/free-haircuts-2-3/2025-09-17/
LOCATION:Continuing Education Building\, Room 150\, 220 Hull Road\, Fayetteville\, NC\, 28303\, United States
CATEGORIES:Public Presentation,Students
END:VEVENT
BEGIN:VEVENT
DTSTART;TZID=America/New_York:20250917T120000
DTEND;TZID=America/New_York:20250917T130000
DTSTAMP:20260423T051100
CREATED:20250725T171749Z
LAST-MODIFIED:20250725T171749Z
UID:10003507-1758110400-1758114000@www.faytechcc.edu
SUMMARY:Student Veterans of America (SVA) Meeting
DESCRIPTION:Join us for an insightful session with April Riley\, who will lead a discussion on Chapter 31 Veteran Readiness & Employment (VR&E) — a key resource for student veterans navigating education and career goals. After the presentation\, we’ll hold a club planning session where your voice matters! Help us shape events\, initiatives\, and goals for this semester. Whether you’re using Chapter 31 benefits or want to learn more\, this is a valuable opportunity to get informed and involved. We look forward to seeing you there! \n📅 Date: Wednesday\, September 17\, 2025\n⏰ Time: 12:00 PM – 1:00 PM\n📍 Location: General Classroom Building (GCB)\, Room 222\n👥 Target Audience: Veterans
URL:https://www.faytechcc.edu/event/student-veterans-of-america-sva-meeting/
LOCATION:General Classroom Building – Room 222\, 2817 Fort Bragg Road\, Fayetteville
ORGANIZER;CN="FTCC Student Veterans of America":MAILTO:newmanr@faytechcc.edu
END:VEVENT
BEGIN:VEVENT
DTSTART;TZID=America/New_York:20250917T120000
DTEND;TZID=America/New_York:20250917T130000
DTSTAMP:20260423T051100
CREATED:20250902T132816Z
LAST-MODIFIED:20250902T132816Z
UID:10003653-1758110400-1758114000@www.faytechcc.edu
SUMMARY:SBC Roundtable Meeting
DESCRIPTION:SBC Roundtable Meeting\n📅 Wednesday\, September 17\, 2025\n⏰ 12:00 PM – 1:00 PM\n📍 General Classroom Building (GCB)\, Room 205 \nJoin the FTCC SBC to discuss strategies for hiring\, retention\, and employee engagement while connecting with local entrepreneurs to share insights\, exchange solutions\, and grow together in a supportive community. \n🔗 Register Here
URL:https://www.faytechcc.edu/event/sbc-roundtable-meeting/
LOCATION:General Classroom building – Room 205\, 2817 Fort Bragg Rd.\, Fayetteville\, NC\, 28303\, United States
ORGANIZER;CN="FTCC Small Business Center":MAILTO:ftccsbc@faytechcc.edu
END:VEVENT
END:VCALENDAR