BEGIN:VCALENDAR
VERSION:2.0
PRODID:-//Fayetteville Technical Community College - ECPv6.15.9//NONSGML v1.0//EN
CALSCALE:GREGORIAN
METHOD:PUBLISH
X-ORIGINAL-URL:https://www.faytechcc.edu
X-WR-CALDESC:Events for Fayetteville Technical Community College
REFRESH-INTERVAL;VALUE=DURATION:PT1H
X-Robots-Tag:noindex
X-PUBLISHED-TTL:PT1H
BEGIN:VTIMEZONE
TZID:America/New_York
BEGIN:DAYLIGHT
TZOFFSETFROM:-0500
TZOFFSETTO:-0400
TZNAME:EDT
DTSTART:20240310T070000
END:DAYLIGHT
BEGIN:STANDARD
TZOFFSETFROM:-0400
TZOFFSETTO:-0500
TZNAME:EST
DTSTART:20241103T060000
END:STANDARD
BEGIN:DAYLIGHT
TZOFFSETFROM:-0500
TZOFFSETTO:-0400
TZNAME:EDT
DTSTART:20250309T070000
END:DAYLIGHT
BEGIN:STANDARD
TZOFFSETFROM:-0400
TZOFFSETTO:-0500
TZNAME:EST
DTSTART:20251102T060000
END:STANDARD
BEGIN:DAYLIGHT
TZOFFSETFROM:-0500
TZOFFSETTO:-0400
TZNAME:EDT
DTSTART:20260308T070000
END:DAYLIGHT
BEGIN:STANDARD
TZOFFSETFROM:-0400
TZOFFSETTO:-0500
TZNAME:EST
DTSTART:20261101T060000
END:STANDARD
END:VTIMEZONE
BEGIN:VEVENT
DTSTART;TZID=America/New_York:20250916T110000
DTEND;TZID=America/New_York:20250916T140000
DTSTAMP:20260423T201249
CREATED:20250820T122919Z
LAST-MODIFIED:20250820T122953Z
UID:10003603-1758020400-1758031200@www.faytechcc.edu
SUMMARY:Stop and Talk  Sampson Regional Medical Center
DESCRIPTION:Guest Speaker: Sampson Regional Medical Center \nClick the button below for career opportunities at Sampson Regional Medical Center. Sampson Regional Medical Careers
URL:https://www.faytechcc.edu/event/stop-and-talk-sampson-regional-medical-center/
LOCATION:NC
CATEGORIES:Career Development Center
END:VEVENT
BEGIN:VEVENT
DTSTART;TZID=America/New_York:20250916T120000
DTEND;TZID=America/New_York:20250916T130000
DTSTAMP:20260423T201249
CREATED:20250825T203918Z
LAST-MODIFIED:20250825T204202Z
UID:10003620-1758024000-1758027600@www.faytechcc.edu
SUMMARY:Toastmasters Meeting
DESCRIPTION:🗣️ Join Toastmasters at FTCC!\n📅 When: Every Tuesday\, 12:00 PM – 1:00 PM\n📍 Where: CBI 134\n🎤 Want to improve your public speaking and leadership skills? FTCC Toastmasters is open to all faculty\, staff\, and students. \n🤝 This is a welcoming forum where you can build confidence\, develop communication skills\, and connect with others. Meetings will start September 02\, 2025\, and continue through December 9\, 2025. \n✅ No experience needed — just bring your voice and a willingness to grow!
URL:https://www.faytechcc.edu/event/toastmasters-meeting-3/2025-09-16/
LOCATION:CBI 134\, 2733 Fort Bragg Road\, Fayetteville\, NC\, 28303\, United States
ORGANIZER;CN="FTCC Toastmasters Chapter":MAILTO:hicksc@faytechcc.edu
END:VEVENT
BEGIN:VEVENT
DTSTART;TZID=America/New_York:20250916T120000
DTEND;TZID=America/New_York:20250916T133000
DTSTAMP:20260423T201249
CREATED:20250814T155846Z
LAST-MODIFIED:20250814T155846Z
UID:10003561-1758024000-1758029400@www.faytechcc.edu
SUMMARY:Seekers Fellowship Christian Club
DESCRIPTION:Join us as we kick off our weekly meetings starting Tuesday\, August 19\, 2025!\n🗓 When: Every Tuesday\, 12:00 PM – 1:30 PM\n📍 Where: Cumberland Hall\, Room 360\nAll are welcome—come for fellowship\, encouragement\, and meaningful conversations!
URL:https://www.faytechcc.edu/event/seekers-fellowship-christian-club-2/2025-09-16/
LOCATION:Cumberland Hall Auditorium\, Room 360\, 2215 Hull Road\, Fayetteville\, NC\, 28303\, United States
ORGANIZER;CN="FTCC Seekers Fellowship Club":MAILTO:abrahamn@faytechcc.edu
END:VEVENT
BEGIN:VEVENT
DTSTART;TZID=America/New_York:20250916T150000
DTEND;TZID=America/New_York:20250916T180000
DTSTAMP:20260423T201249
CREATED:20250819T195401Z
LAST-MODIFIED:20250819T195401Z
UID:10003592-1758034800-1758045600@www.faytechcc.edu
SUMMARY:Baseball (Home)
DESCRIPTION:Baseball is hosting Pro 5 in a single game at 3:00PM. All fall games are free admission and played at JP Riddle Stadium: 2823 Legion Rd. 
URL:https://www.faytechcc.edu/event/baseball-home-4/
LOCATION:NC
END:VEVENT
BEGIN:VEVENT
DTSTART;TZID=America/New_York:20250916T150000
DTEND;TZID=America/New_York:20250916T180000
DTSTAMP:20260423T201249
CREATED:20250819T195750Z
LAST-MODIFIED:20250916T143747Z
UID:10003593-1758034800-1758045600@www.faytechcc.edu
SUMMARY:Baseball (Home)
DESCRIPTION:Baseball is hosting Pro 5 in a single game at 3:00PM. All fall games are played at JP Riddle Stadium: 2823 Legion Rd.
URL:https://www.faytechcc.edu/event/baseball-home-5/
LOCATION:NC
CATEGORIES:Athletics
END:VEVENT
BEGIN:VEVENT
DTSTART;TZID=America/New_York:20250916T180000
DTEND;TZID=America/New_York:20250916T200000
DTSTAMP:20260423T201249
CREATED:20250507T141845Z
LAST-MODIFIED:20250916T140800Z
UID:10003019-1758045600-1758052800@www.faytechcc.edu
SUMMARY:Volleyball (Home)
DESCRIPTION:Volleyball is hosting Lenoir CC for a nonconference game at 6pm. All home games are played in Horace Sisk Gymnasium\, and require a $10 admission fee.
URL:https://www.faytechcc.edu/event/volleyball-home/
LOCATION:NC
CATEGORIES:Athletics
END:VEVENT
END:VCALENDAR