BEGIN:VCALENDAR
VERSION:2.0
PRODID:-//Fayetteville Technical Community College - ECPv6.15.9//NONSGML v1.0//EN
CALSCALE:GREGORIAN
METHOD:PUBLISH
X-ORIGINAL-URL:https://www.faytechcc.edu
X-WR-CALDESC:Events for Fayetteville Technical Community College
REFRESH-INTERVAL;VALUE=DURATION:PT1H
X-Robots-Tag:noindex
X-PUBLISHED-TTL:PT1H
BEGIN:VTIMEZONE
TZID:America/New_York
BEGIN:DAYLIGHT
TZOFFSETFROM:-0500
TZOFFSETTO:-0400
TZNAME:EDT
DTSTART:20240310T070000
END:DAYLIGHT
BEGIN:STANDARD
TZOFFSETFROM:-0400
TZOFFSETTO:-0500
TZNAME:EST
DTSTART:20241103T060000
END:STANDARD
BEGIN:DAYLIGHT
TZOFFSETFROM:-0500
TZOFFSETTO:-0400
TZNAME:EDT
DTSTART:20250309T070000
END:DAYLIGHT
BEGIN:STANDARD
TZOFFSETFROM:-0400
TZOFFSETTO:-0500
TZNAME:EST
DTSTART:20251102T060000
END:STANDARD
BEGIN:DAYLIGHT
TZOFFSETFROM:-0500
TZOFFSETTO:-0400
TZNAME:EDT
DTSTART:20260308T070000
END:DAYLIGHT
BEGIN:STANDARD
TZOFFSETFROM:-0400
TZOFFSETTO:-0500
TZNAME:EST
DTSTART:20261101T060000
END:STANDARD
END:VTIMEZONE
BEGIN:VEVENT
DTSTART;TZID=America/New_York:20250902T103000
DTEND;TZID=America/New_York:20250902T123000
DTSTAMP:20260421T140929
CREATED:20250814T153840Z
LAST-MODIFIED:20250904T185929Z
UID:10003547-1756809000-1756816200@www.faytechcc.edu
SUMMARY:Career Development Center Pop Up Event
DESCRIPTION:Click on the image to view PDF version. \n 
URL:https://www.faytechcc.edu/event/career-development-center-pop-up-event-2/
LOCATION:Advanced Technology Center\, 2300 Hull Road\, Fayetteville\, NC\, 28303\, United States
CATEGORIES:Career Development Center
END:VEVENT
BEGIN:VEVENT
DTSTART;TZID=America/New_York:20250902T120000
DTEND;TZID=America/New_York:20250902T130000
DTSTAMP:20260421T140929
CREATED:20250825T203918Z
LAST-MODIFIED:20250825T204202Z
UID:10003618-1756814400-1756818000@www.faytechcc.edu
SUMMARY:Toastmasters Meeting
DESCRIPTION:🗣️ Join Toastmasters at FTCC!\n📅 When: Every Tuesday\, 12:00 PM – 1:00 PM\n📍 Where: CBI 134\n🎤 Want to improve your public speaking and leadership skills? FTCC Toastmasters is open to all faculty\, staff\, and students. \n🤝 This is a welcoming forum where you can build confidence\, develop communication skills\, and connect with others. Meetings will start September 02\, 2025\, and continue through December 9\, 2025. \n✅ No experience needed — just bring your voice and a willingness to grow!
URL:https://www.faytechcc.edu/event/toastmasters-meeting-3/2025-09-02/
LOCATION:CBI 134\, 2733 Fort Bragg Road\, Fayetteville\, NC\, 28303\, United States
ORGANIZER;CN="FTCC Toastmasters Chapter":MAILTO:hicksc@faytechcc.edu
END:VEVENT
BEGIN:VEVENT
DTSTART;TZID=America/New_York:20250902T120000
DTEND;TZID=America/New_York:20250902T133000
DTSTAMP:20260421T140929
CREATED:20250814T155846Z
LAST-MODIFIED:20250814T155846Z
UID:10003559-1756814400-1756819800@www.faytechcc.edu
SUMMARY:Seekers Fellowship Christian Club
DESCRIPTION:Join us as we kick off our weekly meetings starting Tuesday\, August 19\, 2025!\n🗓 When: Every Tuesday\, 12:00 PM – 1:30 PM\n📍 Where: Cumberland Hall\, Room 360\nAll are welcome—come for fellowship\, encouragement\, and meaningful conversations!
URL:https://www.faytechcc.edu/event/seekers-fellowship-christian-club-2/2025-09-02/
LOCATION:Cumberland Hall Auditorium\, Room 360\, 2215 Hull Road\, Fayetteville\, NC\, 28303\, United States
ORGANIZER;CN="FTCC Seekers Fellowship Club":MAILTO:abrahamn@faytechcc.edu
END:VEVENT
END:VCALENDAR