BEGIN:VCALENDAR
VERSION:2.0
PRODID:-//Fayetteville Technical Community College - ECPv6.15.9//NONSGML v1.0//EN
CALSCALE:GREGORIAN
METHOD:PUBLISH
X-WR-CALNAME:Fayetteville Technical Community College
X-ORIGINAL-URL:https://www.faytechcc.edu
X-WR-CALDESC:Events for Fayetteville Technical Community College
REFRESH-INTERVAL;VALUE=DURATION:PT1H
X-Robots-Tag:noindex
X-PUBLISHED-TTL:PT1H
BEGIN:VTIMEZONE
TZID:America/New_York
BEGIN:DAYLIGHT
TZOFFSETFROM:-0500
TZOFFSETTO:-0400
TZNAME:EDT
DTSTART:20240310T070000
END:DAYLIGHT
BEGIN:STANDARD
TZOFFSETFROM:-0400
TZOFFSETTO:-0500
TZNAME:EST
DTSTART:20241103T060000
END:STANDARD
BEGIN:DAYLIGHT
TZOFFSETFROM:-0500
TZOFFSETTO:-0400
TZNAME:EDT
DTSTART:20250309T070000
END:DAYLIGHT
BEGIN:STANDARD
TZOFFSETFROM:-0400
TZOFFSETTO:-0500
TZNAME:EST
DTSTART:20251102T060000
END:STANDARD
BEGIN:DAYLIGHT
TZOFFSETFROM:-0500
TZOFFSETTO:-0400
TZNAME:EDT
DTSTART:20260308T070000
END:DAYLIGHT
BEGIN:STANDARD
TZOFFSETFROM:-0400
TZOFFSETTO:-0500
TZNAME:EST
DTSTART:20261101T060000
END:STANDARD
END:VTIMEZONE
BEGIN:VEVENT
DTSTART;TZID=America/New_York:20250820T090000
DTEND;TZID=America/New_York:20250820T160000
DTSTAMP:20260423T202820
CREATED:20250408T201538Z
LAST-MODIFIED:20250408T201538Z
UID:10002081-1755680400-1755705600@www.faytechcc.edu
SUMMARY:Free Haircuts!
DESCRIPTION:Need a haircut? Want a new style? FTCC’s barbering students will be offering free cuts from 9am to 4pm in the cafe area of the Tony Rand Student Center on Wednesday\, Oct. 16. Come on down!
URL:https://www.faytechcc.edu/event/free-haircuts-2/2025-08-20/
LOCATION:Tony Rand Center
CATEGORIES:Public Presentation,Students
END:VEVENT
BEGIN:VEVENT
DTSTART;TZID=America/New_York:20250820T090000
DTEND;TZID=America/New_York:20250820T160000
DTSTAMP:20260423T202820
CREATED:20250731T155403Z
LAST-MODIFIED:20250731T155403Z
UID:10003533-1755680400-1755705600@www.faytechcc.edu
SUMMARY:Back to School - Free Haircuts
DESCRIPTION:Get Back-to-School Ready with a Fresh Cut!\n✂️ Free Haircuts ✂️\nThe FTCC Continuing Education Barbering Program is offering complimentary haircuts to help you look your best for the new school year.\nLet our talented Barbering students sharpen their skills while you enjoy a fresh style — all at no cost! \n📍 Continuing Education Building\, Room 150\n📅 Wednesday\, August 20\, 2025\n🕒 9:00 AM to 4:oo PM \nWalk-ins welcome!
URL:https://www.faytechcc.edu/event/back-to-school-free-haircuts/
LOCATION:Continuing Education Building\, Room 150\, 220 Hull Road\, Fayetteville\, NC\, 28303\, United States
END:VEVENT
BEGIN:VEVENT
DTSTART;TZID=America/New_York:20250820T183000
DTEND;TZID=America/New_York:20250820T203000
DTSTAMP:20260423T202820
CREATED:20250728T201801Z
LAST-MODIFIED:20250728T201801Z
UID:10003512-1755714600-1755721800@www.faytechcc.edu
SUMMARY:Fuel for Success in the Mobile Food Business
DESCRIPTION:Fuel for Success in the Mobile Food Business\n🗓 Wednesday\, August 20\, 2025\n⏰ 6:30 PM – 8:30 PM (SG)\n📍 Register Here\nAlready in the mobile food game? Take it to the next level! Discover expert strategies\, vendor connections\, real-life food truck setups\, and efficient workflows to elevate your quality\, boost operations\, and deliver an exceptional customer experience.
URL:https://www.faytechcc.edu/event/fuel-for-success-in-the-mobile-food-business/
LOCATION:NC
ORGANIZER;CN="FTCC Small Business Center":MAILTO:ftccsbc@faytechcc.edu
END:VEVENT
BEGIN:VEVENT
DTSTART;TZID=America/New_York:20250820T183000
DTEND;TZID=America/New_York:20250820T203000
DTSTAMP:20260423T202820
CREATED:20250729T140339Z
LAST-MODIFIED:20250815T140205Z
UID:10003518-1755714600-1755721800@www.faytechcc.edu
SUMMARY:Micro Grant Program: Nonprofit Basics & Funding Strategies
DESCRIPTION:Micro Grant Program: Nonprofit Basics & Funding Strategies\n🗓 Wednesday\, August 20\, 2025\n⏰ 6:30 PM – 8:30 PM (SG)\n📍 General Classroom Building (GCB)\, Room 108\nInterested in starting or growing a nonprofit? This session covers how to form and manage a nonprofit organization\, recruit supporters\, and generate sustainable income through grants\, sponsorships\, and fundraising—perfect for community leaders and aspiring changemakers. Pre-registration is not required.
URL:https://www.faytechcc.edu/event/micro-grant-program-nonprofit-basics-funding-strategies-3-2/
LOCATION:General classroom building  – Room 108\, 2817 Fort Bragg Rd.\, Fayetteville\, NC\, 28303\, United States
ORGANIZER;CN="FTCC Small Business Center":MAILTO:ftccsbc@faytechcc.edu
END:VEVENT
END:VCALENDAR