BEGIN:VCALENDAR
VERSION:2.0
PRODID:-//Fayetteville Technical Community College - ECPv6.15.9//NONSGML v1.0//EN
CALSCALE:GREGORIAN
METHOD:PUBLISH
X-WR-CALNAME:Fayetteville Technical Community College
X-ORIGINAL-URL:https://www.faytechcc.edu
X-WR-CALDESC:Events for Fayetteville Technical Community College
REFRESH-INTERVAL;VALUE=DURATION:PT1H
X-Robots-Tag:noindex
X-PUBLISHED-TTL:PT1H
BEGIN:VTIMEZONE
TZID:America/New_York
BEGIN:DAYLIGHT
TZOFFSETFROM:-0500
TZOFFSETTO:-0400
TZNAME:EDT
DTSTART:20240310T070000
END:DAYLIGHT
BEGIN:STANDARD
TZOFFSETFROM:-0400
TZOFFSETTO:-0500
TZNAME:EST
DTSTART:20241103T060000
END:STANDARD
BEGIN:DAYLIGHT
TZOFFSETFROM:-0500
TZOFFSETTO:-0400
TZNAME:EDT
DTSTART:20250309T070000
END:DAYLIGHT
BEGIN:STANDARD
TZOFFSETFROM:-0400
TZOFFSETTO:-0500
TZNAME:EST
DTSTART:20251102T060000
END:STANDARD
BEGIN:DAYLIGHT
TZOFFSETFROM:-0500
TZOFFSETTO:-0400
TZNAME:EDT
DTSTART:20260308T070000
END:DAYLIGHT
BEGIN:STANDARD
TZOFFSETFROM:-0400
TZOFFSETTO:-0500
TZNAME:EST
DTSTART:20261101T060000
END:STANDARD
END:VTIMEZONE
BEGIN:VEVENT
DTSTART;TZID=America/New_York:20250723T093000
DTEND;TZID=America/New_York:20250723T124500
DTSTAMP:20260424T050431
CREATED:20250717T154613Z
LAST-MODIFIED:20250717T154738Z
UID:10003487-1753263000-1753274700@www.faytechcc.edu
SUMMARY:Therapeutic Massage Chair Massages
DESCRIPTION:Therapeutic Massage Chair Massages\nHosted by: FTCC Therapeutic Massage Program\nDate: Wednesday\, July 23\, 2025 (recurs monthly on the 4th Wednesday through October 2025)\nMorning Session: 9:30 AM – 12:45 PM\nAfternoon Session: 3:15 PM – 5:30 PM\nLocation: Tony Rand Student Center – Eatery Area\nDetails: Enjoy a free 10–12 minute chair massage\, provided by students in the FTCC Therapeutic Massage Program. These monthly sessions (4th Wednesday of each month)  help students practice professional massage techniques in a corporate-style setting. Open to all students\, faculty\, and staff.\nFinal Session: October 22\, 2025
URL:https://www.faytechcc.edu/event/therapeutic-massage-chair-massages/2025-07-23/1/
LOCATION:Tony Rand Student Center – Trojan Eatery Cafe\, 2220 Hull Road\, Fayetteville\, NC\, 28303\, United States
ORGANIZER;CN="FTCC Therapeutic Massage Program":MAILTO:munchabd@faytechcc.edu
END:VEVENT
BEGIN:VEVENT
DTSTART;TZID=America/New_York:20250723T151500
DTEND;TZID=America/New_York:20250723T173000
DTSTAMP:20260424T050431
CREATED:20250717T154613Z
LAST-MODIFIED:20250717T154738Z
UID:10003488-1753283700-1753291800@www.faytechcc.edu
SUMMARY:Therapeutic Massage Chair Massages
DESCRIPTION:Therapeutic Massage Chair Massages\nHosted by: FTCC Therapeutic Massage Program\nDate: Wednesday\, July 23\, 2025 (recurs monthly on the 4th Wednesday through October 2025)\nMorning Session: 9:30 AM – 12:45 PM\nAfternoon Session: 3:15 PM – 5:30 PM\nLocation: Tony Rand Student Center – Eatery Area\nDetails: Enjoy a free 10–12 minute chair massage\, provided by students in the FTCC Therapeutic Massage Program. These monthly sessions (4th Wednesday of each month)  help students practice professional massage techniques in a corporate-style setting. Open to all students\, faculty\, and staff.\nFinal Session: October 22\, 2025
URL:https://www.faytechcc.edu/event/therapeutic-massage-chair-massages/2025-07-23/2/
LOCATION:Tony Rand Student Center – Trojan Eatery Cafe\, 2220 Hull Road\, Fayetteville\, NC\, 28303\, United States
ORGANIZER;CN="FTCC Therapeutic Massage Program":MAILTO:munchabd@faytechcc.edu
END:VEVENT
END:VCALENDAR