BEGIN:VCALENDAR
VERSION:2.0
PRODID:-//Fayetteville Technical Community College - ECPv6.15.9//NONSGML v1.0//EN
CALSCALE:GREGORIAN
METHOD:PUBLISH
X-WR-CALNAME:Fayetteville Technical Community College
X-ORIGINAL-URL:https://www.faytechcc.edu
X-WR-CALDESC:Events for Fayetteville Technical Community College
REFRESH-INTERVAL;VALUE=DURATION:PT1H
X-Robots-Tag:noindex
X-PUBLISHED-TTL:PT1H
BEGIN:VTIMEZONE
TZID:America/New_York
BEGIN:DAYLIGHT
TZOFFSETFROM:-0500
TZOFFSETTO:-0400
TZNAME:EDT
DTSTART:20240310T070000
END:DAYLIGHT
BEGIN:STANDARD
TZOFFSETFROM:-0400
TZOFFSETTO:-0500
TZNAME:EST
DTSTART:20241103T060000
END:STANDARD
BEGIN:DAYLIGHT
TZOFFSETFROM:-0500
TZOFFSETTO:-0400
TZNAME:EDT
DTSTART:20250309T070000
END:DAYLIGHT
BEGIN:STANDARD
TZOFFSETFROM:-0400
TZOFFSETTO:-0500
TZNAME:EST
DTSTART:20251102T060000
END:STANDARD
BEGIN:DAYLIGHT
TZOFFSETFROM:-0500
TZOFFSETTO:-0400
TZNAME:EDT
DTSTART:20260308T070000
END:DAYLIGHT
BEGIN:STANDARD
TZOFFSETFROM:-0400
TZOFFSETTO:-0500
TZNAME:EST
DTSTART:20261101T060000
END:STANDARD
END:VTIMEZONE
BEGIN:VEVENT
DTSTART;VALUE=DATE:20250703
DTEND;VALUE=DATE:20250704
DTSTAMP:20260424T174545
CREATED:20250619T204430Z
LAST-MODIFIED:20250619T204430Z
UID:10003093-1751500800-1751587199@www.faytechcc.edu
SUMMARY:FSU Application Fee Waiver
DESCRIPTION:Submit a completed application to FSU between Tuesday\, July 1 and Sunday\, July 6\, 2025\, without a fee!\nPreviously submitted or duplicate applications are not eligible.\nRegister your account and apply through the Bronco Portal to have your application fee waived.\nThe application website will be open 24 hours a day from July 1st to July 6th\, 2025.\nPlease see the QR codes on the flyer below.
URL:https://www.faytechcc.edu/event/fsu-application-fee-waiver/2025-07-03/
LOCATION:NC
ORGANIZER;CN="University Outreach":MAILTO:nelsonl@faytechcc.edu
END:VEVENT
END:VCALENDAR