BEGIN:VCALENDAR
VERSION:2.0
PRODID:-//Fayetteville Technical Community College - ECPv6.15.9//NONSGML v1.0//EN
CALSCALE:GREGORIAN
METHOD:PUBLISH
X-WR-CALNAME:Fayetteville Technical Community College
X-ORIGINAL-URL:https://www.faytechcc.edu
X-WR-CALDESC:Events for Fayetteville Technical Community College
REFRESH-INTERVAL;VALUE=DURATION:PT1H
X-Robots-Tag:noindex
X-PUBLISHED-TTL:PT1H
BEGIN:VTIMEZONE
TZID:America/New_York
BEGIN:DAYLIGHT
TZOFFSETFROM:-0500
TZOFFSETTO:-0400
TZNAME:EDT
DTSTART:20240310T070000
END:DAYLIGHT
BEGIN:STANDARD
TZOFFSETFROM:-0400
TZOFFSETTO:-0500
TZNAME:EST
DTSTART:20241103T060000
END:STANDARD
BEGIN:DAYLIGHT
TZOFFSETFROM:-0500
TZOFFSETTO:-0400
TZNAME:EDT
DTSTART:20250309T070000
END:DAYLIGHT
BEGIN:STANDARD
TZOFFSETFROM:-0400
TZOFFSETTO:-0500
TZNAME:EST
DTSTART:20251102T060000
END:STANDARD
BEGIN:DAYLIGHT
TZOFFSETFROM:-0500
TZOFFSETTO:-0400
TZNAME:EDT
DTSTART:20260308T070000
END:DAYLIGHT
BEGIN:STANDARD
TZOFFSETFROM:-0400
TZOFFSETTO:-0500
TZNAME:EST
DTSTART:20261101T060000
END:STANDARD
END:VTIMEZONE
BEGIN:VEVENT
DTSTART;VALUE=DATE:20250702
DTEND;VALUE=DATE:20250703
DTSTAMP:20260425T000910
CREATED:20250619T204430Z
LAST-MODIFIED:20250619T204430Z
UID:10003092-1751414400-1751500799@www.faytechcc.edu
SUMMARY:FSU Application Fee Waiver
DESCRIPTION:Submit a completed application to FSU between Tuesday\, July 1 and Sunday\, July 6\, 2025\, without a fee!\nPreviously submitted or duplicate applications are not eligible.\nRegister your account and apply through the Bronco Portal to have your application fee waived.\nThe application website will be open 24 hours a day from July 1st to July 6th\, 2025.\nPlease see the QR codes on the flyer below.
URL:https://www.faytechcc.edu/event/fsu-application-fee-waiver/2025-07-02/
LOCATION:NC
ORGANIZER;CN="University Outreach":MAILTO:nelsonl@faytechcc.edu
END:VEVENT
BEGIN:VEVENT
DTSTART;TZID=America/New_York:20250702T110000
DTEND;TZID=America/New_York:20250702T130000
DTSTAMP:20260425T000910
CREATED:20250603T131750Z
LAST-MODIFIED:20250603T132206Z
UID:10003062-1751454000-1751461200@www.faytechcc.edu
SUMMARY:Career Coaching Pop Up Event
DESCRIPTION:Click on the flyer to view PDF version.
URL:https://www.faytechcc.edu/event/career-coaching-pop-up-event-2/
LOCATION:Tony Rand Student Center Lobby\, 2220 Hull Rd.\, Fayetteville\, NC\, 28303\, United States
CATEGORIES:Career Development Center
END:VEVENT
END:VCALENDAR