BEGIN:VCALENDAR
VERSION:2.0
PRODID:-//Fayetteville Technical Community College - ECPv6.15.9//NONSGML v1.0//EN
CALSCALE:GREGORIAN
METHOD:PUBLISH
X-WR-CALNAME:Fayetteville Technical Community College
X-ORIGINAL-URL:https://www.faytechcc.edu
X-WR-CALDESC:Events for Fayetteville Technical Community College
REFRESH-INTERVAL;VALUE=DURATION:PT1H
X-Robots-Tag:noindex
X-PUBLISHED-TTL:PT1H
BEGIN:VTIMEZONE
TZID:America/New_York
BEGIN:DAYLIGHT
TZOFFSETFROM:-0500
TZOFFSETTO:-0400
TZNAME:EDT
DTSTART:20240310T070000
END:DAYLIGHT
BEGIN:STANDARD
TZOFFSETFROM:-0400
TZOFFSETTO:-0500
TZNAME:EST
DTSTART:20241103T060000
END:STANDARD
BEGIN:DAYLIGHT
TZOFFSETFROM:-0500
TZOFFSETTO:-0400
TZNAME:EDT
DTSTART:20250309T070000
END:DAYLIGHT
BEGIN:STANDARD
TZOFFSETFROM:-0400
TZOFFSETTO:-0500
TZNAME:EST
DTSTART:20251102T060000
END:STANDARD
BEGIN:DAYLIGHT
TZOFFSETFROM:-0500
TZOFFSETTO:-0400
TZNAME:EDT
DTSTART:20260308T070000
END:DAYLIGHT
BEGIN:STANDARD
TZOFFSETFROM:-0400
TZOFFSETTO:-0500
TZNAME:EST
DTSTART:20261101T060000
END:STANDARD
END:VTIMEZONE
BEGIN:VEVENT
DTSTART;TZID=America/New_York:20250624T080000
DTEND;TZID=America/New_York:20250624T170000
DTSTAMP:20260424T174541
CREATED:20250602T132354Z
LAST-MODIFIED:20250602T155000Z
UID:10003061-1750752000-1750784400@www.faytechcc.edu
SUMMARY:Collegiate Recovery Program - Talk it Out Tuesdays
DESCRIPTION:Peer-Led Sound-Off Circles – Different activities each Tuesday. 
URL:https://www.faytechcc.edu/event/collegiate-recovery-program-talk-it-out-tuesdays/2025-06-24/
LOCATION:Horace Sisk – Rm 630\, 2204 Hull Rd.\, Fayetteville\, NC\, 28303\, United States
ORGANIZER;CN="FTCC's Collegiate Recovery Program":MAILTO:mcdonalr@faytechcc.edu
END:VEVENT
BEGIN:VEVENT
DTSTART;TZID=America/New_York:20250624T120000
DTEND;TZID=America/New_York:20250624T130000
DTSTAMP:20260424T174541
CREATED:20250623T132835Z
LAST-MODIFIED:20250623T132858Z
UID:10003083-1750766400-1750770000@www.faytechcc.edu
SUMMARY:Toastmasters Meeting
DESCRIPTION:🗣️ Join Toastmasters at FTCC!\n📅 When: Every Tuesday\, 12:00 PM – 1:00 PM\n📍 Where: CBI 134\n🎤 Want to improve your public speaking and leadership skills? FTCC Toastmasters is open to all faculty\, staff\, and students. \n🤝 This is a welcoming forum where you can build confidence\, develop communication skills\, and connect with others. \n✅ No experience needed — just bring your voice and a willingness to grow!
URL:https://www.faytechcc.edu/event/toastmasters-meeting-2-2/2025-06-24/
LOCATION:CBI 134\, 2733 Fort Bragg Road\, Fayetteville\, NC\, 28303\, United States
ORGANIZER;CN="FTCC Toastmasters Chapter":MAILTO:hicksc@faytechcc.edu
END:VEVENT
END:VCALENDAR