BEGIN:VCALENDAR
VERSION:2.0
PRODID:-//Fayetteville Technical Community College - ECPv6.15.9//NONSGML v1.0//EN
CALSCALE:GREGORIAN
METHOD:PUBLISH
X-ORIGINAL-URL:https://www.faytechcc.edu
X-WR-CALDESC:Events for Fayetteville Technical Community College
REFRESH-INTERVAL;VALUE=DURATION:PT1H
X-Robots-Tag:noindex
X-PUBLISHED-TTL:PT1H
BEGIN:VTIMEZONE
TZID:America/New_York
BEGIN:DAYLIGHT
TZOFFSETFROM:-0500
TZOFFSETTO:-0400
TZNAME:EDT
DTSTART:20240310T070000
END:DAYLIGHT
BEGIN:STANDARD
TZOFFSETFROM:-0400
TZOFFSETTO:-0500
TZNAME:EST
DTSTART:20241103T060000
END:STANDARD
BEGIN:DAYLIGHT
TZOFFSETFROM:-0500
TZOFFSETTO:-0400
TZNAME:EDT
DTSTART:20250309T070000
END:DAYLIGHT
BEGIN:STANDARD
TZOFFSETFROM:-0400
TZOFFSETTO:-0500
TZNAME:EST
DTSTART:20251102T060000
END:STANDARD
BEGIN:DAYLIGHT
TZOFFSETFROM:-0500
TZOFFSETTO:-0400
TZNAME:EDT
DTSTART:20260308T070000
END:DAYLIGHT
BEGIN:STANDARD
TZOFFSETFROM:-0400
TZOFFSETTO:-0500
TZNAME:EST
DTSTART:20261101T060000
END:STANDARD
END:VTIMEZONE
BEGIN:VEVENT
DTSTART;TZID=America/New_York:20250610T080000
DTEND;TZID=America/New_York:20250610T170000
DTSTAMP:20260423T215425
CREATED:20250602T132354Z
LAST-MODIFIED:20250602T155000Z
UID:10003060-1749542400-1749574800@www.faytechcc.edu
SUMMARY:Collegiate Recovery Program - Talk it Out Tuesdays
DESCRIPTION:Peer-Led Sound-Off Circles – Different activities each Tuesday. 
URL:https://www.faytechcc.edu/event/collegiate-recovery-program-talk-it-out-tuesdays/2025-06-10/
LOCATION:Horace Sisk – Rm 630\, 2204 Hull Rd.\, Fayetteville\, NC\, 28303\, United States
ORGANIZER;CN="FTCC's Collegiate Recovery Program":MAILTO:mcdonalr@faytechcc.edu
END:VEVENT
BEGIN:VEVENT
DTSTART;TZID=America/New_York:20250610T173000
DTEND;TZID=America/New_York:20250610T193000
DTSTAMP:20260423T215425
CREATED:20250602T114648Z
LAST-MODIFIED:20250602T114648Z
UID:10003038-1749576600-1749583800@www.faytechcc.edu
SUMMARY:Y.E.S. 2025-2026 Student Emerging Leaders Training Dinner Workshop
DESCRIPTION:The Y.E.S. Initiative is hosting the 2025-2026 Student Emerging Leaders Training Dinner Workshop on Tuesday\, June 10\, 2025\, from 5:30 PM to 7:30 PM. This event will be held in the General Classroom Building\, rooms 108 and 114. This event is exclusively for students.
URL:https://www.faytechcc.edu/event/y-e-s-2025-2026-student-emerging-leaders-training-dinner-workshop/
LOCATION:General classroom building  – Room 108\, 2817 Fort Bragg Rd.\, Fayetteville\, NC\, 28303\, United States
ORGANIZER;CN="Academic Support Services and Civic Engagement":MAILTO:mcdonalr@faytechcc.edu
END:VEVENT
END:VCALENDAR