BEGIN:VCALENDAR
VERSION:2.0
PRODID:-//Fayetteville Technical Community College - ECPv6.15.9//NONSGML v1.0//EN
CALSCALE:GREGORIAN
METHOD:PUBLISH
X-WR-CALNAME:Fayetteville Technical Community College
X-ORIGINAL-URL:https://www.faytechcc.edu
X-WR-CALDESC:Events for Fayetteville Technical Community College
REFRESH-INTERVAL;VALUE=DURATION:PT1H
X-Robots-Tag:noindex
X-PUBLISHED-TTL:PT1H
BEGIN:VTIMEZONE
TZID:America/New_York
BEGIN:DAYLIGHT
TZOFFSETFROM:-0500
TZOFFSETTO:-0400
TZNAME:EDT
DTSTART:20240310T070000
END:DAYLIGHT
BEGIN:STANDARD
TZOFFSETFROM:-0400
TZOFFSETTO:-0500
TZNAME:EST
DTSTART:20241103T060000
END:STANDARD
BEGIN:DAYLIGHT
TZOFFSETFROM:-0500
TZOFFSETTO:-0400
TZNAME:EDT
DTSTART:20250309T070000
END:DAYLIGHT
BEGIN:STANDARD
TZOFFSETFROM:-0400
TZOFFSETTO:-0500
TZNAME:EST
DTSTART:20251102T060000
END:STANDARD
BEGIN:DAYLIGHT
TZOFFSETFROM:-0500
TZOFFSETTO:-0400
TZNAME:EDT
DTSTART:20260308T070000
END:DAYLIGHT
BEGIN:STANDARD
TZOFFSETFROM:-0400
TZOFFSETTO:-0500
TZNAME:EST
DTSTART:20261101T060000
END:STANDARD
END:VTIMEZONE
BEGIN:VEVENT
DTSTART;TZID=America/New_York:20250521T090000
DTEND;TZID=America/New_York:20250521T160000
DTSTAMP:20260425T153256
CREATED:20250512T192308Z
LAST-MODIFIED:20250512T192321Z
UID:10002078-1747818000-1747843200@www.faytechcc.edu
SUMMARY:Free Haircuts!
DESCRIPTION:Need a haircut? Want a new style? FTCC’s barbering students will be offering free cuts from 9am to 4pm in the cafe area of the Tony Rand Student Center on Wednesday\, May 21. Come on down!
URL:https://www.faytechcc.edu/event/free-haircuts-2-2/
LOCATION:Tony Rand Center
CATEGORIES:Public Presentation,Students
END:VEVENT
BEGIN:VEVENT
DTSTART;TZID=America/New_York:20250521T110000
DTEND;TZID=America/New_York:20250521T140000
DTSTAMP:20260425T153256
CREATED:20250506T163032Z
LAST-MODIFIED:20250506T163315Z
UID:10003011-1747825200-1747836000@www.faytechcc.edu
SUMMARY:Virtual Military-Friendly Job Fair
DESCRIPTION:Click on the flyer below to register for the event!
URL:https://www.faytechcc.edu/event/virtual-military-friendly-job-fair/
LOCATION:NC
CATEGORIES:Career Development Center
END:VEVENT
END:VCALENDAR