BEGIN:VCALENDAR
VERSION:2.0
PRODID:-//Fayetteville Technical Community College - ECPv6.15.9//NONSGML v1.0//EN
CALSCALE:GREGORIAN
METHOD:PUBLISH
X-WR-CALNAME:Fayetteville Technical Community College
X-ORIGINAL-URL:https://www.faytechcc.edu
X-WR-CALDESC:Events for Fayetteville Technical Community College
REFRESH-INTERVAL;VALUE=DURATION:PT1H
X-Robots-Tag:noindex
X-PUBLISHED-TTL:PT1H
BEGIN:VTIMEZONE
TZID:America/New_York
BEGIN:DAYLIGHT
TZOFFSETFROM:-0500
TZOFFSETTO:-0400
TZNAME:EDT
DTSTART:20240310T070000
END:DAYLIGHT
BEGIN:STANDARD
TZOFFSETFROM:-0400
TZOFFSETTO:-0500
TZNAME:EST
DTSTART:20241103T060000
END:STANDARD
BEGIN:DAYLIGHT
TZOFFSETFROM:-0500
TZOFFSETTO:-0400
TZNAME:EDT
DTSTART:20250309T070000
END:DAYLIGHT
BEGIN:STANDARD
TZOFFSETFROM:-0400
TZOFFSETTO:-0500
TZNAME:EST
DTSTART:20251102T060000
END:STANDARD
BEGIN:DAYLIGHT
TZOFFSETFROM:-0500
TZOFFSETTO:-0400
TZNAME:EDT
DTSTART:20260308T070000
END:DAYLIGHT
BEGIN:STANDARD
TZOFFSETFROM:-0400
TZOFFSETTO:-0500
TZNAME:EST
DTSTART:20261101T060000
END:STANDARD
END:VTIMEZONE
BEGIN:VEVENT
DTSTART;TZID=America/New_York:20250520T100000
DTEND;TZID=America/New_York:20250520T110000
DTSTAMP:20260425T124121
CREATED:20240829T192937Z
LAST-MODIFIED:20240829T192938Z
UID:10001964-1747735200-1747738800@www.faytechcc.edu
SUMMARY:Trojan Hour on WIDU
DESCRIPTION:Don’t miss FTCC’s Trojan Hour on the radio! It airs on at 10am on the third Tuesday of each month on WIDU – 1600 AM. The show is also streamed live on WIDU’s Facebook page.  \nTrojan Hour is hosted by students in FTCC’s Digital Media Technology program and focuses on people\, programs and events at FTCC.
URL:https://www.faytechcc.edu/event/trojan-hour-on-widu/2025-05-20/
LOCATION:WIDU – 1600 AM radio
CATEGORIES:Public Presentation,Students
ORGANIZER;CN="FTCC Digital Media program":MAILTO:quismunt@faytechcc.edu
END:VEVENT
BEGIN:VEVENT
DTSTART;TZID=America/New_York:20250520T120000
DTEND;TZID=America/New_York:20250520T160000
DTSTAMP:20260425T124121
CREATED:20250506T155437Z
LAST-MODIFIED:20250506T160121Z
UID:10003010-1747742400-1747756800@www.faytechcc.edu
SUMMARY:Military Community Virtual Hiring Event
DESCRIPTION:Attention: \nThis is a virtual hiring event. Please note the time listed on the flyer below — the event begins at 11:00 AM Central Time. If you are in the Eastern Time Zone\, the event will begin at 12:00 PM (Noon) Eastern Time. \n 
URL:https://www.faytechcc.edu/event/military-community-virtual-hiring-event-2/
LOCATION:NC
CATEGORIES:Career Development Center
END:VEVENT
END:VCALENDAR