BEGIN:VCALENDAR
VERSION:2.0
PRODID:-//Fayetteville Technical Community College - ECPv6.15.9//NONSGML v1.0//EN
CALSCALE:GREGORIAN
METHOD:PUBLISH
X-WR-CALNAME:Fayetteville Technical Community College
X-ORIGINAL-URL:https://www.faytechcc.edu
X-WR-CALDESC:Events for Fayetteville Technical Community College
REFRESH-INTERVAL;VALUE=DURATION:PT1H
X-Robots-Tag:noindex
X-PUBLISHED-TTL:PT1H
BEGIN:VTIMEZONE
TZID:America/New_York
BEGIN:DAYLIGHT
TZOFFSETFROM:-0500
TZOFFSETTO:-0400
TZNAME:EDT
DTSTART:20240310T070000
END:DAYLIGHT
BEGIN:STANDARD
TZOFFSETFROM:-0400
TZOFFSETTO:-0500
TZNAME:EST
DTSTART:20241103T060000
END:STANDARD
BEGIN:DAYLIGHT
TZOFFSETFROM:-0500
TZOFFSETTO:-0400
TZNAME:EDT
DTSTART:20250309T070000
END:DAYLIGHT
BEGIN:STANDARD
TZOFFSETFROM:-0400
TZOFFSETTO:-0500
TZNAME:EST
DTSTART:20251102T060000
END:STANDARD
BEGIN:DAYLIGHT
TZOFFSETFROM:-0500
TZOFFSETTO:-0400
TZNAME:EDT
DTSTART:20260308T070000
END:DAYLIGHT
BEGIN:STANDARD
TZOFFSETFROM:-0400
TZOFFSETTO:-0500
TZNAME:EST
DTSTART:20261101T060000
END:STANDARD
END:VTIMEZONE
BEGIN:VEVENT
DTSTART;VALUE=DATE:20250514
DTEND;VALUE=DATE:20250515
DTSTAMP:20260425T093305
CREATED:20250113T215836Z
LAST-MODIFIED:20250113T215940Z
UID:10002383-1747180800-1747267199@www.faytechcc.edu
SUMMARY:Last day of 2nd 8-week and 16-week classes
DESCRIPTION:See all of the important dates for the Spring 2025 term here.
URL:https://www.faytechcc.edu/event/last-day-of-2nd-8-week-and-16-week-classes/
LOCATION:NC
END:VEVENT
BEGIN:VEVENT
DTSTART;VALUE=DATE:20250514
DTEND;VALUE=DATE:20250515
DTSTAMP:20260425T093305
CREATED:20250130T195409Z
LAST-MODIFIED:20250130T195409Z
UID:10002822-1747180800-1747267199@www.faytechcc.edu
SUMMARY:Last Day of Classes
DESCRIPTION:
URL:https://www.faytechcc.edu/event/last-day-of-classes/
LOCATION:NC
END:VEVENT
BEGIN:VEVENT
DTSTART;TZID=America/New_York:20250514T121500
DTEND;TZID=America/New_York:20250514T130000
DTSTAMP:20260425T093305
CREATED:20250218T193017Z
LAST-MODIFIED:20250218T193017Z
UID:10002926-1747224900-1747227600@www.faytechcc.edu
SUMMARY:Psychology Club Meeting
DESCRIPTION:🔓 Unlock Your Mind: Join the Psychology Club! 🧠\nAre you fascinated by the human mind? Do you ever wonder why people think\, feel\, and behave the way they do? If so\, the Psychology Club is the perfect place for you! \nWe’re a student-led club passionate about exploring psychology in an engaging and interactive way. Whether you’re planning to major in psychology or simply curious about human behavior\, all students\, faculty\, and staff are welcome—no prior knowledge required! \n📅 Meetings: Every Wednesday\n⏰ Time: 12:15 PM – 1:00 PM\n📍 Location: HOS\, Room 625 \nCome join the conversation and expand your understanding of the human mind! See you there!
URL:https://www.faytechcc.edu/event/psychology-club-meeting-2/2025-05-14/
LOCATION:Horace Sisk – Room 625\, 2204 Hull Rd.\, Fayetteville\, NC\, 28303\, United States
ORGANIZER;CN="FTCC Psychology Club":MAILTO:nancec@faytechcc.edu
END:VEVENT
BEGIN:VEVENT
DTSTART;TZID=America/New_York:20250514T170000
DTEND;TZID=America/New_York:20250514T180000
DTSTAMP:20260425T093305
CREATED:20250211T172048Z
LAST-MODIFIED:20250211T172048Z
UID:10002884-1747242000-1747245600@www.faytechcc.edu
SUMMARY:Speech Language Pathology Assistant Pinning Ceremony
DESCRIPTION:Speech-Language Pathology Assistant Pinning Ceremony 🎓✨\n\n📅 Date: May 14\, 2025\n⏰ Time: 5:00 PM – 6:00 PM\n📍 Location: Cumberland Hall Auditorium\nJoin us as we celebrate the achievements of our Speech-Language Pathology Assistant graduates in this special pinning ceremony. \nCome support and honor their dedication to the field!
URL:https://www.faytechcc.edu/event/speech-language-pathology-assistant-pinning-ceremony-2/
LOCATION:Cumberland Hall Auditorium
END:VEVENT
BEGIN:VEVENT
DTSTART;TZID=America/New_York:20250514T183000
DTEND;TZID=America/New_York:20250514T193000
DTSTAMP:20260425T093305
CREATED:20250211T172431Z
LAST-MODIFIED:20250211T172431Z
UID:10002885-1747247400-1747251000@www.faytechcc.edu
SUMMARY:Radiography Pinning Ceremony
DESCRIPTION:Radiography Pinning Ceremony 🎓✨\n\n📅 Date: May 14\, 2025\n⏰ Time: 6:30 PM – 7:30 PM\n📍 Location: Horace Sisk Gym\nJoin us as we celebrate the hard work and achievements of our Radiography graduates at this special pinning ceremony. \nLet’s honor their dedication and commitment to the field!
URL:https://www.faytechcc.edu/event/radiography-pinning-ceremony-2/
LOCATION:Horace Sisk Gym\, 2114 Hull Road\, Fayetteville\, NC\, 28303\, United States
ORGANIZER;CN="Radiography Program":MAILTO:mcknigha@faytechcc.edu
END:VEVENT
END:VCALENDAR