BEGIN:VCALENDAR
VERSION:2.0
PRODID:-//Fayetteville Technical Community College - ECPv6.15.9//NONSGML v1.0//EN
CALSCALE:GREGORIAN
METHOD:PUBLISH
X-WR-CALNAME:Fayetteville Technical Community College
X-ORIGINAL-URL:https://www.faytechcc.edu
X-WR-CALDESC:Events for Fayetteville Technical Community College
REFRESH-INTERVAL;VALUE=DURATION:PT1H
X-Robots-Tag:noindex
X-PUBLISHED-TTL:PT1H
BEGIN:VTIMEZONE
TZID:America/New_York
BEGIN:DAYLIGHT
TZOFFSETFROM:-0500
TZOFFSETTO:-0400
TZNAME:EDT
DTSTART:20240310T070000
END:DAYLIGHT
BEGIN:STANDARD
TZOFFSETFROM:-0400
TZOFFSETTO:-0500
TZNAME:EST
DTSTART:20241103T060000
END:STANDARD
BEGIN:DAYLIGHT
TZOFFSETFROM:-0500
TZOFFSETTO:-0400
TZNAME:EDT
DTSTART:20250309T070000
END:DAYLIGHT
BEGIN:STANDARD
TZOFFSETFROM:-0400
TZOFFSETTO:-0500
TZNAME:EST
DTSTART:20251102T060000
END:STANDARD
BEGIN:DAYLIGHT
TZOFFSETFROM:-0500
TZOFFSETTO:-0400
TZNAME:EDT
DTSTART:20260308T070000
END:DAYLIGHT
BEGIN:STANDARD
TZOFFSETFROM:-0400
TZOFFSETTO:-0500
TZNAME:EST
DTSTART:20261101T060000
END:STANDARD
END:VTIMEZONE
BEGIN:VEVENT
DTSTART;TZID=America/New_York:20250428T120000
DTEND;TZID=America/New_York:20250428T140000
DTSTAMP:20260425T124152
CREATED:20250421T115004Z
LAST-MODIFIED:20250425T202327Z
UID:10002994-1745841600-1745848800@www.faytechcc.edu
SUMMARY:Mental Health Awareness Week - Be Very Mindful
DESCRIPTION:Mental Health Awareness Week\nBe Very Mindful\n🗓 April 28\, 2025\n🕛 12:00 PM – 2:00 PM\n📍 Tony Rand Student Center – Multipurpose Room\nJoin us for an inspiring and impactful event focused on the importance of your mental health. Hear a powerful message\, connect with supportive services\, and enjoy a complimentary lunch. \nPresented by: Wellness Care Services & Support Services\nLet’s come together to prioritize wellness and support one another!
URL:https://www.faytechcc.edu/event/mental-health-awareness-week-be-very-mindful/
LOCATION:Tony Rand Center Multipurpose Room\, 2220 Hull Road\, Fayett\, NC\, 28303\, United States
ORGANIZER;CN="FTCC Wellness Care Services":MAILTO:bells@faytechcc.edu
END:VEVENT
END:VCALENDAR