BEGIN:VCALENDAR
VERSION:2.0
PRODID:-//Fayetteville Technical Community College - ECPv6.15.9//NONSGML v1.0//EN
CALSCALE:GREGORIAN
METHOD:PUBLISH
X-ORIGINAL-URL:https://www.faytechcc.edu
X-WR-CALDESC:Events for Fayetteville Technical Community College
REFRESH-INTERVAL;VALUE=DURATION:PT1H
X-Robots-Tag:noindex
X-PUBLISHED-TTL:PT1H
BEGIN:VTIMEZONE
TZID:America/New_York
BEGIN:DAYLIGHT
TZOFFSETFROM:-0500
TZOFFSETTO:-0400
TZNAME:EDT
DTSTART:20240310T070000
END:DAYLIGHT
BEGIN:STANDARD
TZOFFSETFROM:-0400
TZOFFSETTO:-0500
TZNAME:EST
DTSTART:20241103T060000
END:STANDARD
BEGIN:DAYLIGHT
TZOFFSETFROM:-0500
TZOFFSETTO:-0400
TZNAME:EDT
DTSTART:20250309T070000
END:DAYLIGHT
BEGIN:STANDARD
TZOFFSETFROM:-0400
TZOFFSETTO:-0500
TZNAME:EST
DTSTART:20251102T060000
END:STANDARD
BEGIN:DAYLIGHT
TZOFFSETFROM:-0500
TZOFFSETTO:-0400
TZNAME:EDT
DTSTART:20260308T070000
END:DAYLIGHT
BEGIN:STANDARD
TZOFFSETFROM:-0400
TZOFFSETTO:-0500
TZNAME:EST
DTSTART:20261101T060000
END:STANDARD
END:VTIMEZONE
BEGIN:VEVENT
DTSTART;TZID=America/New_York:20250427T120000
DTEND;TZID=America/New_York:20250427T150000
DTSTAMP:20260425T125726
CREATED:20241106T185408Z
LAST-MODIFIED:20241106T185408Z
UID:10002227-1745755200-1745766000@www.faytechcc.edu
SUMMARY:Baseball (Home)
DESCRIPTION:Baseball hosts Pitt CC in a single conference game at 12pm. All home games are free admission and play at JP Riddle Stadium.
URL:https://www.faytechcc.edu/event/baseball-home-45/
LOCATION:NC
CATEGORIES:Athletics
END:VEVENT
BEGIN:VEVENT
DTSTART;TZID=America/New_York:20250427T140000
DTEND;TZID=America/New_York:20250427T180000
DTSTAMP:20260425T125726
CREATED:20241106T203257Z
LAST-MODIFIED:20250424T131343Z
UID:10002255-1745762400-1745776800@www.faytechcc.edu
SUMMARY:DATE CHANGE: Softball (Home)- Sophomore Day
DESCRIPTION:Softball is hosting Pitt CC for their last regular season game for Sophomore Day with a doubleheader at 2pm. All home games are free admission and play at JP Riddle Stadium. \nGames have been moved to Sunday\, April 27.
URL:https://www.faytechcc.edu/event/softball-home-sophomore-day/
LOCATION:NC
CATEGORIES:Athletics
END:VEVENT
END:VCALENDAR