BEGIN:VCALENDAR
VERSION:2.0
PRODID:-//Fayetteville Technical Community College - ECPv6.15.9//NONSGML v1.0//EN
CALSCALE:GREGORIAN
METHOD:PUBLISH
X-WR-CALNAME:Fayetteville Technical Community College
X-ORIGINAL-URL:https://www.faytechcc.edu
X-WR-CALDESC:Events for Fayetteville Technical Community College
REFRESH-INTERVAL;VALUE=DURATION:PT1H
X-Robots-Tag:noindex
X-PUBLISHED-TTL:PT1H
BEGIN:VTIMEZONE
TZID:America/New_York
BEGIN:DAYLIGHT
TZOFFSETFROM:-0500
TZOFFSETTO:-0400
TZNAME:EDT
DTSTART:20240310T070000
END:DAYLIGHT
BEGIN:STANDARD
TZOFFSETFROM:-0400
TZOFFSETTO:-0500
TZNAME:EST
DTSTART:20241103T060000
END:STANDARD
BEGIN:DAYLIGHT
TZOFFSETFROM:-0500
TZOFFSETTO:-0400
TZNAME:EDT
DTSTART:20250309T070000
END:DAYLIGHT
BEGIN:STANDARD
TZOFFSETFROM:-0400
TZOFFSETTO:-0500
TZNAME:EST
DTSTART:20251102T060000
END:STANDARD
BEGIN:DAYLIGHT
TZOFFSETFROM:-0500
TZOFFSETTO:-0400
TZNAME:EDT
DTSTART:20260308T070000
END:DAYLIGHT
BEGIN:STANDARD
TZOFFSETFROM:-0400
TZOFFSETTO:-0500
TZNAME:EST
DTSTART:20261101T060000
END:STANDARD
END:VTIMEZONE
BEGIN:VEVENT
DTSTART;TZID=America/New_York:20250327T100000
DTEND;TZID=America/New_York:20250327T140000
DTSTAMP:20260424T174947
CREATED:20241203T155150Z
LAST-MODIFIED:20241203T155410Z
UID:10002288-1743069600-1743084000@www.faytechcc.edu
SUMMARY:IT Job Fair
DESCRIPTION:
URL:https://www.faytechcc.edu/event/it-job-fair/
LOCATION:Tony Rand Center Multipurpose Room\, 2220 Hull Road\, Fayett\, NC\, 28303\, United States
CATEGORIES:Career Development Center
END:VEVENT
BEGIN:VEVENT
DTSTART;TZID=America/New_York:20250327T120000
DTEND;TZID=America/New_York:20250327T120000
DTSTAMP:20260424T174947
CREATED:20250321T135031Z
LAST-MODIFIED:20250321T135031Z
UID:10002959-1743076800-1743076800@www.faytechcc.edu
SUMMARY:English and TEAS Test Workshop
DESCRIPTION:
URL:https://www.faytechcc.edu/event/english-and-teas-test-workshop/2025-03-27/
LOCATION:Student Learning Center\, 2221 Hull Rd.\, Fayetteville\, NC\, 28303\, United States
ORGANIZER;CN="FTCC Student Learning Center":MAILTO:harrisbr@faytechcc.edu
END:VEVENT
BEGIN:VEVENT
DTSTART;TZID=America/New_York:20250327T130000
DTEND;TZID=America/New_York:20250327T150000
DTSTAMP:20260424T174947
CREATED:20250130T194851Z
LAST-MODIFIED:20250130T194851Z
UID:10002815-1743080400-1743087600@www.faytechcc.edu
SUMMARY:Gaming & Digital Media Club Meeting
DESCRIPTION:
URL:https://www.faytechcc.edu/event/gaming-digital-media-club-meeting-6/
LOCATION:Advance Technology Center Rm. 231\, 2300 Hull Road\, Fayetteville\, 28303\, United States
CATEGORIES:Gaming and Interactive Digital Media Club
END:VEVENT
BEGIN:VEVENT
DTSTART;TZID=America/New_York:20250327T173000
DTEND;TZID=America/New_York:20250327T190000
DTSTAMP:20260424T174947
CREATED:20250205T162539Z
LAST-MODIFIED:20250205T162623Z
UID:10002869-1743096600-1743102000@www.faytechcc.edu
SUMMARY:Cash in on College: Unlock Your FAFSA Funds!
DESCRIPTION:Cash in on College: Unlock Your FAFSA Funds!\nGet the financial aid you deserve! Join us for expert guidance from financial aid advisors\, CFNC & MyFutureNC\, and the Cumberland Community Foundation. \n📅 Event Dates & Locations:\n🔹 02/25 & 03/13 – FTCC\n🔹 03/27 – Fayetteville State \n🕠 Time: 5:30 PM – 7:00 PM \n🎉 Win Scholarships\, iPads\, and More! \nDon’t miss this opportunity to secure your future. See you there!
URL:https://www.faytechcc.edu/event/cash-in-on-college-unlock-your-fafsa-funds-2/
LOCATION:Fayetteville State University
ORGANIZER;CN="Student Finanacial Aid Services":MAILTO:youngblt@faytechcc.edu
END:VEVENT
END:VCALENDAR