BEGIN:VCALENDAR
VERSION:2.0
PRODID:-//Fayetteville Technical Community College - ECPv6.15.9//NONSGML v1.0//EN
CALSCALE:GREGORIAN
METHOD:PUBLISH
X-WR-CALNAME:Fayetteville Technical Community College
X-ORIGINAL-URL:https://www.faytechcc.edu
X-WR-CALDESC:Events for Fayetteville Technical Community College
REFRESH-INTERVAL;VALUE=DURATION:PT1H
X-Robots-Tag:noindex
X-PUBLISHED-TTL:PT1H
BEGIN:VTIMEZONE
TZID:America/New_York
BEGIN:DAYLIGHT
TZOFFSETFROM:-0500
TZOFFSETTO:-0400
TZNAME:EDT
DTSTART:20240310T070000
END:DAYLIGHT
BEGIN:STANDARD
TZOFFSETFROM:-0400
TZOFFSETTO:-0500
TZNAME:EST
DTSTART:20241103T060000
END:STANDARD
BEGIN:DAYLIGHT
TZOFFSETFROM:-0500
TZOFFSETTO:-0400
TZNAME:EDT
DTSTART:20250309T070000
END:DAYLIGHT
BEGIN:STANDARD
TZOFFSETFROM:-0400
TZOFFSETTO:-0500
TZNAME:EST
DTSTART:20251102T060000
END:STANDARD
BEGIN:DAYLIGHT
TZOFFSETFROM:-0500
TZOFFSETTO:-0400
TZNAME:EDT
DTSTART:20260308T070000
END:DAYLIGHT
BEGIN:STANDARD
TZOFFSETFROM:-0400
TZOFFSETTO:-0500
TZNAME:EST
DTSTART:20261101T060000
END:STANDARD
END:VTIMEZONE
BEGIN:VEVENT
DTSTART;TZID=America/New_York:20250317T080000
DTEND;TZID=America/New_York:20250321T170000
DTSTAMP:20260424T174948
CREATED:20250227T182821Z
LAST-MODIFIED:20250227T182821Z
UID:10002935-1742198400-1742576400@www.faytechcc.edu
SUMMARY:Kindness Board
DESCRIPTION:🍀 Join the Kindness Movement! 🍀\nThe National Technical Honor Society\, in collaboration with the Library\, invites you to take part in our Kindness Matters Board—an interactive way to spread positivity around campus! \nHow does it work?\nFind the whiteboard filled with sticky notes\, pick one\, and complete the small act of kindness written on it. It’s that simple! \nThe Kindness Matters Board is a space to:\n✔ Spread kindness\n✔ Compliment and appreciate others\n✔ Build new friendships or strengthen existing ones\n✔ Promote mental health awareness \nOne small act of kindness can have a BIG impact on someone’s day! Look for the Kindness Board in the Paul H. Thompson Library\, starting March 17th. It will be up until the 21st (or possibly longer!). \nTo celebrate Saint Patrick’s Day\, we encourage you to be the rainbow in someone’s day! 🌈🍀 \nBe kind. Stay kind. Spread kindness. 🍀
URL:https://www.faytechcc.edu/event/kindness-board/
LOCATION:Paul H. Thompson Library\, 2221 Hull Rd\, Fayetteville\, NC\, 28303\, United States
END:VEVENT
BEGIN:VEVENT
DTSTART;TZID=America/New_York:20250318T100000
DTEND;TZID=America/New_York:20250318T110000
DTSTAMP:20260424T174948
CREATED:20240829T192937Z
LAST-MODIFIED:20240829T192938Z
UID:10001962-1742292000-1742295600@www.faytechcc.edu
SUMMARY:Trojan Hour on WIDU
DESCRIPTION:Don’t miss FTCC’s Trojan Hour on the radio! It airs on at 10am on the third Tuesday of each month on WIDU – 1600 AM. The show is also streamed live on WIDU’s Facebook page.  \nTrojan Hour is hosted by students in FTCC’s Digital Media Technology program and focuses on people\, programs and events at FTCC.
URL:https://www.faytechcc.edu/event/trojan-hour-on-widu/2025-03-18/
LOCATION:WIDU – 1600 AM radio
CATEGORIES:Public Presentation,Students
ORGANIZER;CN="FTCC Digital Media program":MAILTO:quismunt@faytechcc.edu
END:VEVENT
BEGIN:VEVENT
DTSTART;TZID=America/New_York:20250318T110000
DTEND;TZID=America/New_York:20250318T143000
DTSTAMP:20260424T174948
CREATED:20250310T194310Z
LAST-MODIFIED:20250310T194310Z
UID:10002947-1742295600-1742308200@www.faytechcc.edu
SUMMARY:Sip and Paint
DESCRIPTION:Sip & Paint 🎨🍹\n📅 March 18\, 2025 | 🕚 11:00 AM – 2:30 PM\n📍 Tony Rand Student Center Multipurpose room\nUnleash your creativity at our guided Trojan painting class while enjoying delicious mocktails! 🖌️✨ \n🔹 Two Sessions (First come\, first serve\, max 50 students per session):\n🎨 Session 1: 11:00 AM – 12:30 PM\n🎨 Session 2: 1:00 PM – 2:30 PM \nDon’t miss this fun and relaxing event! 🎨🍹 \n🎟 Open to students only.
URL:https://www.faytechcc.edu/event/sip-and-paint-2/
LOCATION:Tony Rand Student Center Multipurpose Room
ORGANIZER;CN="Student Activities":MAILTO:plessh@faytechcc.edu
END:VEVENT
BEGIN:VEVENT
DTSTART;TZID=America/New_York:20250318T120000
DTEND;TZID=America/New_York:20250318T130000
DTSTAMP:20260424T174948
CREATED:20250110T123247Z
LAST-MODIFIED:20250110T123247Z
UID:10002351-1742299200-1742302800@www.faytechcc.edu
SUMMARY:Seekers Fellowship Christian Club
DESCRIPTION:Experience Food\, Fellowship\, and Faith \nWe invite you to meet with God—yes\, the Creator of the universe—in the person of Jesus Christ every week! Join us for an uplifting time of food\, fellowship\, and Bible study\, where you can explore His love and discover how to live forever. \n“For God so loved the world that He gave His one and only Son\, that whoever believes in Him shall not perish\, but have eternal life.” – John 3:16 \nCome be part of a community dedicated to living out His love. Together\, we’ll follow the Golden Rule\, foster compassion\, and make the world a better place\, starting right here at FTCC. \nWe’d love to meet you!
URL:https://www.faytechcc.edu/event/seekers-fellowship-christian-club/2025-03-18/
LOCATION:Cumberland Hall\, Room 360\, 2215 Hull Rd.\, Fayetteville\, NC\, 28303\, United States
ORGANIZER;CN="FTCC Seekers Fellowship Club":MAILTO:abrahamn@faytechcc.edu
END:VEVENT
BEGIN:VEVENT
DTSTART;TZID=America/New_York:20250318T120000
DTEND;TZID=America/New_York:20250318T130000
DTSTAMP:20260424T174949
CREATED:20250217T131301Z
LAST-MODIFIED:20250217T131301Z
UID:10002899-1742299200-1742302800@www.faytechcc.edu
SUMMARY:Toastmasters Meeting
DESCRIPTION:🗣️ Toastmasters Weekly Meetings\n📅 Tuesdays\n⏰ 12:00 PM – 1:00 PM\n📍 CBI 134\nJoin us for Toastmasters\, a public speaking forum open to all FTCC students\, faculty\, and staff. Enhance your communication skills in a supportive environment!
URL:https://www.faytechcc.edu/event/toastmasters-meeting/2025-03-18/
LOCATION:CBI 134\, 2733 Fort Bragg Road\, Fayetteville\, NC\, 28303\, United States
ORGANIZER;CN="FTCC Toastmasters Chapter":MAILTO:hicksc@faytechcc.edu
END:VEVENT
BEGIN:VEVENT
DTSTART;TZID=America/New_York:20250318T133000
DTEND;TZID=America/New_York:20250318T143000
DTSTAMP:20260424T174949
CREATED:20250206T205003Z
LAST-MODIFIED:20250206T205004Z
UID:10002845-1742304600-1742308200@www.faytechcc.edu
SUMMARY:Sexuality and Gender Equality (S.A.G.E.) Club Meeting
DESCRIPTION: 🌈 Join the S.A.G.E. Club! 🌈\nAre you passionate about equality\, inclusivity\, and building a supportive community? The Sexuality and Gender Equality (S.A.G.E.) Club is dedicated to promoting fairness and respect for all—regardless of sexual orientation\, romantic orientation\, gender identity\, or gender expression. \n📅 Meetings: 1st & 3rd Tuesday of each month\n⏰ Time: 1:30 PM\n📍 Location: Center for Business & Industry (CBI)\, Room 134 \nCome connect with like-minded individuals\, engage in meaningful discussions\, and participate in community-building activities. Let’s work together to create a more inclusive world! \nEveryone is welcome! 💜✨
URL:https://www.faytechcc.edu/event/sexuality-and-gender-equality-s-a-g-e-club-meeting-2/2025-03-18/
LOCATION:CBI 134\, 2733 Fort Bragg Road\, Fayetteville\, NC\, 28303\, United States
ORGANIZER;CN="FTCC S.A.G.E. Club":MAILTO:smithjen@faytechcc.edu
END:VEVENT
END:VCALENDAR