BEGIN:VCALENDAR
VERSION:2.0
PRODID:-//Fayetteville Technical Community College - ECPv6.15.9//NONSGML v1.0//EN
CALSCALE:GREGORIAN
METHOD:PUBLISH
X-WR-CALNAME:Fayetteville Technical Community College
X-ORIGINAL-URL:https://www.faytechcc.edu
X-WR-CALDESC:Events for Fayetteville Technical Community College
REFRESH-INTERVAL;VALUE=DURATION:PT1H
X-Robots-Tag:noindex
X-PUBLISHED-TTL:PT1H
BEGIN:VTIMEZONE
TZID:America/New_York
BEGIN:DAYLIGHT
TZOFFSETFROM:-0500
TZOFFSETTO:-0400
TZNAME:EDT
DTSTART:20240310T070000
END:DAYLIGHT
BEGIN:STANDARD
TZOFFSETFROM:-0400
TZOFFSETTO:-0500
TZNAME:EST
DTSTART:20241103T060000
END:STANDARD
BEGIN:DAYLIGHT
TZOFFSETFROM:-0500
TZOFFSETTO:-0400
TZNAME:EDT
DTSTART:20250309T070000
END:DAYLIGHT
BEGIN:STANDARD
TZOFFSETFROM:-0400
TZOFFSETTO:-0500
TZNAME:EST
DTSTART:20251102T060000
END:STANDARD
BEGIN:DAYLIGHT
TZOFFSETFROM:-0500
TZOFFSETTO:-0400
TZNAME:EDT
DTSTART:20260308T070000
END:DAYLIGHT
BEGIN:STANDARD
TZOFFSETFROM:-0400
TZOFFSETTO:-0500
TZNAME:EST
DTSTART:20261101T060000
END:STANDARD
END:VTIMEZONE
BEGIN:VEVENT
DTSTART;TZID=America/New_York:20250228T100000
DTEND;TZID=America/New_York:20250228T120000
DTSTAMP:20260424T174949
CREATED:20250107T135257Z
LAST-MODIFIED:20250107T163729Z
UID:10002322-1740736800-1740744000@www.faytechcc.edu
SUMMARY:Open Lab Resume Assistance
DESCRIPTION:
URL:https://www.faytechcc.edu/event/open-lab-resume-assistance-16/
LOCATION:Tony Rand Student Center Rm 124\, 2220 Hull Rd\, Fayetteville\, NC\, 28303\, United States
CATEGORIES:Career Development Center
END:VEVENT
BEGIN:VEVENT
DTSTART;TZID=America/New_York:20250228T183000
DTEND;TZID=America/New_York:20250228T213000
DTSTAMP:20260424T174949
CREATED:20250206T195306Z
LAST-MODIFIED:20250211T173343Z
UID:10002878-1740767400-1740778200@www.faytechcc.edu
SUMMARY:Murder Mystery Dinner
DESCRIPTION:🔎🍽️ Murder Mystery Dinner 🍽️🔎\nStep into a night of mystery\, intrigue\, and fine dining at our Murder Mystery Dinner! Can you uncover the truth before the night is over? Join us for an interactive evening filled with suspense and a delicious 4-course dinner. \n📅 Date: February 28th\n⏰ Time: 6:30 PM\n📍 Location: Culinary Dining Room \n🕵️ Interactive Murder Mystery Experience\n🍽️ Exquisite 4-Course Dinner\n🔔 Sign-ups begin February 10th at 8 AM – Only the first 30 students will secure a spot\, so don’t miss out! \nGet ready for a thrilling evening where every guest is a suspect… Will you solve the mystery? 🕵️‍♂️🍷 \n#MurderMystery #DinnerAndDetectives #SolveTheCase
URL:https://www.faytechcc.edu/event/murder-mystery-dinner/
LOCATION:Culinary Dining Room\, 2200 Hull Road\, Fayetteville\, NC\, 28303
ORGANIZER;CN="Student Activities":MAILTO:plessh@faytechcc.edu
END:VEVENT
BEGIN:VEVENT
DTSTART;TZID=America/New_York:20250228T190000
DTEND;TZID=America/New_York:20250228T213000
DTSTAMP:20260424T174949
CREATED:20250123T195441Z
LAST-MODIFIED:20250123T195441Z
UID:10002425-1740769200-1740778200@www.faytechcc.edu
SUMMARY:The 25th Annual Putnam County Spelling Bee - The Musical
DESCRIPTION:🎭 FTCC Fine Arts Presents\nThe 25th Annual Putnam County Spelling Bee\, The Musical \n🎶 Music and Lyrics: William Finn\n📖 Book: Rachel Sheinkin\n💡 Conceived by: Rebecca Feldman \n📍 Location: FTCC Campus\, Cumberland Hall Auditorium\n🎟️ Admission: Free and open to the public \n📅 Show Dates: February 20 – March 1\, 2025\n🕖 Show Times:\nThursdays & Fridays: 7:00 PM\nSaturdays: 2:00 PM & 7:00 PM \n⚠️ Rated PG-13 for strong language and crude humor. \nPlease mark your calendars and join us for a fun and unforgettable performance! 🎶🧩
URL:https://www.faytechcc.edu/event/the-25th-annual-putnam-county-spelling-bee-the-musical/2025-02-28/
LOCATION:Cumberland Hall Auditorium
CATEGORIES:Fine Arts
END:VEVENT
END:VCALENDAR