BEGIN:VCALENDAR
VERSION:2.0
PRODID:-//Fayetteville Technical Community College - ECPv6.15.9//NONSGML v1.0//EN
CALSCALE:GREGORIAN
METHOD:PUBLISH
X-WR-CALNAME:Fayetteville Technical Community College
X-ORIGINAL-URL:https://www.faytechcc.edu
X-WR-CALDESC:Events for Fayetteville Technical Community College
REFRESH-INTERVAL;VALUE=DURATION:PT1H
X-Robots-Tag:noindex
X-PUBLISHED-TTL:PT1H
BEGIN:VTIMEZONE
TZID:America/New_York
BEGIN:DAYLIGHT
TZOFFSETFROM:-0500
TZOFFSETTO:-0400
TZNAME:EDT
DTSTART:20240310T070000
END:DAYLIGHT
BEGIN:STANDARD
TZOFFSETFROM:-0400
TZOFFSETTO:-0500
TZNAME:EST
DTSTART:20241103T060000
END:STANDARD
BEGIN:DAYLIGHT
TZOFFSETFROM:-0500
TZOFFSETTO:-0400
TZNAME:EDT
DTSTART:20250309T070000
END:DAYLIGHT
BEGIN:STANDARD
TZOFFSETFROM:-0400
TZOFFSETTO:-0500
TZNAME:EST
DTSTART:20251102T060000
END:STANDARD
BEGIN:DAYLIGHT
TZOFFSETFROM:-0500
TZOFFSETTO:-0400
TZNAME:EDT
DTSTART:20260308T070000
END:DAYLIGHT
BEGIN:STANDARD
TZOFFSETFROM:-0400
TZOFFSETTO:-0500
TZNAME:EST
DTSTART:20261101T060000
END:STANDARD
END:VTIMEZONE
BEGIN:VEVENT
DTSTART;TZID=America/New_York:20250227T100000
DTEND;TZID=America/New_York:20250227T150000
DTSTAMP:20260425T000907
CREATED:20250218T150256Z
LAST-MODIFIED:20250221T174131Z
UID:10002914-1740650400-1740668400@www.faytechcc.edu
SUMMARY:FTCC Open House - Education Center at Fort Bragg
DESCRIPTION:FTCC Open House – February 27\, 2025\n📍 Education Center at Fort Bragg\n🕙 10 AM – 3 PM\nCome to an Open House at FTCC’s office at the Education Center at Fort Bragg to explore exciting career opportunities in CDL Truck Driving\, Basic Law Enforcement\, Early Childhood Technology\, Emergency Medical Services\, Fire Protection Technology\, and more! \n✅ Meet recruiters and financial aid representatives\n✅ Learn about training programs that can jump-start your career\n✅ Enjoy FREE doughnuts\, popcorn\, and pizza! \nRegister today! Scan the QR code to secure your spot.  \nThe Education Center is located in Building I-3571 Wing F\, 4520 Knox St.\, Fort Bragg\, NC 28310. For more information\, contact FTCC’s Military and Veterans Programs at 910-678-1050 or military@faytechcc.edu. \n 
URL:https://www.faytechcc.edu/event/open-house-fort-bragg-education-center/
LOCATION:Fort Bragg Education Center\, 4520 Knox Street - FTCC Bldg I-3571 Wing F\, Fort Bragg\, NC\, 28310\, United States
END:VEVENT
BEGIN:VEVENT
DTSTART;TZID=America/New_York:20250227T113000
DTEND;TZID=America/New_York:20250227T133000
DTSTAMP:20260425T000907
CREATED:20250221T161644Z
LAST-MODIFIED:20250221T162135Z
UID:10002928-1740655800-1740663000@www.faytechcc.edu
SUMMARY:Open Mic
DESCRIPTION:Share your original works of music\, art or poetry during an Open Mic session from 11:30am – 1:30pm on Thursday\, Feb. 27\, in the Collegiate Recovery Room in HOS 630. \nPresented by Wellness Care Services\, the Loose Leaf Writer’s Club and Collegiate Recovery. \nOpen Mic event – Feb. 27
URL:https://www.faytechcc.edu/event/open-mic/
LOCATION:Collegiate Recovery Program – HOS 630\, 2204 Hull Road\, Fayetteville\, NC\, 28303\, United States
END:VEVENT
BEGIN:VEVENT
DTSTART;TZID=America/New_York:20250227T130000
DTEND;TZID=America/New_York:20250227T150000
DTSTAMP:20260425T000907
CREATED:20250130T194822Z
LAST-MODIFIED:20250130T194822Z
UID:10002813-1740661200-1740668400@www.faytechcc.edu
SUMMARY:Gaming & Digital Media Club Meeting
DESCRIPTION:
URL:https://www.faytechcc.edu/event/gaming-digital-media-club-meeting-4/
LOCATION:Advance Technology Center Rm. 231\, 2300 Hull Road\, Fayetteville\, 28303\, United States
END:VEVENT
BEGIN:VEVENT
DTSTART;TZID=America/New_York:20250227T190000
DTEND;TZID=America/New_York:20250227T200000
DTSTAMP:20260425T000907
CREATED:20241015T145047Z
LAST-MODIFIED:20241015T145047Z
UID:10002118-1740682800-1740686400@www.faytechcc.edu
SUMMARY:Men's Basketball (Home)- Sophomore Night
DESCRIPTION:Men’s Basketball is hosting Louisburg College on Sophomore Night at 7pm. All home games are free admission and played at Reid Ross Classical School: 3200 Ramsey Street
URL:https://www.faytechcc.edu/event/mens-basketball-home-sophomore-night/
LOCATION:NC
CATEGORIES:Athletics
END:VEVENT
BEGIN:VEVENT
DTSTART;TZID=America/New_York:20250227T190000
DTEND;TZID=America/New_York:20250227T210000
DTSTAMP:20260425T000907
CREATED:20250217T170246Z
LAST-MODIFIED:20250217T170246Z
UID:10002913-1740682800-1740690000@www.faytechcc.edu
SUMMARY:FTCC Guest Artist Concert Series
DESCRIPTION:FTCC Guest Artist Concert Series 🎶\nJoin us for an evening of exceptional music as FTCC hosts a free concert featuring the works of American Composer & Conductor Ahmed Al Abaca with the Fayetteville Symphony Orchestra Wind Quintet and the FTCC Concert Band. \n📅 Date: February 27\, 2025\n⏰ Time: 7:00 PM\n📍 Location: FTCC Tony Rand Student Center\, Multipurpose Room \nExperience a captivating performance featuring talented musicians in an event you won’t want to miss! \nFree and open to the public. \nWe look forward to seeing you there!
URL:https://www.faytechcc.edu/event/ftcc-guest-artist-concert-series/
LOCATION:Tony Rand Center Multipurpose Room\, 2220 Hull Road\, Fayett\, NC\, 28303\, United States
ORGANIZER;CN="FTCC Foundation":MAILTO:foundation@faytechcc.edu
END:VEVENT
BEGIN:VEVENT
DTSTART;TZID=America/New_York:20250227T190000
DTEND;TZID=America/New_York:20250227T213000
DTSTAMP:20260425T000907
CREATED:20250123T195441Z
LAST-MODIFIED:20250123T195441Z
UID:10002424-1740682800-1740691800@www.faytechcc.edu
SUMMARY:The 25th Annual Putnam County Spelling Bee - The Musical
DESCRIPTION:🎭 FTCC Fine Arts Presents\nThe 25th Annual Putnam County Spelling Bee\, The Musical \n🎶 Music and Lyrics: William Finn\n📖 Book: Rachel Sheinkin\n💡 Conceived by: Rebecca Feldman \n📍 Location: FTCC Campus\, Cumberland Hall Auditorium\n🎟️ Admission: Free and open to the public \n📅 Show Dates: February 20 – March 1\, 2025\n🕖 Show Times:\nThursdays & Fridays: 7:00 PM\nSaturdays: 2:00 PM & 7:00 PM \n⚠️ Rated PG-13 for strong language and crude humor. \nPlease mark your calendars and join us for a fun and unforgettable performance! 🎶🧩
URL:https://www.faytechcc.edu/event/the-25th-annual-putnam-county-spelling-bee-the-musical/2025-02-27/
LOCATION:Cumberland Hall Auditorium
CATEGORIES:Fine Arts
END:VEVENT
END:VCALENDAR