BEGIN:VCALENDAR
VERSION:2.0
PRODID:-//Fayetteville Technical Community College - ECPv6.15.9//NONSGML v1.0//EN
CALSCALE:GREGORIAN
METHOD:PUBLISH
X-WR-CALNAME:Fayetteville Technical Community College
X-ORIGINAL-URL:https://www.faytechcc.edu
X-WR-CALDESC:Events for Fayetteville Technical Community College
REFRESH-INTERVAL;VALUE=DURATION:PT1H
X-Robots-Tag:noindex
X-PUBLISHED-TTL:PT1H
BEGIN:VTIMEZONE
TZID:America/New_York
BEGIN:DAYLIGHT
TZOFFSETFROM:-0500
TZOFFSETTO:-0400
TZNAME:EDT
DTSTART:20240310T070000
END:DAYLIGHT
BEGIN:STANDARD
TZOFFSETFROM:-0400
TZOFFSETTO:-0500
TZNAME:EST
DTSTART:20241103T060000
END:STANDARD
BEGIN:DAYLIGHT
TZOFFSETFROM:-0500
TZOFFSETTO:-0400
TZNAME:EDT
DTSTART:20250309T070000
END:DAYLIGHT
BEGIN:STANDARD
TZOFFSETFROM:-0400
TZOFFSETTO:-0500
TZNAME:EST
DTSTART:20251102T060000
END:STANDARD
BEGIN:DAYLIGHT
TZOFFSETFROM:-0500
TZOFFSETTO:-0400
TZNAME:EDT
DTSTART:20260308T070000
END:DAYLIGHT
BEGIN:STANDARD
TZOFFSETFROM:-0400
TZOFFSETTO:-0500
TZNAME:EST
DTSTART:20261101T060000
END:STANDARD
END:VTIMEZONE
BEGIN:VEVENT
DTSTART;TZID=America/New_York:20250225T110000
DTEND;TZID=America/New_York:20250225T150000
DTSTAMP:20260425T000907
CREATED:20250224T142547Z
LAST-MODIFIED:20250224T142547Z
UID:10002932-1740481200-1740495600@www.faytechcc.edu
SUMMARY:Military Community Virtual Hiring Event
DESCRIPTION:
URL:https://www.faytechcc.edu/event/military-community-virtual-hiring-event/
LOCATION:NC
CATEGORIES:Career Development Center
END:VEVENT
BEGIN:VEVENT
DTSTART;TZID=America/New_York:20250225T120000
DTEND;TZID=America/New_York:20250225T130000
DTSTAMP:20260425T000907
CREATED:20250110T123247Z
LAST-MODIFIED:20250110T123247Z
UID:10002348-1740484800-1740488400@www.faytechcc.edu
SUMMARY:Seekers Fellowship Christian Club
DESCRIPTION:Experience Food\, Fellowship\, and Faith \nWe invite you to meet with God—yes\, the Creator of the universe—in the person of Jesus Christ every week! Join us for an uplifting time of food\, fellowship\, and Bible study\, where you can explore His love and discover how to live forever. \n“For God so loved the world that He gave His one and only Son\, that whoever believes in Him shall not perish\, but have eternal life.” – John 3:16 \nCome be part of a community dedicated to living out His love. Together\, we’ll follow the Golden Rule\, foster compassion\, and make the world a better place\, starting right here at FTCC. \nWe’d love to meet you!
URL:https://www.faytechcc.edu/event/seekers-fellowship-christian-club/2025-02-25/
LOCATION:Cumberland Hall\, Room 360\, 2215 Hull Rd.\, Fayetteville\, NC\, 28303\, United States
ORGANIZER;CN="FTCC Seekers Fellowship Club":MAILTO:abrahamn@faytechcc.edu
END:VEVENT
BEGIN:VEVENT
DTSTART;TZID=America/New_York:20250225T120000
DTEND;TZID=America/New_York:20250225T130000
DTSTAMP:20260425T000907
CREATED:20250217T131301Z
LAST-MODIFIED:20250217T131301Z
UID:10002896-1740484800-1740488400@www.faytechcc.edu
SUMMARY:Toastmasters Meeting
DESCRIPTION:🗣️ Toastmasters Weekly Meetings\n📅 Tuesdays\n⏰ 12:00 PM – 1:00 PM\n📍 CBI 134\nJoin us for Toastmasters\, a public speaking forum open to all FTCC students\, faculty\, and staff. Enhance your communication skills in a supportive environment!
URL:https://www.faytechcc.edu/event/toastmasters-meeting/2025-02-25/
LOCATION:CBI 134\, 2733 Fort Bragg Road\, Fayetteville\, NC\, 28303\, United States
ORGANIZER;CN="FTCC Toastmasters Chapter":MAILTO:hicksc@faytechcc.edu
END:VEVENT
BEGIN:VEVENT
DTSTART;TZID=America/New_York:20250225T120000
DTEND;TZID=America/New_York:20250225T140000
DTSTAMP:20260425T000907
CREATED:20250107T135231Z
LAST-MODIFIED:20250107T135231Z
UID:10002321-1740484800-1740492000@www.faytechcc.edu
SUMMARY:Open Lab Resume Assistance
DESCRIPTION:
URL:https://www.faytechcc.edu/event/open-lab-resume-assistance-15/
LOCATION:Tony Rand Student Center Rm 124\, 2220 Hull Rd\, Fayetteville\, NC\, 28303\, United States
CATEGORIES:Career Development Center
END:VEVENT
BEGIN:VEVENT
DTSTART;TZID=America/New_York:20250225T191500
DTEND;TZID=America/New_York:20250225T203000
DTSTAMP:20260425T000907
CREATED:20250224T181153Z
LAST-MODIFIED:20250224T181153Z
UID:10002933-1740510900-1740515400@www.faytechcc.edu
SUMMARY:Men's Basketball (Home)
DESCRIPTION:Men’s Basketball is hosting Shooting 4 Greatness Prep at 7:15pm. All home games are free admission and held at Reid Ross Classical School: 3200 Ramsey Street. 
URL:https://www.faytechcc.edu/event/mens-basketball-home-3/
LOCATION:NC
CATEGORIES:Athletics
END:VEVENT
END:VCALENDAR