BEGIN:VCALENDAR
VERSION:2.0
PRODID:-//Fayetteville Technical Community College - ECPv6.15.9//NONSGML v1.0//EN
CALSCALE:GREGORIAN
METHOD:PUBLISH
X-WR-CALNAME:Fayetteville Technical Community College
X-ORIGINAL-URL:https://www.faytechcc.edu
X-WR-CALDESC:Events for Fayetteville Technical Community College
REFRESH-INTERVAL;VALUE=DURATION:PT1H
X-Robots-Tag:noindex
X-PUBLISHED-TTL:PT1H
BEGIN:VTIMEZONE
TZID:America/New_York
BEGIN:DAYLIGHT
TZOFFSETFROM:-0500
TZOFFSETTO:-0400
TZNAME:EDT
DTSTART:20240310T070000
END:DAYLIGHT
BEGIN:STANDARD
TZOFFSETFROM:-0400
TZOFFSETTO:-0500
TZNAME:EST
DTSTART:20241103T060000
END:STANDARD
BEGIN:DAYLIGHT
TZOFFSETFROM:-0500
TZOFFSETTO:-0400
TZNAME:EDT
DTSTART:20250309T070000
END:DAYLIGHT
BEGIN:STANDARD
TZOFFSETFROM:-0400
TZOFFSETTO:-0500
TZNAME:EST
DTSTART:20251102T060000
END:STANDARD
BEGIN:DAYLIGHT
TZOFFSETFROM:-0500
TZOFFSETTO:-0400
TZNAME:EDT
DTSTART:20260308T070000
END:DAYLIGHT
BEGIN:STANDARD
TZOFFSETFROM:-0400
TZOFFSETTO:-0500
TZNAME:EST
DTSTART:20261101T060000
END:STANDARD
END:VTIMEZONE
BEGIN:VEVENT
DTSTART;TZID=America/New_York:20250213T110000
DTEND;TZID=America/New_York:20250213T140000
DTSTAMP:20260425T093307
CREATED:20250206T194327Z
LAST-MODIFIED:20250212T154036Z
UID:10002876-1739444400-1739455200@www.faytechcc.edu
SUMMARY:Day of Love Event
DESCRIPTION:💖 Day of Love Event 💖\nCelebrate love and friendship at our Day of Love Event! Enjoy a relaxing and creative experience filled with special activities just for you. \n📅 Date: February 13th\n⏰ Time: 11 AM – 2 PM\n📍 Location: Tony Rand Multipurpose Room \n✨ Activities Include:\n💐 Build your own flower bouquet\n🕯️ Make your own candles\n💆 Massages available\n🍫 Indulge in Valentine’s Day sweets\nCome spread the love and treat yourself to a day of joy and relaxation! ❤️✨ \n#DayOfLove #SelfCare #CelebrateLove \nScreenshot
URL:https://www.faytechcc.edu/event/day-of-love-event/
LOCATION:Tony Rand Center Multipurpose Room\, 2220 Hull Road\, Fayett\, NC\, 28303\, United States
ORGANIZER;CN="Student Activities":MAILTO:plessh@faytechcc.edu
END:VEVENT
BEGIN:VEVENT
DTSTART;TZID=America/New_York:20250213T130000
DTEND;TZID=America/New_York:20250213T150000
DTSTAMP:20260425T093307
CREATED:20250130T194806Z
LAST-MODIFIED:20250130T194806Z
UID:10002812-1739451600-1739458800@www.faytechcc.edu
SUMMARY:Gaming & Digital Media Club Meeting
DESCRIPTION:
URL:https://www.faytechcc.edu/event/gaming-digital-media-club-meeting-3/
LOCATION:Advance Technology Center Rm. 231\, 2300 Hull Road\, Fayetteville\, 28303\, United States
END:VEVENT
END:VCALENDAR