BEGIN:VCALENDAR
VERSION:2.0
PRODID:-//Fayetteville Technical Community College - ECPv6.15.9//NONSGML v1.0//EN
CALSCALE:GREGORIAN
METHOD:PUBLISH
X-WR-CALNAME:Fayetteville Technical Community College
X-ORIGINAL-URL:https://www.faytechcc.edu
X-WR-CALDESC:Events for Fayetteville Technical Community College
REFRESH-INTERVAL;VALUE=DURATION:PT1H
X-Robots-Tag:noindex
X-PUBLISHED-TTL:PT1H
BEGIN:VTIMEZONE
TZID:America/New_York
BEGIN:DAYLIGHT
TZOFFSETFROM:-0500
TZOFFSETTO:-0400
TZNAME:EDT
DTSTART:20240310T070000
END:DAYLIGHT
BEGIN:STANDARD
TZOFFSETFROM:-0400
TZOFFSETTO:-0500
TZNAME:EST
DTSTART:20241103T060000
END:STANDARD
BEGIN:DAYLIGHT
TZOFFSETFROM:-0500
TZOFFSETTO:-0400
TZNAME:EDT
DTSTART:20250309T070000
END:DAYLIGHT
BEGIN:STANDARD
TZOFFSETFROM:-0400
TZOFFSETTO:-0500
TZNAME:EST
DTSTART:20251102T060000
END:STANDARD
BEGIN:DAYLIGHT
TZOFFSETFROM:-0500
TZOFFSETTO:-0400
TZNAME:EDT
DTSTART:20260308T070000
END:DAYLIGHT
BEGIN:STANDARD
TZOFFSETFROM:-0400
TZOFFSETTO:-0500
TZNAME:EST
DTSTART:20261101T060000
END:STANDARD
END:VTIMEZONE
BEGIN:VEVENT
DTSTART;TZID=America/New_York:20250131T100000
DTEND;TZID=America/New_York:20250131T120000
DTSTAMP:20260425T063551
CREATED:20250107T134809Z
LAST-MODIFIED:20250107T134809Z
UID:10002314-1738317600-1738324800@www.faytechcc.edu
SUMMARY:Open Lab Resume Assistance
DESCRIPTION:
URL:https://www.faytechcc.edu/event/open-lab-resume-assistance-8/
LOCATION:Tony Rand Student Center Rm 124\, 2220 Hull Rd\, Fayetteville\, NC\, 28303\, United States
CATEGORIES:Career Development Center
END:VEVENT
BEGIN:VEVENT
DTSTART;TZID=America/New_York:20250131T120000
DTEND;TZID=America/New_York:20250131T130000
DTSTAMP:20260425T063551
CREATED:20250121T155528Z
LAST-MODIFIED:20250130T194558Z
UID:10002413-1738324800-1738328400@www.faytechcc.edu
SUMMARY:Design Club Meeting
DESCRIPTION:🎨 Design Club Meeting\n📅 Friday\, January 31\, 2025\n⏰ 12:00 PM\n📍 Virtual College Center (VCC)\, Room 122 \n✨ What to Expect: \n\nLearn and grow your design skills\nMake friends and build connections\nCreate cool projects\nHave fun\, stand out!\n\nJoin us and unleash your creativity!
URL:https://www.faytechcc.edu/event/design-club-meeting/
LOCATION:VCC 122\, 2225 Hull Rd.\, Fayetteville\, NC\, 28303\, United States
ORGANIZER;CN="FTCC Design Club":MAILTO:smiths@faytechcc.edu
END:VEVENT
BEGIN:VEVENT
DTSTART;TZID=America/New_York:20250131T170000
DTEND;TZID=America/New_York:20250131T190000
DTSTAMP:20260425T063551
CREATED:20241015T150512Z
LAST-MODIFIED:20241015T150512Z
UID:10002132-1738342800-1738350000@www.faytechcc.edu
SUMMARY:Women's Basketball (Away)
DESCRIPTION:Women’s Basketball is traveling to Cleveland CC for a conference game at 5pm. 
URL:https://www.faytechcc.edu/event/womens-basketball-away-27/
LOCATION:NC
CATEGORIES:Athletics
END:VEVENT
END:VCALENDAR