BEGIN:VCALENDAR
VERSION:2.0
PRODID:-//Fayetteville Technical Community College - ECPv6.15.9//NONSGML v1.0//EN
CALSCALE:GREGORIAN
METHOD:PUBLISH
X-ORIGINAL-URL:https://www.faytechcc.edu
X-WR-CALDESC:Events for Fayetteville Technical Community College
REFRESH-INTERVAL;VALUE=DURATION:PT1H
X-Robots-Tag:noindex
X-PUBLISHED-TTL:PT1H
BEGIN:VTIMEZONE
TZID:America/New_York
BEGIN:DAYLIGHT
TZOFFSETFROM:-0500
TZOFFSETTO:-0400
TZNAME:EDT
DTSTART:20240310T070000
END:DAYLIGHT
BEGIN:STANDARD
TZOFFSETFROM:-0400
TZOFFSETTO:-0500
TZNAME:EST
DTSTART:20241103T060000
END:STANDARD
BEGIN:DAYLIGHT
TZOFFSETFROM:-0500
TZOFFSETTO:-0400
TZNAME:EDT
DTSTART:20250309T070000
END:DAYLIGHT
BEGIN:STANDARD
TZOFFSETFROM:-0400
TZOFFSETTO:-0500
TZNAME:EST
DTSTART:20251102T060000
END:STANDARD
BEGIN:DAYLIGHT
TZOFFSETFROM:-0500
TZOFFSETTO:-0400
TZNAME:EDT
DTSTART:20260308T070000
END:DAYLIGHT
BEGIN:STANDARD
TZOFFSETFROM:-0400
TZOFFSETTO:-0500
TZNAME:EST
DTSTART:20261101T060000
END:STANDARD
END:VTIMEZONE
BEGIN:VEVENT
DTSTART;TZID=America/New_York:20250130T110000
DTEND;TZID=America/New_York:20250130T130000
DTSTAMP:20260425T094735
CREATED:20250123T200629Z
LAST-MODIFIED:20250123T200904Z
UID:10002430-1738234800-1738242000@www.faytechcc.edu
SUMMARY:Spring Transfer Take Off
DESCRIPTION:🎓 Spring Transfer Take Off \n📍 Location: TRSC Lobby\n⏰ Time: 11:00 AM – 1:00 PM\n📅 Dates: Tuesday\, January 28 – Thursday\, January 30 \n✨ Event Details: \nMeet university representatives to discuss transfer options\, applications for fall enrollment\, program majors\, scholarships\, and opportunities for Associate of Applied Science degree students.\n🎁 Giveaways: University swag and free items for the first 100 students each day! \n🗓️ Tuesday\, January 28\n🌯 Free subs for the first 100 students! \nUNC-Greensboro\nUNC-Pembroke\nCampbell University\nUniversity of Maryland Global Campus\nUNC-Charlotte \n🗓️ Wednesday\, January 29\n🍕 Free pizza for the first 100 students! \nNC A&T University\nUNC-Wilmington\nECU\nMethodist University\nFayetteville State University\nNC State University\nGrand Canyon University \n🗓️ Thursday\, January 30\n🍩 Free donuts & assorted chips for the first 100 students! \nFSU School of Education\nAppalachian State University\nAmerican Public University\nGardner-Webb University\nECU School of Business\nWestern Governors University\nFSU School of Business\nExcelsior University \n📢 Don’t miss this opportunity to learn more about transferring and start planning your next step! 😊
URL:https://www.faytechcc.edu/event/spring-transfer-takeoff/2025-01-30/
LOCATION:Tony Rand Student Center Lobby\, 2220 Hull Rd.\, Fayetteville\, NC\, 28303\, United States
ORGANIZER;CN="University Outreach":MAILTO:nelsonl@faytechcc.edu
END:VEVENT
BEGIN:VEVENT
DTSTART;TZID=America/New_York:20250130T123000
DTEND;TZID=America/New_York:20250130T190000
DTSTAMP:20260425T094735
CREATED:20250121T194836Z
LAST-MODIFIED:20250121T195426Z
UID:10002418-1738240200-1738263600@www.faytechcc.edu
SUMMARY:Veterans Virtual Hiring Event
DESCRIPTION:Event 1\nEntry Time: 10:45 AM (MST)\nStart Time: 11:00 AM  (MST) \n  \n \n  \n  \nEvent 2\nEntry Time: 12:15 PM (MST)\nStart Time: 12:30 PM  (MST)
URL:https://www.faytechcc.edu/event/veterans-virtual-hiring-event-4/
LOCATION:NC
CATEGORIES:Career Development Center
END:VEVENT
BEGIN:VEVENT
DTSTART;TZID=America/New_York:20250130T130000
DTEND;TZID=America/New_York:20250130T150000
DTSTAMP:20260425T094735
CREATED:20250130T194749Z
LAST-MODIFIED:20250130T194749Z
UID:10002811-1738242000-1738249200@www.faytechcc.edu
SUMMARY:Gaming & Digital Media Club Meeting
DESCRIPTION:
URL:https://www.faytechcc.edu/event/gaming-digital-media-club-meeting-2/
LOCATION:Advance Technology Center Rm. 231\, 2300 Hull Road\, Fayetteville\, 28303\, United States
END:VEVENT
BEGIN:VEVENT
DTSTART;TZID=America/New_York:20250130T180000
DTEND;TZID=America/New_York:20250130T203000
DTSTAMP:20260425T094735
CREATED:20250128T151753Z
LAST-MODIFIED:20250128T151753Z
UID:10002806-1738260000-1738269000@www.faytechcc.edu
SUMMARY:Suicide Prevention Movie Night
DESCRIPTION:FTCC and the Fayetteville Grief Coalition Present:\nMoving America’s Soul on Suicide (MASOS): Suicide Prevention Movie Night \n📅 Date: January 30\, 2025\n⏰ Time: 6:00 PM – 8:30 PM\n📍 Location: Cumberland Hall Auditorium\, Room 360 \n🎥 Join us for an impactful evening focused on suicide prevention. This free event is open to the community. \n🔗 Register now using the link below or scan the QR code for more information. \n          Register for Movie \nFree admission. Together\, we can make a difference.
URL:https://www.faytechcc.edu/event/suicide-prevention-movie-night/
LOCATION:Cumberland Hall Auditorium\, Room 360\, 2215 Hull Road\, Fayetteville\, NC\, 28303\, United States
ORGANIZER;CN="FTCC's Collegiate Recovery Program":MAILTO:mcdonalr@faytechcc.edu
END:VEVENT
END:VCALENDAR