BEGIN:VCALENDAR
VERSION:2.0
PRODID:-//Fayetteville Technical Community College - ECPv6.15.9//NONSGML v1.0//EN
CALSCALE:GREGORIAN
METHOD:PUBLISH
X-WR-CALNAME:Fayetteville Technical Community College
X-ORIGINAL-URL:https://www.faytechcc.edu
X-WR-CALDESC:Events for Fayetteville Technical Community College
REFRESH-INTERVAL;VALUE=DURATION:PT1H
X-Robots-Tag:noindex
X-PUBLISHED-TTL:PT1H
BEGIN:VTIMEZONE
TZID:America/New_York
BEGIN:DAYLIGHT
TZOFFSETFROM:-0500
TZOFFSETTO:-0400
TZNAME:EDT
DTSTART:20240310T070000
END:DAYLIGHT
BEGIN:STANDARD
TZOFFSETFROM:-0400
TZOFFSETTO:-0500
TZNAME:EST
DTSTART:20241103T060000
END:STANDARD
BEGIN:DAYLIGHT
TZOFFSETFROM:-0500
TZOFFSETTO:-0400
TZNAME:EDT
DTSTART:20250309T070000
END:DAYLIGHT
BEGIN:STANDARD
TZOFFSETFROM:-0400
TZOFFSETTO:-0500
TZNAME:EST
DTSTART:20251102T060000
END:STANDARD
BEGIN:DAYLIGHT
TZOFFSETFROM:-0500
TZOFFSETTO:-0400
TZNAME:EDT
DTSTART:20260308T070000
END:DAYLIGHT
BEGIN:STANDARD
TZOFFSETFROM:-0400
TZOFFSETTO:-0500
TZNAME:EST
DTSTART:20261101T060000
END:STANDARD
END:VTIMEZONE
BEGIN:VEVENT
DTSTART;TZID=America/New_York:20250129T103000
DTEND;TZID=America/New_York:20250129T123000
DTSTAMP:20260425T063600
CREATED:20250109T164027Z
LAST-MODIFIED:20250109T164541Z
UID:10002326-1738146600-1738153800@www.faytechcc.edu
SUMMARY:Pop Up Event
DESCRIPTION:
URL:https://www.faytechcc.edu/event/pop-up-event-2/
LOCATION:Lafayette Hall Building\, 2201 Hull Road\, Fayetteville\, NC\, 28303\, United States
CATEGORIES:Career Development Center
END:VEVENT
BEGIN:VEVENT
DTSTART;TZID=America/New_York:20250129T103000
DTEND;TZID=America/New_York:20250129T130000
DTSTAMP:20260425T063600
CREATED:20250121T193126Z
LAST-MODIFIED:20250121T195422Z
UID:10002416-1738146600-1738155600@www.faytechcc.edu
SUMMARY:Veterans Virtual Hiring Event
DESCRIPTION:Entry Time: 8:45 AM (MST)\nStart Time: 9:00 AM  (MST) \n 
URL:https://www.faytechcc.edu/event/106412/
LOCATION:NC
CATEGORIES:Career Development Center
END:VEVENT
BEGIN:VEVENT
DTSTART;TZID=America/New_York:20250129T110000
DTEND;TZID=America/New_York:20250129T130000
DTSTAMP:20260425T063600
CREATED:20250123T200629Z
LAST-MODIFIED:20250123T200904Z
UID:10002429-1738148400-1738155600@www.faytechcc.edu
SUMMARY:Spring Transfer Take Off
DESCRIPTION:🎓 Spring Transfer Take Off \n📍 Location: TRSC Lobby\n⏰ Time: 11:00 AM – 1:00 PM\n📅 Dates: Tuesday\, January 28 – Thursday\, January 30 \n✨ Event Details: \nMeet university representatives to discuss transfer options\, applications for fall enrollment\, program majors\, scholarships\, and opportunities for Associate of Applied Science degree students.\n🎁 Giveaways: University swag and free items for the first 100 students each day! \n🗓️ Tuesday\, January 28\n🌯 Free subs for the first 100 students! \nUNC-Greensboro\nUNC-Pembroke\nCampbell University\nUniversity of Maryland Global Campus\nUNC-Charlotte \n🗓️ Wednesday\, January 29\n🍕 Free pizza for the first 100 students! \nNC A&T University\nUNC-Wilmington\nECU\nMethodist University\nFayetteville State University\nNC State University\nGrand Canyon University \n🗓️ Thursday\, January 30\n🍩 Free donuts & assorted chips for the first 100 students! \nFSU School of Education\nAppalachian State University\nAmerican Public University\nGardner-Webb University\nECU School of Business\nWestern Governors University\nFSU School of Business\nExcelsior University \n📢 Don’t miss this opportunity to learn more about transferring and start planning your next step! 😊
URL:https://www.faytechcc.edu/event/spring-transfer-takeoff/2025-01-29/
LOCATION:Tony Rand Student Center Lobby\, 2220 Hull Rd.\, Fayetteville\, NC\, 28303\, United States
ORGANIZER;CN="University Outreach":MAILTO:nelsonl@faytechcc.edu
END:VEVENT
BEGIN:VEVENT
DTSTART;TZID=America/New_York:20250129T113000
DTEND;TZID=America/New_York:20250129T130000
DTSTAMP:20260425T063600
CREATED:20250121T154547Z
LAST-MODIFIED:20250425T203811Z
UID:10002398-1738150200-1738155600@www.faytechcc.edu
SUMMARY:NTHS selling Pizza & Croissants
DESCRIPTION:📅 Every Wednesday\, unless otherwise announced\n⏰ 11:30 AM to 01:00 PM\n📍 Tony Rand Student Center \nThe National Technical Honor Society (NTHS) will be selling: \nPizza slices: $3 each (cash price)\nCroissants: $2 each (cash price)\n💳 Note: A $0.50 surcharge applies to card transactions. \nAll proceeds will contribute to funding the Endowed Memorial Scholarship for Paul Salada and Shahpour Dowlatshahi.
URL:https://www.faytechcc.edu/event/nths-selling-pizza-croissants/2025-01-29/
LOCATION:Tony Rand Student Center
END:VEVENT
BEGIN:VEVENT
DTSTART;TZID=America/New_York:20250129T120000
DTEND;TZID=America/New_York:20250129T130000
DTSTAMP:20260425T063600
CREATED:20250123T194033Z
LAST-MODIFIED:20250123T194033Z
UID:10002419-1738152000-1738155600@www.faytechcc.edu
SUMMARY:Psychology Club Meeting
DESCRIPTION:🧠 Psychology Club Meeting\n📅 Date: January 29th\n⏰ Time: 12:00 PM – 01:00 PM\n📍 Location: Horace Sisk (HOS)\, room 625 \nPlease come out and join us!
URL:https://www.faytechcc.edu/event/psychology-club-meeting/
LOCATION:Horace Sisk – Room 625\, 2204 Hull Rd.\, Fayetteville\, NC\, 28303\, United States
ORGANIZER;CN="FTCC Psychology Club":MAILTO:nancec@faytechcc.edu
END:VEVENT
BEGIN:VEVENT
DTSTART;TZID=America/New_York:20250129T123000
DTEND;TZID=America/New_York:20250129T150000
DTSTAMP:20260425T063600
CREATED:20250121T192342Z
LAST-MODIFIED:20250121T195418Z
UID:10002415-1738153800-1738162800@www.faytechcc.edu
SUMMARY:Virtual Hiring Event
DESCRIPTION:Entry Time: 10:45 AM (MST)\nStart Time: 11:00 AM  (MST) \n 
URL:https://www.faytechcc.edu/event/virtual-hiring-event-5/
LOCATION:NC
CATEGORIES:Career Development Center
END:VEVENT
BEGIN:VEVENT
DTSTART;TZID=America/New_York:20250129T190000
DTEND;TZID=America/New_York:20250129T210000
DTSTAMP:20260425T063600
CREATED:20241015T144322Z
LAST-MODIFIED:20241015T144322Z
UID:10002109-1738177200-1738184400@www.faytechcc.edu
SUMMARY:Men's Basketball (Home)
DESCRIPTION:Men’s Basketball is hosting Davidson-Davie at 7pm for a conference game. All home games are free admission and played at Reid Ross Classical School: 3200 Ramsey Street
URL:https://www.faytechcc.edu/event/mens-basketball-home-19/
LOCATION:NC
CATEGORIES:Athletics
END:VEVENT
BEGIN:VEVENT
DTSTART;TZID=America/New_York:20250129T190000
DTEND;TZID=America/New_York:20250129T210000
DTSTAMP:20260425T063600
CREATED:20250116T180120Z
LAST-MODIFIED:20250116T180120Z
UID:10002394-1738177200-1738184400@www.faytechcc.edu
SUMMARY:Men's Basketball Gold Rush
DESCRIPTION:🏀 Men’s Basketball Gold Rush\n📅 Date: January 29th\n⏰ Time: 7:00 PM\n📍 Location: Reid Ross Classical High School \n✨ Details: \n🎽 Wear Gold to show your support!\n🎁 Giveaways: Rally Towels and T-Shirts\nDon’t miss the excitement—see you there! 💛
URL:https://www.faytechcc.edu/event/mens-basketball-gold-rush/
LOCATION:Reid Ross Classical School\, 3200 Ramsey St.\, Fayetteville\, NC\, 28301
ORGANIZER;CN="FTCC Student Services":MAILTO:admissions@faytechcc.edu
END:VEVENT
END:VCALENDAR