BEGIN:VCALENDAR
VERSION:2.0
PRODID:-//Fayetteville Technical Community College - ECPv6.15.9//NONSGML v1.0//EN
CALSCALE:GREGORIAN
METHOD:PUBLISH
X-WR-CALNAME:Fayetteville Technical Community College
X-ORIGINAL-URL:https://www.faytechcc.edu
X-WR-CALDESC:Events for Fayetteville Technical Community College
REFRESH-INTERVAL;VALUE=DURATION:PT1H
X-Robots-Tag:noindex
X-PUBLISHED-TTL:PT1H
BEGIN:VTIMEZONE
TZID:America/New_York
BEGIN:DAYLIGHT
TZOFFSETFROM:-0500
TZOFFSETTO:-0400
TZNAME:EDT
DTSTART:20240310T070000
END:DAYLIGHT
BEGIN:STANDARD
TZOFFSETFROM:-0400
TZOFFSETTO:-0500
TZNAME:EST
DTSTART:20241103T060000
END:STANDARD
BEGIN:DAYLIGHT
TZOFFSETFROM:-0500
TZOFFSETTO:-0400
TZNAME:EDT
DTSTART:20250309T070000
END:DAYLIGHT
BEGIN:STANDARD
TZOFFSETFROM:-0400
TZOFFSETTO:-0500
TZNAME:EST
DTSTART:20251102T060000
END:STANDARD
BEGIN:DAYLIGHT
TZOFFSETFROM:-0500
TZOFFSETTO:-0400
TZNAME:EDT
DTSTART:20260308T070000
END:DAYLIGHT
BEGIN:STANDARD
TZOFFSETFROM:-0400
TZOFFSETTO:-0500
TZNAME:EST
DTSTART:20261101T060000
END:STANDARD
END:VTIMEZONE
BEGIN:VEVENT
DTSTART;TZID=America/New_York:20250119T130000
DTEND;TZID=America/New_York:20250119T150000
DTSTAMP:20260423T155147
CREATED:20241015T150239Z
LAST-MODIFIED:20241015T150239Z
UID:10002129-1737291600-1737298800@www.faytechcc.edu
SUMMARY:Women's Basketball (Home)
DESCRIPTION:Women’s Basketball is hosting Southwest Virginia in a conference game at 1pm. All home games are free admission and played at Reid Ross Classical School: 3200 Ramsey Street
URL:https://www.faytechcc.edu/event/womens-basketball-home-18/
LOCATION:NC
CATEGORIES:Athletics
END:VEVENT
BEGIN:VEVENT
DTSTART;TZID=America/New_York:20250119T150000
DTEND;TZID=America/New_York:20250119T170000
DTSTAMP:20260423T155147
CREATED:20250115T164159Z
LAST-MODIFIED:20250115T164159Z
UID:10002391-1737298800-1737306000@www.faytechcc.edu
SUMMARY:Men's Basketball (Home)
DESCRIPTION:Men’s Basketball is playing Southwest Virginia in a conference game at 3pm following the conclusion of the Women’s game. All home games are free admission played at Reid Ross Classical School: 3200 Ramsey Street. 
URL:https://www.faytechcc.edu/event/mens-basketball-home-2/
LOCATION:NC
CATEGORIES:Athletics
END:VEVENT
END:VCALENDAR